Workbook
Name _10Excel_BuiltIn_Print_Area_1_1_1_1_1_1_1_1_1_1: #REF!
Name _10Excel_BuiltIn_Print_Area_1_1_1_1_1_1_1_1_1_1: #REF!
Name _10Excel_BuiltIn_Print_Area_1_1_1_1_1_1_1_1_1_1_1: #REF!
Name _10Excel_BuiltIn_Print_Area_1_1_1_1_1_1_1_1_1_1_1: #REF!
Name _10Excel_BuiltIn_Print_Area_1_1_1_1_1_1_1_1_1_1_1: #REF!
Name _10Excel_BuiltIn_Print_Area_1_1_1_1_1_1_1_1_1_1_1: #REF!
Name _11Excel_BuiltIn_Print_Area_1_1_1_1_1_1_1_1_1_1_1: #REF!
Name _11Excel_BuiltIn_Print_Area_1_1_1_1_1_1_1_1_1_1_1: #REF!
Name _11Excel_BuiltIn_Print_Area_1_1_1_1_1_1_12_1: #REF!
Name _11Excel_BuiltIn_Print_Area_1_1_1_1_1_1_12_1: #REF!
Name _11Excel_BuiltIn_Print_Area_1_1_1_1_1_1_12_1: #REF!
Name _11Excel_BuiltIn_Print_Area_1_1_1_1_1_1_12_1: #REF!
Name _12Excel_BuiltIn_Print_Area_1_1_1_1_1_1_12_1: #REF!
Name _12Excel_BuiltIn_Print_Area_1_1_1_1_1_1_12_1: #REF!
Name _12Excel_BuiltIn_Print_Area_1_1_1_1_1_1_7_1: #REF!
Name _12Excel_BuiltIn_Print_Area_1_1_1_1_1_1_7_1: #REF!
Name _12Excel_BuiltIn_Print_Area_1_1_1_1_1_1_7_1: #REF!
Name _12Excel_BuiltIn_Print_Area_1_1_1_1_1_1_7_1: #REF!
Name _13Excel_BuiltIn_Print_Area_1_1_1_1_1_1_7_1: #REF!
Name _13Excel_BuiltIn_Print_Area_1_1_1_1_1_1_7_1: #REF!
Name _13Excel_BuiltIn_Print_Area_1_1_1_1_1_1_8_1: #REF!
Name _13Excel_BuiltIn_Print_Area_1_1_1_1_1_1_8_1: #REF!
Name _13Excel_BuiltIn_Print_Area_1_1_1_1_1_1_8_1: #REF!
Name _13Excel_BuiltIn_Print_Area_1_1_1_1_1_1_8_1: #REF!
Name _14Excel_BuiltIn_Print_Area_1_1_1_1_1_1_8_1: #REF!
Name _14Excel_BuiltIn_Print_Area_1_1_1_1_1_1_8_1: #REF!
Name _14Excel_BuiltIn_Print_Area_1_1_1_12_1: #REF!
Name _14Excel_BuiltIn_Print_Area_1_1_1_12_1: #REF!
Name _14Excel_BuiltIn_Print_Area_1_1_1_12_1: #REF!
Name _14Excel_BuiltIn_Print_Area_1_1_1_12_1: #REF!
Name _15Excel_BuiltIn_Print_Area_1_1_1_12_1: #REF!
Name _15Excel_BuiltIn_Print_Area_1_1_1_12_1: #REF!
Name _15Excel_BuiltIn_Print_Area_1_1_1_2_1: #REF!
Name _15Excel_BuiltIn_Print_Area_1_1_1_2_1: #REF!
Name _15Excel_BuiltIn_Print_Area_1_1_1_2_1: #REF!
Name _15Excel_BuiltIn_Print_Area_1_1_1_2_1: #REF!
Name _16Excel_BuiltIn_Print_Area_1_1_1_2_1: #REF!
Name _16Excel_BuiltIn_Print_Area_1_1_1_2_1: #REF!
Name _16Excel_BuiltIn_Print_Area_1_1_12_1: #REF!
Name _16Excel_BuiltIn_Print_Area_1_1_12_1: #REF!
Name _16Excel_BuiltIn_Print_Area_1_1_12_1: #REF!
Name _16Excel_BuiltIn_Print_Area_1_1_12_1: #REF!
Name _17Excel_BuiltIn_Print_Area_1_1_12_1: #REF!
Name _17Excel_BuiltIn_Print_Area_1_1_12_1: #REF!
Name _17Excel_BuiltIn_Print_Area_1_1_12_2: #REF!
Name _17Excel_BuiltIn_Print_Area_1_1_12_2: #REF!
Name _17Excel_BuiltIn_Print_Area_1_1_12_2: #REF!
Name _17Excel_BuiltIn_Print_Area_1_1_12_2: #REF!
Name _18Excel_BuiltIn_Print_Area_1_1_12_2: #REF!
Name _18Excel_BuiltIn_Print_Area_1_1_12_2: #REF!
Name _18Excel_BuiltIn_Print_Area_1_1_2_1: #REF!
Name _18Excel_BuiltIn_Print_Area_1_1_2_1: #REF!
Name _18Excel_BuiltIn_Print_Area_1_1_2_1: #REF!
Name _18Excel_BuiltIn_Print_Area_1_1_2_1: #REF!
Name _19Excel_BuiltIn_Print_Area_1_1_2_1: #REF!
Name _19Excel_BuiltIn_Print_Area_1_1_2_1: #REF!
Name _19Excel_BuiltIn_Print_Area_1_1_8_1: #REF!
Name _19Excel_BuiltIn_Print_Area_1_1_8_1: #REF!
Name _19Excel_BuiltIn_Print_Area_1_1_8_1: #REF!
Name _19Excel_BuiltIn_Print_Area_1_1_8_1: #REF!

Sheet 1.tábla
H1: 1. tábla
A2: Helyi önkormányzatok általános működésének és ágazati feladatainak támogatása
A3: a költségvetési törvény és a mutatószám felmérés alapján
C5: 2020. évi | F5: 2019. évi | I5: me: Ft
A6: 2019. évi központi költségvetésből biztosított támogatás | B6: Hiv. sz. | C6: Mutatószám | D6: Fajlagos | E6: Összeg | F6: Mutatószám | G6: Fajlagos | H6: Összeg | I6: Változás 2019. évhez képest
A7: Helyi önkormányzatok működésének általános támogatása | B7: I.
A8: Önkormányzati hivatal működésének támogatása 1-2. hó | B8: I.1. a) | C8: =F8 -> 54.41 | D8: 4580000 | E8: =C8*D8/12*12 -> 249197800 | F8: 54.41 | G8: 4580000 | H8: =F8*G8 -> 2.491978e+08 | I8: =E8+E9-H8 -> 0
A9: Önkormányzati hivatal működésének támogatása 3-12. hó (kieg. felmérés) | C9: ='[1]Számítások tény'!B11 -> 54.41 | D9: 5450000 | E9: =C9*D9/12*0 -> 0
A10: Támogatás összesen - beszámítás után | E10: =SUM(E8:E9) -> 249197800 | H10: =H29 -> 1.9708346e+08 | I10: =E10-H10 -> 52114343
A11: Zöldterület-gazdálkodással kapcs. fa. ellátásának támog. | B11: I.1. ba) | C11: 1065.7 | D11: 25200 | E11: =C11*D11 -> 26855640 | F11: 1065.7 | G11: 22300 | H11: =F11*G11 -> 23765110 | I11: =E11-H11 -> 3090530
A12: Támogatás összesen - beszámítás után | E12: 0 | H12: 0 | I12: =E12-H12 -> 0
A13: Közvilágítás fenntartásának támogatása | B13: I.1. bb) | C13: 491.4 | D13: 400000 | E13: =C13*D13 -> 196560000 | F13: 489.3 | G13: 400000 | H13: =F13*G13 -> 195720000 | I13: =E13-H13 -> 840000
A14: Támogatás összesen - beszámítás után | E14: 0 | H14: 0 | I14: =E14-H14 -> 0
A15: Köztemető fenntartással kapcsolatos feladatok támogatása | B15: I.1. bc) | E15: 16338192 | H15: 16338192 | I15: =E15-H15 -> 0
A16: Támogatás összesen - beszámítás után | E16: 0 | H16: 0 | I16: =E16-H16 -> 0
A17: Közutak fenntartásának támogatása | B17: I.1. bd) | C17: 116.6 | D17: 295000 | E17: =C17*D17 -> 34397000 | F17: 116 | G17: 295000 | H17: =F17*G17 -> 34220000 | I17: =E17-H17 -> 177000
A18: Támogatás összesen - beszámítás után | E18: 5310626 | H18: 0 | I18: =E18-H18 -> 5310626
A19: Település-üzemeltetéshez kapcsolódó támogatás összesen | E19: =E11+E13+E15+E17 -> 274150832 | H19: =H11+H13+H15+H17 -> 270043302 | I19: =E19-H19 -> 4107530
A20: Támogatás összesen - beszámítás után | E20: =E12+E14+E16+E18 -> 5310626 | H20: =H12+H14+H16+H18 -> 0 | I20: =E20-H20 -> 5310626
A21: Egyéb önkormányzati feladatok támogatása | B21: I.1. c) | C21: 30155 | D21: 2700 | E21: =C21*D21 -> 81418500 | F21: 30271 | G21: 2700 | H21: =F21*G21 -> 81731700 | I21: =E21-H21 -> -313200
A22: Egyéb önkormányzati feladatok támogatása - beszámítás után | E22: 0 | H22: 0 | I22: =E22-H22 -> 0
A23: Lakott külterülettel kapcsolatos feladatok támogatása | B23: I.1. d) | C23: 4503 | D23: 2550 | E23: =C23*D23 -> 11482650 | F23: 4446 | G23: 2550 | H23: =F23*G23 -> 11337300 | I23: =E23-H23 -> 145350
A24: Támogatás összesen - beszámítás után | E24: 0 | H24: 0 | I24: =E24-H24 -> 0
A25: Üdülőhelyi feladatok támogatása | B25: I.1. e) | C25: 665400 | D25: 1 | E25: =C25*D25 -> 665400 | F25: 382500 | G25: 1 | H25: =F25*G25 -> 382500 | I25: =E25-H25 -> 282900
A26: Támogatás összesen - beszámítás után | E26: 665400 | H26: 0 | I26: =E26-H26 -> 665400
A27: A települési önkormányzatok műdödésének támogatása | E27: =E8+E9+E11+E13+E15+E17+E21+E23+E25 -> 616915182 | H27: =H8+H11+H13+H15+H17+H21+H23+H25 -> 612692602 | I27: =E27-H27 -> 4222580
A28: Beszámítás összege elvárható bevétel 2018. évi iparűzési adóalap 0,55 %-ának korrekcióval | B28: I.1. f) | C28: 79179476304 | D28: =-0.55% -> -0.0055 | E28: =-'[1]Számítások tény'!C23 -> -3.6174136e+08 | F28: 84873145207 | G28: =-0.558129135%*0.877364595 -> -0.0048968274 | H28: =F28*G28 -> -4.1560915e+08 | I28: =E28-H28 -> 53867789
A29: A települési önkormányzatok működésének támogatása beszámítás és kiegészítés után | E29: =SUM(E27:E28) -> 2.5517383e+08 | H29: =SUM(H27:H28) -> 1.9708346e+08
A30: Nem közművel összegyűjtott háztartási szennyvíz ártalmatlanítása | B30: I.2. | C30: 100 | D30: 100 | E30: =C30*D30 -> 10000 | F30: 100 | G30: 100 | H30: =F30*G30 -> 10000 | I30: =E30-H30 -> 0
A31: Összesen | E31: =E10+E20+E22+E24+E26+E30 -> 255183826 | H31: =H10+H20+H22+H24+H26+H30 -> 1.9709346e+08 | I31: =E31-H31 -> 58090369
A32: Települési önkormányzatok egyes köznevelési feladatainak támogatása | B32: II.
A33: Óvodapedagógusok, és az óvodapedagógusok nevelő munkáját közvetlenül segítők bértámogatása | B33: II. 1.
A34: Óvodapedagógusok elismert létszáma | E34: =SUM(E35:E37) -> 3.164966e+08 | H34: =SUM(H35:H37) -> 304693550 | I34: =E34-H34 -> 11803050
A35: 2020. évben 8 hónapra | B35: II.1.(1)1 | C35: 72.4 | D35: 4371500 | E35: =C35*8/12*D35 -> 2.1099773e+08 | F35: 69.7 | G35: 4371500 | H35: =F35*8/12*G35 -> 2.0312903e+08 | I35: =E35-H35 -> 7868700
A36: 2020. évben 4 hónapra | B36: II.1.(1)2 | C36: 72.4 | D36: 4371500 | E36: =C36*4/12*D36 -> 1.0549887e+08 | F36: 69.7 | G36: 4371500 | H36: =F36*4/12*G36 -> 1.0156452e+08 | I36: =E36-H36 -> 3934350
A37: Pótlólagos összeg | E37: 0 | H37: 0 | I37: =E37-H37 -> 0
A38: Óvodapedagógusok nevelő munkáját közvetlenül segítők száma | E38: =SUM(E39:E40) -> 115200000 | H38: =SUM(H39:H40) -> 105840000 | I38: =E38-H38 -> 9360000
A39: 2020. évben 8 hónapra | B39: II.1.(2)1 | C39: 48 | D39: 2400000 | E39: =C39*8/12*D39 -> 76800000 | F39: 48 | G39: 2205000 | H39: =F39*8/12*G39 -> 70560000 | I39: =E39-H39 -> 6240000
A40: 2020. évben 4 hónapra | B40: II.1.(2)2 | C40: 48 | D40: 2400000 | E40: =C40*4/12*D40 -> 38400000 | F40: 48 | G40: 2205000 | H40: =F40*4/12*G40 -> 35280000 | I40: =E40-H40 -> 3120000
A41: Óvodaműködtetési támogatás | B41: II. 2. | E41: =SUM(E42:E43) -> 80355000 | H41: =SUM(H42:H43) -> 77822600 | I41: =E41-H41 -> 2532400
...

Sheet 2018-2020mérleg
A1: Kiskunfélegyháza Város Önkormányzata | BB1: 2. tábla
A2: Önkormányzati bevételek és kiadások mérlegszerű bemutatása 2018-2020. években
BD3: me: ezer Ft
A4: BEVÉTELEK | B4: 2018 | C4: 2019 | R4: 2020 | S4: KIADÁSOK | T4: Változás | U4: Módos. | V4: Válto- | W4: Módos. | X4: Válto- | Y4: Módos. | Z4: Válto- | AA4: Módos. | AB4: Válto- | AC4: Módos. | AD4: Válto- | AE4: Módos. | AF4: Válto- | AG4: Módos. | AH4: Módos. | AI4: Módos. | AJ4: Válto- | AK4: Módos. | AL4: Válto- | AM4: Módos. | AN4: 2018 | AO4: 2019 | BD4: 2020
A5: rovatszám szerint | B5: tény | C5: eredeti ei. | F5: zás | G5: ei. | H5: zás | I5: ei. | J5: zás | K5: ei. | L5: zás | M5: ei. | N5: zás | O5: ei. | P5: zás | Q5: várható | R5: tervezet | S5: rovatszám szerint | U5: ei. | V5: zás | W5: ei. | X5: zás | Y5: ei. | Z5: zás | AA5: ei. | AB5: zás | AC5: ei. | AD5: zás | AE5: ei. | AF5: zás | AG5: ei. | AH5: ei. | AI5: ei. | AJ5: zás | AK5: ei. | AL5: zás | AM5: ei. | AN5: tény | AO5: eredeti ei. | AR5: zás | AS5: ei. | AT5: zás | AU5: ei. | AV5: zás | AW5: ei. | AX5: zás | AY5: ei. | AZ5: zás | BA5: ei. | BB5: zás | BC5: várható | BD5: tervezet
A6: 1. Működési célú támogatások államháztartáson belülről | B6: 1759153 | C6: 1967876 | Q6: 2366418 | R6: =kv.mérleg!U6 -> 2116986 | S6: 1. Személyi juttatások | T6: =#REF! -> #REF! | U6: =#REF! -> #REF! | V6: =#REF! -> #REF! | W6: =#REF! -> #REF! | X6: =#REF! -> #REF! | Y6: =#REF! -> #REF! | Z6: =#REF! -> #REF! | AA6: =#REF! -> #REF! | ... AM6: =#REF! -> #REF! | AN6: 2097319 | AO6: 2123129 | BC6: 2258696 | BD6: =kv.mérleg!AR6 -> 2212552
A7: 2. Felhalmozási célú támogatások áht-n belülről | B7: 12002 | C7: 1657096 | Q7: 2283175 | R7: =kv.mérleg!U7 -> 712209 | S7: 2. Munkaadókat terhelő járulékok | T7: =#REF! -> #REF! | U7: =#REF! -> #REF! | V7: =#REF! -> #REF! | W7: =#REF! -> #REF! | X7: =#REF! -> #REF! | Y7: =#REF! -> #REF! | Z7: =#REF! -> #REF! | AA7: =#REF! -> #REF! | ... AM7: =#REF! -> #REF! | AN7: 409709.4 | AO7: 407970 | BC7: 432370 | BD7: =kv.mérleg!AR7 -> 389049
A8: 3. Közhatalmi bevételek | B8: 1846635 | C8: 2050415 | Q8: 2082115 | R8: =kv.mérleg!U8 -> 2124850 | S8: 3. Dologi kiadások | T8: =#REF! -> #REF! | U8: =#REF! -> #REF! | V8: =#REF! -> #REF! | W8: =#REF! -> #REF! | X8: =#REF! -> #REF! | Y8: =#REF! -> #REF! | Z8: =#REF! -> #REF! | AA8: =#REF! -> #REF! | ... AM8: =#REF! -> #REF! | AN8: 1476411 | AO8: 1213554 | BC8: 1690190 | BD8: =kv.mérleg!AR8 -> 1228220
A9: 4. Működési bevételek | B9: 1124985 | C9: 982237 | Q9: 1000168 | R9: =kv.mérleg!U9 -> 794541 | S9: 4. Ellátottak pénzbeli juttatásai | T9: =#REF! -> #REF! | U9: =#REF! -> #REF! | V9: =#REF! -> #REF! | W9: =#REF! -> #REF! | X9: =#REF! -> #REF! | Y9: =#REF! -> #REF! | Z9: =#REF! -> #REF! | AA9: =#REF! -> #REF! | ... AM9: =#REF! -> #REF! | AN9: 60015 | AO9: 73164 | BC9: 58500 | BD9: =kv.mérleg!AR9 -> 31960
A10: 5. Felhalmozási bevételek | B10: 100000 | C10: 150000 | Q10: 150100 | R10: =kv.mérleg!U10 -> 172952 | S10: 5. Egyéb működési célú kiadások | T10: =#REF! -> #REF! | U10: =#REF! -> #REF! | V10: =#REF! -> #REF! | W10: =#REF! -> #REF! | X10: =#REF! -> #REF! | Y10: =#REF! -> #REF! | Z10: =#REF! -> #REF! | AA10: =#REF! -> #REF! | ... AM10: =#REF! -> #REF! | AN10: 536645 | AO10: 671084 | BC10: 905753 | BD10: =kv.mérleg!AR10 -> 720957
A11: 6. Működési célú átvett pénzeszközök | B11: 0 | Q11: 39962 | R11: =kv.mérleg!U11 -> 36544 | S11: 6. Beruházási kiadások | T11: =#REF! -> #REF! | U11: =#REF! -> #REF! | V11: =#REF! -> #REF! | W11: =#REF! -> #REF! | X11: =#REF! -> #REF! | Y11: =#REF! -> #REF! | Z11: =#REF! -> #REF! | AA11: =#REF! -> #REF! | ... AM11: =#REF! -> #REF! | AN11: 1516433 | AO11: 4875770 | BC11: 5361782 | BD11: =kv.mérleg!AR11 -> 2914307
A12: 7. Felhalmozási célú átvett pénzeszközök | B12: 104418 | C12: 26529 | Q12: 7703 | R12: =kv.mérleg!U12 -> 27958 | S12: 7. Felújítási kiadások | T12: =#REF! -> #REF! | U12: =#REF! -> #REF! | V12: =#REF! -> #REF! | W12: =#REF! -> #REF! | X12: =#REF! -> #REF! | Y12: =#REF! -> #REF! | Z12: =#REF! -> #REF! | AA12: =#REF! -> #REF! | ... AM12: =#REF! -> #REF! | AN12: 561463 | AO12: 456890 | BC12: 557051 | BD12: =kv.mérleg!AR12 -> 614693
S13: 8. Egyéb felhalmozási célú kiadások | T13: =#REF! -> #REF! | U13: =#REF! -> #REF! | V13: =#REF! -> #REF! | W13: =#REF! -> #REF! | X13: =#REF! -> #REF! | Y13: =#REF! -> #REF! | Z13: =#REF! -> #REF! | AA13: =#REF! -> #REF! | ... AM13: =#REF! -> #REF! | AN13: 1970721 | AO13: 118818 | BC13: 46669 | BD13: =kv.mérleg!AR13 -> 321110
A14: Tárgyévi költségvetési bevételek | B14: =SUM(B6:B13) -> 4947193 | C14: =SUM(C6:C13) -> 6834153 | D14: =SUM(D6:D13) -> 0 | E14: =SUM(E6:E13) -> 0 | F14: =SUM(F6:F13) -> 0 | G14: =SUM(G6:G13) -> 0 | H14: =SUM(H6:H13) -> 0 | I14: =SUM(I6:I13) -> 0 | ... R14: =SUM(R6:R13) -> 5986040 | S14: Tárgyévi költségvetési kiadások | T14: =SUM(T6:T13) -> #REF! | U14: =SUM(U6:U13) -> #REF! | V14: =SUM(V6:V13) -> #REF! | W14: =SUM(W6:W13) -> #REF! | X14: =SUM(X6:X13) -> #REF! | Y14: =SUM(Y6:Y13) -> #REF! | Z14: =SUM(Z6:Z13) -> #REF! | AA14: =SUM(AA6:AA13) -> #REF! | ... BD14: =SUM(BD6:BD13) -> 8432848
A15: Tárgyévi költségvetési bevételek és kiadások egyenlege | T15: =#REF!-T14 -> #REF! | U15: =#REF!-U14 -> #REF! | V15: =#REF!-V14 -> #REF! | W15: =#REF!-W14 -> #REF! | X15: =#REF!-X14 -> #REF! | Y15: =#REF!-Y14 -> #REF! | Z15: =#REF!-Z14 -> #REF! | AA15: =#REF!-AA14 -> #REF! | ... AL15: =#REF!-AL14 -> #REF! | AM15: =B14-AM14 -> #REF! | AN15: =B14-AN14 -> -3681523.4 | AO15: =C14-AO14 -> -3106226 | AP15: =D14-AP14 -> 0 | AQ15: =E14-AQ14 -> 0 | AR15: =F14-AR14 -> 0 | AS15: =G14-AS14 -> 0 | AT15: =H14-AT14 -> 0 | AU15: =I14-AU14 -> 0 | ... BD15: =R14-BD14 -> -2446808
A16: Működési költségvetés egyenlege | T16: =(#REF!+#REF!+#REF!+#REF!)-(T6+T7+T8+T9+T10) -> #REF! | U16: =(#REF!+#REF!+#REF!+#REF!)-(U6+U7+U8+U9+U10) -> #REF! | V16: =(#REF!+#REF!+#REF!+#REF!)-(V6+V7+V8+V9+V10) -> #REF! | W16: =(#REF!+#REF!+#REF!+#REF!)-(W6+W7+W8+W9+W10) -> #REF! | X16: =(#REF!+#REF!+#REF!+#REF!)-(X6+X7+X8+X9+X10) -> #REF! | Y16: =(#REF!+#REF!+#REF!+#REF!)-(Y6+Y7+Y8+Y9+Y10) -> #REF! | Z16: =(#REF!+#REF!+#REF!+#REF!)-(Z6+Z7+Z8+Z9+Z10) -> #REF! | AA16: =(#REF!+#REF!+#REF!+#REF!)-(AA6+AA7+AA8+AA9+AA10) -> #REF! | ... AL16: =(#REF!+#REF!+#REF!+#REF!)-(AL6+AL7+AL8+AL9+AL10) -> #REF! | AM16: =(B6+B8+B9+B11)-(AM6+AM7+AM8+AM9+AM10) -> #REF! | AN16: 150674 | AO16: =(C6+C8+C9+C11)-(AO6+AO7+AO8+AO9+AO10) -> 511627 | AP16: =(D6+D8+D9+D11)-(AP6+AP7+AP8+AP9+AP10) -> 0 | AQ16: =(E6+E8+E9+E11)-(AQ6+AQ7+AQ8+AQ9+AQ10) -> 0 | AR16: =(F6+F8+F9+F11)-(AR6+AR7+AR8+AR9+AR10) -> 0 | AS16: =(G6+G8+G9+G11)-(AS6+AS7+AS8+AS9+AS10) -> 0 | AT16: =(H6+H8+H9+H11)-(AT6+AT7+AT8+AT9+AT10) -> 0 | AU16: =(I6+I8+I9+I11)-(AU6+AU7+AU8+AU9+AU10) -> 0 | AV16: =(J6+J8+J9+J11)-(AV6+AV7+AV8+AV9+AV10) -> 0 | ... BD16: =(R6+R8+R9+R11)-(BD6+BD7+BD8+BD9+BD10) -> 490183
A17: Felhalmozási költségvetés egyenlege | T17: =(#REF!+#REF!+#REF!)-(T11+T12+T13) -> #REF! | U17: =(#REF!+#REF!+#REF!)-(U11+U12+U13) -> #REF! | V17: =(#REF!+#REF!+#REF!)-(V11+V12+V13) -> #REF! | W17: =(#REF!+#REF!+#REF!)-(W11+W12+W13) -> #REF! | X17: =(#REF!+#REF!+#REF!)-(X11+X12+X13) -> #REF! | Y17: =(#REF!+#REF!+#REF!)-(Y11+Y12+Y13) -> #REF! | Z17: =(#REF!+#REF!+#REF!)-(Z11+Z12+Z13) -> #REF! | AA17: =(#REF!+#REF!+#REF!)-(AA11+AA12+AA13) -> #REF! | ... AL17: =(#REF!+#REF!+#REF!)-(AL11+AL12+AL13) -> #REF! | AM17: =(B7+B10+B12)-(AM11+AM12+AM13) -> #REF! | AN17: -3832197 | AO17: =(C7+C10+C12)-(AO11+AO12+AO13) -> -3617853 | AP17: =(D7+D10+D12)-(AP11+AP12+AP13) -> 0 | AQ17: =(E7+E10+E12)-(AQ11+AQ12+AQ13) -> 0 | AR17: =(F7+F10+F12)-(AR11+AR12+AR13) -> 0 | AS17: =(G7+G10+G12)-(AS11+AS12+AS13) -> 0 | AT17: =(H7+H10+H12)-(AT11+AT12+AT13) -> 0 | AU17: =(I7+I10+I12)-(AU11+AU12+AU13) -> 0 | AV17: =(J7+J10+J12)-(AV11+AV12+AV13) -> 0 | ... BD17: =(R7+R10+R12)-(BD11+BD12+BD13) -> -2936991
A18: 8. Finanszírozási bevételek | B18: 6151111 | C18: 5407368 | Q18: 5789355 | R18: =kv.mérleg!U18 -> 4881576 | S18: 9. Finanszírozási kiadások | T18: =#REF! -> #REF! | U18: =#REF! -> #REF! | V18: =#REF! -> #REF! | W18: =#REF! -> #REF! | X18: =#REF! -> #REF! | Y18: =#REF! -> #REF! | Z18: =#REF! -> #REF! | AA18: =#REF! -> #REF! | ... AM18: =#REF! -> #REF! | AN18: 2469588 | AO18: 2301142 | BC18: 2407985 | BD18: =kv.mérleg!AR18 -> 2434768
A19: ebből: központi irányítószervi támogatás | B19: 2421111 | C19: 2246490 | Q19: 2353333 | R19: =kv.mérleg!U19 -> 2364576 | S19: ebből: központi irányítószervi támogatás | T19: =#REF! -> #REF! | U19: =#REF! -> #REF! | V19: =#REF! -> #REF! | W19: =#REF! -> #REF! | X19: =#REF! -> #REF! | Y19: =#REF! -> #REF! | Z19: =#REF! -> #REF! | AA19: =#REF! -> #REF! | ... AL19: =#REF! -> #REF! | AM19: =B19 -> 2421111 | AN19: =B19 -> 2421111 | AO19: =C19 -> 2246490 | AP19: =D19 -> 0 | AQ19: =E19 -> 0 | AR19: =F19 -> 0 | AS19: =G19 -> 0 | AT19: =H19 -> 0 | AU19: =I19 -> 0 | ... BD19: =R19 -> 2364576
A20: Bevételek összesen | B20: =B14+B18 -> 11098304 | C20: =C14+C18 -> 12241521 | D20: =D14+D18 -> 0 | E20: =E14+E18 -> 0 | F20: =F14+F18 -> 0 | G20: =G14+G18 -> 0 | H20: =H14+H18 -> 0 | I20: =I14+I18 -> 0 | ... R20: =R14+R18 -> 10867616 | S20: Kiadások összesen | T20: =T14+T18 -> #REF! | U20: =U14+U18 -> #REF! | V20: =V14+V18 -> #REF! | W20: =W14+W18 -> #REF! | X20: =X14+X18 -> #REF! | Y20: =Y14+Y18 -> #REF! | Z20: =Z14+Z18 -> #REF! | AA20: =AA14+AA18 -> #REF! | ... BD20: =BD14+BD18 -> 10867616
A21: ebből: működési bevételek | B21: 8363369 | C21: 8351947 | Q21: 9090331 | R21: =kv.mérleg!U21 -> 8293875 | S21: ebből: működési kiadások | T21: =#REF! -> #REF! | U21: =#REF! -> #REF! | V21: =#REF! -> #REF! | W21: =#REF! -> #REF! | X21: =#REF! -> #REF! | Y21: =#REF! -> #REF! | Z21: =#REF! -> #REF! | AA21: =#REF! -> #REF! | ... AM21: =#REF! -> #REF! | AN21: 7049687 | AO21: 6790043 | BC21: 7753494 | BD21: =kv.mérleg!AR21 -> 7017506
A22: felhalmozási bevételek | B22: 2734935 | C22: 3889574 | Q22: 4628665 | R22: =kv.mérleg!U22 -> 2573741 | S22: felhalmozási kiadások | T22: =#REF! -> #REF! | U22: =#REF! -> #REF! | V22: =#REF! -> #REF! | W22: =#REF! -> #REF! | X22: =#REF! -> #REF! | Y22: =#REF! -> #REF! | Z22: =#REF! -> #REF! | AA22: =#REF! -> #REF! | ... AM22: =#REF! -> #REF! | AN22: 4048617 | AO22: 5451478 | BC22: 5965502 | BD22: =kv.mérleg!AR22 -> 3850110
A23: Tárgyévi költségvetési bevételek és kiadások egyenlege (hiány, többlet) | T23: =#REF! -> #REF! | U23: =#REF! -> #REF! | V23: =#REF! -> #REF! | W23: =#REF! -> #REF! | X23: =#REF! -> #REF! | Y23: =#REF! -> #REF! | Z23: =#REF! -> #REF! | AA23: =#REF! -> #REF! | ... AM23: =#REF! -> #REF! | AN23: -0.4 | AO23: -0.4 | AP23: -0.4 | AQ23: -0.4 | AR23: -0.4 | AS23: -0.4 | AT23: -0.4 | AU23: -0.4 | AV23: -0.4 | AW23: -0.4 | AX23: -0.4 | AY23: -0.4 | AZ23: -0.4 | BA23: -0.4 | BB23: -0.4 | BC23: -0.4 | BD23: -0.4
A24: Működési költségvetés egyenlege | T24: =#REF! -> #REF! | U24: =#REF! -> #REF! | V24: =#REF! -> #REF! | W24: =#REF! -> #REF! | X24: =#REF! -> #REF! | Y24: =#REF! -> #REF! | Z24: =#REF! -> #REF! | AA24: =#REF! -> #REF! | ... AM24: =#REF! -> #REF! | AN24: 1313682 | AO24: 1561904 | BC24: 1336837 | BD24: =kv.mérleg!AR24 -> 1276369
A25: Felhalmozási költségvetés egyenlege | T25: =#REF! -> #REF! | U25: =#REF! -> #REF! | V25: =#REF! -> #REF! | W25: =#REF! -> #REF! | X25: =#REF! -> #REF! | Y25: =#REF! -> #REF! | Z25: =#REF! -> #REF! | AA25: =#REF! -> #REF! | ... AM25: =#REF! -> #REF! | AN25: -1313682 | AO25: -1561904 | BC25: -1336837 | BD25: =kv.mérleg!AR25 -> -1276369
A26: Bevételek központi irányítószervi támogatás nélkül | B26: =B20-B19 -> 8677193 | C26: =C20-C19 -> 9995031 | D26: =D20-D19 -> 0 | E26: =E20-E19 -> 0 | F26: =F20-F19 -> 0 | G26: =G20-G19 -> 0 | H26: =H20-H19 -> 0 | I26: =I20-I19 -> 0 | ... R26: =R20-R19 -> 8503040 | S26: Kiadások központi irányítószervi támogatás nélkül | T26: =T20-T19 -> #REF! | U26: =U20-U19 -> #REF! | V26: =V20-V19 -> #REF! | W26: =W20-W19 -> #REF! | X26: =X20-X19 -> #REF! | Y26: =Y20-Y19 -> #REF! | Z26: =Z20-Z19 -> #REF! | AA26: =AA20-AA19 -> #REF! | ... BD26: =BD20-BD19 -> 8503040
T27: =#REF!-T26 -> #REF! | U27: =#REF!-U26 -> #REF! | V27: =#REF!-V26 -> #REF! | W27: =#REF!-W26 -> #REF! | X27: =#REF!-X26 -> #REF! | Y27: =#REF!-Y26 -> #REF! | Z27: =#REF!-Z26 -> #REF! | AA27: =#REF!-AA26 -> #REF! | ... AL27: =#REF!-AL26 -> #REF! | AM27: =B26-AM26 -> #REF! | AN27: =B26-AN26 -> -0.4 | AO27: =C26-AO26 -> 0 | AP27: =D26-AP26 -> 0 | AQ27: =E26-AQ26 -> 0 | AR27: =F26-AR26 -> 0 | AS27: =G26-AS26 -> 0 | AT27: =H26-AT26 -> 0 | AU27: =I26-AU26 -> 0 | ... BD27: =R26-BD26 -> 0

Sheet bérkomp.
J1: 1. tábla
A2: Költségvetési szerveknél foglalkoztatottak 2020. évi bérkompenzációja
J3: me: ezer Ft
A4: Megnevezés | B4: 2019.12 hó után járó (eFt) | E4: 2020.01. hó után járó (eFt) | H4: 2020. I.rend.mód.
B5: közterhekkel növelt bruttó összeg | C5: bruttó bér | D5: szoc.hj.adó | E5: közterhekkel növelt bruttó összeg | F5: bruttó bér | G5: szoc.hj.adó | H5: finanszírozás | I5: bruttó bér | J5: szoc.hj.adó
A6: Polgármesteri Hivatal | B6: =C6+D6 -> 88 | C6: 75 | D6: 13 | E6: =F6+G6 -> 74 | F6: 63 | G6: 11 | H6: =B6+E6 -> 162 | I6: =C6+F6 -> 138 | J6: =D6+G6 -> 24
A7: Napközi Otthonos Óvoda | B7: =C7+D7 -> 23 | C7: 20 | D7: 3 | E7: =F7+G7 -> 11 | F7: 9 | G7: 2 | H7: =B7+E7 -> 34 | I7: =C7+F7 -> 29 | J7: =D7+G7 -> 5
A8: P.S. Városi Könyvtár | B8: =C8+D8 -> 45 | C8: 38 | D8: 7 | E8: =F8+G8 -> 9 | F8: 7 | G8: 2 | H8: =B8+E8 -> 54 | I8: =C8+F8 -> 45 | J8: =D8+G8 -> 9
A9: Kapocs Szociális Gy.és Eü-i I. | B9: =C9+D9 -> 176 | C9: 150 | D9: 26 | E9: =F9+G9 -> 116 | F9: 99 | G9: 17 | H9: =B9+E9 -> 292 | I9: =C9+F9 -> 249 | J9: =D9+G9 -> 43
A10: Szivárvány Sz. G. Ny. Intézmény | B10: =C10+D10 -> 85 | C10: 72 | D10: 13 | E10: =F10+G10 -> 45 | F10: 38 | G10: 7 | H10: =B10+E10 -> 130 | I10: =C10+F10 -> 110 | J10: =D10+G10 -> 20
A11: Védőnői Szolgálat | B11: =C11+D11 -> 210 | C11: 179 | D11: 31 | E11: =F11+G11 -> 201 | F11: 171 | G11: 30 | H11: =B11+E11 -> 411 | I11: =C11+F11 -> 350 | J11: =D11+G11 -> 61
A12: Kiskun Múzeum | B12: =C12+D12 -> 5 | C12: 4 | D12: 1 | E12: =F12+G12 -> 0 | H12: =B12+E12 -> 5 | I12: =C12+F12 -> 4 | J12: =D12+G12 -> 1
A13: M.F. Művelődési Központ | B13: =C13+D13 -> 4 | C13: 3 | D13: 1 | E13: =F13+G13 -> 5 | F13: 4 | G13: 1 | H13: =B13+E13 -> 9 | I13: =C13+F13 -> 7 | J13: =D13+G13 -> 2
A14: Önkormányzat | B14: =C14+D14 -> 1 | C14: 1 | E14: =F14+G14 -> 0 | I14: =C14+F14 -> 1 | J14: =D14+G14 -> 0
A15: önkormányzat összesen: | B15: =C15+D15 -> 637 | C15: =SUM(C6:C14) -> 542 | D15: =SUM(D6:D14) -> 95 | E15: =SUM(E6:E14) -> 461 | F15: =SUM(F6:F14) -> 391 | G15: =SUM(G6:G14) -> 70 | H15: =SUM(H6:H14) -> 1097 | I15: =SUM(I6:I14) -> 933 | J15: =SUM(J6:J14) -> 165

Sheet kv.mérleg
A1: Kiskunfélegyháza Város Önkormányzata | AS1: 1. melléklet | BP1: 1. sz. melléklet
A2: 2020. ÉVI KÖLTSÉGVETÉSI MÉRLEG
AT3: me: ezer Ft
A4: BEVÉTELEK | B4: 2019. | C4: Válto- | D4: Módos. | E4: Válto- | F4: Módos. | G4: Válto- | H4: Módos. | I4: Válto- | J4: Módos. | K4: Válto- | L4: Módos. | M4: Válto- | N4: Módos. | O4: Válto- | P4: Módos. | Q4: Válto- | R4: Módos. | S4: Válto- | T4: 2019. | U4: 2020. | V4: Válto- | W4: Módos. | X4: KIADÁSOK | Y4: 2019. | Z4: Válto- | AA4: Módos. | AB4: Válto- | AC4: Módos. | AD4: Válto- | AE4: Módos. | AF4: Válto- | AG4: Módos. | AH4: Válto- | AI4: Módos. | AJ4: Válto- | AK4: Módos. | AL4: Válto- | AM4: Módos. | AN4: Válto- | AP4: Válto- | AQ4: 2019. | AR4: 2020. | AS4: Válto- | AT4: Módos.
A5: rovatszám szerint | B5: eredeti ei. | C5: zás | D5: ei. | E5: zás | F5: ei. | G5: zás | H5: ei. | I5: zás | J5: ei. | K5: zás | L5: ei. | M5: zás | N5: ei. | O5: zás | P5: ei. | Q5: zás | R5: ei. | S5: zás | T5: várható | U5: eredeti ei. | V5: zás | W5: ei. | X5: rovatszám szerint | Y5: eredeti ei. | Z5: zás | AA5: ei. | AB5: zás | AC5: ei. | AD5: zás | AE5: ei. | AF5: zás | AG5: ei. | AH5: zás | AI5: ei. | AJ5: zás | AK5: ei. | AL5: zás | AM5: ei. | AN5: zás | AP5: zás | AQ5: várható | AR5: eredeti ei. | AS5: zás | AT5: ei.
A6: 1. Működési célú támogatások államháztartáson belülről | B6: ='intézményi.részl. '!P239 -> 1967876 | C6: ='intézményi.részl. '!Q239 -> 24622 | D6: ='intézményi.részl. '!R239 -> 1992498 | E6: ='intézményi.részl. '!S239 -> 38480 | F6: ='intézményi.részl. '!T239 -> 2030978 | G6: ='intézményi.részl. '!U239 -> 18615 | H6: ='intézményi.részl. '!V239 -> 2049593 | I6: ='intézményi.részl. '!W239 -> 224760 | ... W6: ='intézményi.részl. '!AK239 -> 2193963 | X6: 1. Személyi juttatások | Y6: ='intézményi.részl. '!AM239 -> 2123129 | Z6: ='intézményi.részl. '!AN239 -> #REF! | AA6: ='intézményi.részl. '!AO239 -> #REF! | AB6: ='intézményi.részl. '!AP239 -> #REF! | AC6: ='intézményi.részl. '!AQ239 -> #REF! | AD6: ='intézményi.részl. '!AR239 -> 13062 | AE6: ='intézményi.részl. '!AS239 -> #REF! | AF6: ='intézményi.részl. '!AT239 -> 7455 | ... AJ6: ='intézményi.részl. '!AX239 -> 10266 | AK6: 2230957 | AL6: ='intézményi.részl. '!AZ239 -> 11832 | AM6: 2248831 | AN6: ='intézményi.részl. '!BB239 -> 3381 | AO6: ='intézményi.részl. '!BC239 -> 2251477 | AP6: ='intézményi.részl. '!BD239 -> 7219 | AQ6: ='intézményi.részl. '!BE239 -> 2258696 | AR6: ='intézményi.részl. '!BF239 -> 2212552 | AS6: ='intézményi.részl. '!BG239 -> 24474 | AT6: ='intézményi.részl. '!BH239 -> 2237026
A7: 2. Felhalmozási célú támogatások áht-n belülről | B7: ='intézményi.részl. '!P240 -> 1657096 | C7: ='intézményi.részl. '!Q240 -> 0 | D7: ='intézményi.részl. '!R240 -> 1657096 | E7: ='intézményi.részl. '!S240 -> 0 | F7: ='intézményi.részl. '!T240 -> 1657096 | G7: ='intézményi.részl. '!U240 -> 0 | H7: ='intézményi.részl. '!V240 -> 1657096 | I7: ='intézményi.részl. '!W240 -> 140000 | ... W7: ='intézményi.részl. '!AK240 -> 712720 | X7: 2. Munkaadókat terhelő járulékok | Y7: ='intézményi.részl. '!AM240 -> 407970 | Z7: ='intézményi.részl. '!AN240 -> #REF! | AA7: ='intézményi.részl. '!AO240 -> #REF! | AB7: ='intézményi.részl. '!AP240 -> 7007 | AC7: ='intézményi.részl. '!AQ240 -> #REF! | AD7: ='intézményi.részl. '!AR240 -> 2521 | AE7: ='intézményi.részl. '!AS240 -> #REF! | AF7: ='intézményi.részl. '!AT240 -> 42112 | ... AL7: ='intézményi.részl. '!AZ240 -> 43037 | AM7: 432391 | AN7: ='intézményi.részl. '!BB240 -> 39742 | AO7: ='intézményi.részl. '!BC240 -> 472133 | AP7: ='intézményi.részl. '!BD240 -> 41743 | AQ7: ='intézményi.részl. '!BE240 -> 432370 | AR7: ='intézményi.részl. '!BF240 -> 389049 | AS7: ='intézményi.részl. '!BG240 -> 4285 | AT7: ='intézményi.részl. '!BH240 -> 393334
A8: 3. Közhatalmi bevételek | B8: ='intézményi.részl. '!P241 -> 2050415 | C8: ='intézményi.részl. '!Q241 -> 0 | D8: ='intézményi.részl. '!R241 -> 2050415 | E8: ='intézményi.részl. '!S241 -> 0 | F8: ='intézményi.részl. '!T241 -> 2050415 | G8: ='intézményi.részl. '!U241 -> 0 | H8: ='intézményi.részl. '!V241 -> 2050415 | I8: ='intézményi.részl. '!W241 -> 0 | ... W8: ='intézményi.részl. '!AK241 -> 2124850 | X8: 3. Dologi kiadások | Y8: ='intézményi.részl. '!AM241 -> 1213554 | Z8: ='intézményi.részl. '!AN241 -> #REF! | AA8: ='intézményi.részl. '!AO241 -> #REF! | AB8: ='intézményi.részl. '!AP241 -> 118508 | AC8: ='intézményi.részl. '!AQ241 -> #REF! | AD8: ='intézményi.részl. '!AR241 -> 30216 | AE8: ='intézményi.részl. '!AS241 -> #REF! | AF8: ='intézményi.részl. '!AT241 -> 165169 | ... AL8: ='intézményi.részl. '!AZ241 -> 96586 | AM8: 1431469 | AN8: ='intézményi.részl. '!BB241 -> 108438 | AO8: ='intézményi.részl. '!BC241 -> 1591789 | AP8: ='intézményi.részl. '!BD241 -> 94901 | AQ8: ='intézményi.részl. '!BE241 -> 1686690 | AR8: ='intézményi.részl. '!BF241 -> 1228220 | AS8: ='intézményi.részl. '!BG241 -> -39730 | AT8: ='intézményi.részl. '!BH241 -> 1188490
A9: 4. Működési bevételek | B9: ='intézményi.részl. '!P242 -> 982236.99 | C9: ='intézményi.részl. '!Q242 -> 0 | D9: ='intézményi.részl. '!R242 -> 982236.99 | E9: ='intézményi.részl. '!S242 -> 1893 | F9: ='intézményi.részl. '!T242 -> 984129.99 | G9: ='intézményi.részl. '!U242 -> 3017 | H9: ='intézményi.részl. '!V242 -> 987146.99 | I9: ='intézményi.részl. '!W242 -> 4281 | ... W9: ='intézményi.részl. '!AK242 -> 794541 | X9: 4. Ellátottak pénzbeli juttatásai | Y9: ='intézményi.részl. '!AM242 -> 73164 | Z9: ='intézményi.részl. '!AN242 -> #REF! | AA9: ='intézményi.részl. '!AO242 -> #REF! | AB9: ='intézményi.részl. '!AP242 -> #REF! | AC9: ='intézményi.részl. '!AQ242 -> 73164 | AD9: ='intézményi.részl. '!AR242 -> #REF! | AE9: ='intézményi.részl. '!AS242 -> #REF! | AF9: ='intézményi.részl. '!AT242 -> #REF! | ... AT9: ='intézményi.részl. '!BH242 -> 31960
A10: 5. Felhalmozási bevételek | B10: ='intézményi.részl. '!P243 -> 150000 | C10: ='intézményi.részl. '!Q243 -> 0 | D10: ='intézményi.részl. '!R243 -> 150000 | E10: ='intézményi.részl. '!S243 -> 100 | F10: ='intézményi.részl. '!T243 -> 150100 | G10: ='intézményi.részl. '!U243 -> 0 | H10: ='intézményi.részl. '!V243 -> 150100 | I10: ='intézményi.részl. '!W243 -> 0 | ... W10: ='intézményi.részl. '!AK243 -> 172952 | X10: 5. Egyéb működési célú kiadások | Y10: ='intézményi.részl. '!AM243 -> 671084 | Z10: ='intézményi.részl. '!AN243 -> #REF! | AA10: ='intézményi.részl. '!AO243 -> #REF! | AB10: ='intézményi.részl. '!AP243 -> #REF! | AC10: ='intézményi.részl. '!AQ243 -> #REF! | AD10: ='intézményi.részl. '!AR243 -> #REF! | AE10: ='intézményi.részl. '!AS243 -> #REF! | AF10: ='intézményi.részl. '!AT243 -> #REF! | ... AT10: ='intézményi.részl. '!BH243 -> 749118
A11: 6. Működési célú átvett pénzeszközök | B11: ='intézményi.részl. '!P244 -> 0 | C11: ='intézményi.részl. '!Q244 -> 3381 | D11: ='intézményi.részl. '!R244 -> 3381 | E11: ='intézményi.részl. '!S244 -> 13851 | F11: ='intézményi.részl. '!T244 -> 17232 | G11: ='intézményi.részl. '!U244 -> 2811 | H11: ='intézményi.részl. '!V244 -> 20043 | I11: ='intézményi.részl. '!W244 -> 595 | ... W11: ='intézményi.részl. '!AK244 -> 36544 | X11: 6. Beruházási kiadások | Y11: ='intézményi.részl. '!AM244 -> 4875770 | Z11: ='intézményi.részl. '!AN244 -> #REF! | AA11: ='intézményi.részl. '!AO244 -> #REF! | AB11: ='intézményi.részl. '!AP244 -> #REF! | AC11: ='intézményi.részl. '!AQ244 -> #REF! | AD11: ='intézményi.részl. '!AR244 -> #REF! | AE11: ='intézményi.részl. '!AS244 -> #REF! | AF11: ='intézményi.részl. '!AT244 -> #REF! | ... AT11: ='intézményi.részl. '!BH244 -> 2974455
A12: 7. Felhalmozási célú átvett pénzeszközök | B12: ='intézményi.részl. '!P245 -> 26529 | C12: ='intézményi.részl. '!Q245 -> 0 | D12: ='intézményi.részl. '!R245 -> 26529 | E12: ='intézményi.részl. '!S245 -> 187 | F12: ='intézményi.részl. '!T245 -> 26716 | G12: ='intézményi.részl. '!U245 -> 370 | H12: ='intézményi.részl. '!V245 -> 27086 | I12: ='intézményi.részl. '!W245 -> 986 | ... W12: ='intézményi.részl. '!AK245 -> 27958 | X12: 7. Felújítási kiadások | Y12: ='intézményi.részl. '!AM245 -> 456890 | Z12: ='intézményi.részl. '!AN245 -> #REF! | AA12: ='intézményi.részl. '!AO245 -> #REF! | AB12: ='intézményi.részl. '!AP245 -> #REF! | AC12: ='intézményi.részl. '!AQ245 -> #REF! | AD12: ='intézményi.részl. '!AR245 -> #VALUE! | AE12: ='intézményi.részl. '!AS245 -> #REF! | AF12: ='intézményi.részl. '!AT245 -> #REF! | ... AT12: ='intézményi.részl. '!BH245 -> 614693
X13: 8. Egyéb felhalmozási célú kiadások | Y13: ='intézményi.részl. '!AM246 -> 118818 | Z13: ='intézményi.részl. '!AN246 -> #REF! | AA13: ='intézményi.részl. '!AO246 -> #REF! | AB13: ='intézményi.részl. '!AP246 -> #REF! | AC13: ='intézményi.részl. '!AQ246 -> #REF! | AD13: ='intézményi.részl. '!AR246 -> #REF! | AE13: ='intézményi.részl. '!AS246 -> #REF! | AF13: ='intézményi.részl. '!AT246 -> #REF! | ... AT13: ='intézményi.részl. '!BH246 -> 321260
A14: Tárgyévi költségvetési bevételek | B14: =SUM(B6:B13) -> 6834153 | C14: =SUM(C6:C13) -> 28003 | D14: =SUM(D6:D13) -> 6862156 | E14: =SUM(E6:E13) -> 54511 | F14: =SUM(F6:F13) -> 6916667 | G14: =SUM(G6:G13) -> 24813 | H14: =SUM(H6:H13) -> 6941480 | I14: =SUM(I6:I13) -> 370622 | ... W14: =SUM(W6:W13) -> 6063528 | X14: Tárgyévi költségvetési kiadások | Y14: =SUM(Y6:Y13) -> 9940379 | Z14: =SUM(Z6:Z13) -> #REF! | AA14: =SUM(AA6:AA13) -> #REF! | AB14: =SUM(AB6:AB13) -> #REF! | AC14: =SUM(AC6:AC13) -> #REF! | AD14: =SUM(AD6:AD13) -> #REF! | AE14: =SUM(AE6:AE13) -> #REF! | AF14: =SUM(AF6:AF13) -> #REF! | ... AT14: =SUM(AT6:AT13) -> 8510336
A15: Tárgyévi költségvetési bevételek és kiadások egyenlege | Y15: =B14-Y14 -> -3106226 | Z15: =C14-Z14 -> #REF! | AA15: =D14-AA14 -> #REF! | AB15: =E14-AB14 -> #REF! | AC15: =F14-AC14 -> #REF! | AD15: =G14-AD14 -> #REF! | AE15: =H14-AE14 -> #REF! | AF15: =I14-AF14 -> #REF! | ... AT15: =W14-AT14 -> -2446808
A16: Működési költségvetés egyenlege | Y16: =(B6+B8+B9+B11)-(Y6+Y7+Y8+Y9+Y10) -> 511626.99 | Z16: =(C6+C8+C9+C11)-(Z6+Z7+Z8+Z9+Z10) -> #REF! | AA16: =(D6+D8+D9+D11)-(AA6+AA7+AA8+AA9+AA10) -> #REF! | AB16: =(E6+E8+E9+E11)-(AB6+AB7+AB8+AB9+AB10) -> #REF! | AC16: =(F6+F8+F9+F11)-(AC6+AC7+AC8+AC9+AC10) -> #REF! | AD16: =(G6+G8+G9+G11)-(AD6+AD7+AD8+AD9+AD10) -> #REF! | AE16: =(H6+H8+H9+H11)-(AE6+AE7+AE8+AE9+AE10) -> #REF! | AF16: =(I6+I8+I9+I11)-(AF6+AF7+AF8+AF9+AF10) -> #REF! | ... AT16: =(W6+W8+W9+W11)-(AT6+AT7+AT8+AT9+AT10) -> 549970
A17: Felhalmozási költségvetés egyenlege | Y17: =(B7+B10+B12)-(Y11+Y12+Y13) -> -3617853 | Z17: =(C7+C10+C12)-(Z11+Z12+Z13) -> #REF! | AA17: =(D7+D10+D12)-(AA11+AA12+AA13) -> #REF! | AB17: =(E7+E10+E12)-(AB11+AB12+AB13) -> #REF! | AC17: =(F7+F10+F12)-(AC11+AC12+AC13) -> #REF! | AD17: =(G7+G10+G12)-(AD11+AD12+AD13) -> #REF! | AE17: =(H7+H10+H12)-(AE11+AE12+AE13) -> #REF! | AF17: =(I7+I10+I12)-(AF11+AF12+AF13) -> #REF! | ... AT17: =(W7+W10+W12)-(AT11+AT12+AT13) -> -2996778
A18: 8. Finanszírozási bevételek | B18: ='intézményi.részl. '!P246 -> 5407368 | C18: ='intézményi.részl. '!Q246 -> 24819 | D18: ='intézményi.részl. '!R246 -> 5432187 | E18: ='intézményi.részl. '!S246 -> 288387 | F18: ='intézményi.részl. '!T246 -> 5720574 | G18: ='intézményi.részl. '!U246 -> 32026 | H18: ='intézményi.részl. '!V246 -> 5752600 | I18: ='intézményi.részl. '!W246 -> 8373 | ... W18: ='intézményi.részl. '!AK246 -> 4910334 | X18: 9. Finanszírozási kiadások | Y18: ='intézményi.részl. '!AM247 -> 2301142 | Z18: ='intézményi.részl. '!AN247 -> 24819 | AA18: ='intézményi.részl. '!AO247 -> 2325961 | AB18: ='intézményi.részl. '!AP247 -> 13243 | AC18: ='intézményi.részl. '!AQ247 -> 2339204 | AD18: ='intézményi.részl. '!AR247 -> 32026 | AE18: ='intézményi.részl. '!AS247 -> 2371230 | AF18: ='intézményi.részl. '!AT247 -> 8373 | ... AT18: ='intézményi.részl. '!BH247 -> 2463526
A19: ebből: központi irányítószervi támogatás | B19: ='intézményi.részl. '!P248 -> 2246490 | C19: ='intézményi.részl. '!Q248 -> 24819 | D19: ='intézményi.részl. '!R248 -> 2271309 | E19: ='intézményi.részl. '!S248 -> 13243 | F19: ='intézményi.részl. '!T248 -> 2284552 | G19: ='intézményi.részl. '!U248 -> 32026 | H19: ='intézményi.részl. '!V248 -> 2316578 | I19: ='intézményi.részl. '!W248 -> 8373 | ... W19: ='intézményi.részl. '!AK248 -> 2393334 | X19: ebből: központi irányítószervi támogatás | Y19: =B19 -> 2246490 | Z19: =C19 -> 24819 | AA19: =D19 -> 2271309 | AB19: =E19 -> 13243 | AC19: =F19 -> 2284552 | AD19: =G19 -> 32026 | AE19: =H19 -> 2316578 | AF19: =I19 -> 8373 | ... AT19: =W19 -> 2393334
A20: Bevételek összesen | B20: =B14+B18 -> 12241521 | C20: =C14+C18 -> 52822 | D20: =D14+D18 -> 12294343 | E20: =E14+E18 -> 342898 | F20: =F14+F18 -> 12637241 | G20: =G14+G18 -> 56839 | H20: =H14+H18 -> 12694080 | I20: =I14+I18 -> 378995 | ... W20: =W14+W18 -> 10973862 | X20: Kiadások összesen | Y20: =Y14+Y18 -> 12241521 | Z20: =Z14+Z18 -> #REF! | AA20: =AA14+AA18 -> #REF! | AB20: =AB14+AB18 -> #REF! | AC20: =AC14+AC18 -> #REF! | AD20: =AD14+AD18 -> #REF! | AE20: =AE14+AE18 -> #REF! | AF20: =AF14+AF18 -> #REF! | ... AT20: =AT14+AT18 -> 10973862
A21: ebből: működési bevételek | B21: ='intézményi.részl. '!P252 -> 8351947 | C21: ='intézményi.részl. '!Q252 -> 52822 | D21: ='intézményi.részl. '!R252 -> 8404769 | E21: ='intézményi.részl. '!S252 -> 210873 | F21: ='intézményi.részl. '!T252 -> 8615642 | G21: ='intézményi.részl. '!U252 -> 56469 | H21: ='intézményi.részl. '!V252 -> 8672111 | I21: ='intézményi.részl. '!W252 -> 238009 | ... W21: ='intézményi.részl. '!AK252 -> 8399610 | X21: ebből: működési kiadások | Y21: ='intézményi.részl. '!AM252 -> 6790043 | Z21: ='intézményi.részl. '!AN252 -> #REF! | AA21: ='intézményi.részl. '!AO252 -> #REF! | AB21: ='intézményi.részl. '!AP252 -> #REF! | AC21: ='intézményi.részl. '!AQ252 -> #REF! | AD21: ='intézményi.részl. '!AR252 -> #REF! | AE21: ='intézményi.részl. '!AS252 -> #REF! | AF21: ='intézményi.részl. '!AT252 -> #REF! | ... AT21: ='intézményi.részl. '!BH252 -> 7063454
A22: felhalmozási bevételek | B22: ='intézményi.részl. '!P253 -> 3889574 | C22: ='intézményi.részl. '!Q253 -> 0 | D22: ='intézményi.részl. '!R253 -> 3889574 | E22: ='intézményi.részl. '!S253 -> 132025 | F22: ='intézményi.részl. '!T253 -> 4021599 | G22: ='intézményi.részl. '!U253 -> 370 | H22: ='intézményi.részl. '!V253 -> 4021969 | I22: ='intézményi.részl. '!W253 -> 140986 | ... W22: ='intézményi.részl. '!AK253 -> 2574252 | X22: felhalmozási kiadások | Y22: ='intézményi.részl. '!AM253 -> 5451478 | Z22: ='intézményi.részl. '!AN253 -> #REF! | AA22: ='intézményi.részl. '!AO253 -> #REF! | AB22: ='intézményi.részl. '!AP253 -> #REF! | AC22: ='intézményi.részl. '!AQ253 -> #REF! | AD22: ='intézményi.részl. '!AR253 -> #REF! | AE22: ='intézményi.részl. '!AS253 -> #REF! | AF22: ='intézményi.részl. '!AT253 -> #REF! | ... AT22: ='intézményi.részl. '!BH253 -> 3910408
A23: Tárgyévi költségvetési bevételek és kiadások egyenlege (hiány, többlet) | Y23: ='intézményi.részl. '!P254 -> 0 | Z23: ='intézményi.részl. '!Q254 -> 0 | AA23: ='intézményi.részl. '!R254 -> 0 | AB23: ='intézményi.részl. '!S254 -> 0 | AC23: ='intézményi.részl. '!T254 -> 0 | AD23: ='intézményi.részl. '!U254 -> 0 | AE23: ='intézményi.részl. '!V254 -> 0 | AF23: ='intézményi.részl. '!W254 -> 0 | ... AT23: ='intézményi.részl. '!AK254 -> 0
A24: Működési költségvetés egyenlege | Y24: ='intézményi.részl. '!AM255 -> 1561904 | Z24: ='intézményi.részl. '!AN255 -> #REF! | AA24: ='intézményi.részl. '!AO255 -> #REF! | AB24: ='intézményi.részl. '!AP255 -> #REF! | AC24: ='intézményi.részl. '!AQ255 -> #REF! | AD24: ='intézményi.részl. '!AR255 -> #REF! | AE24: ='intézményi.részl. '!AS255 -> #REF! | AF24: ='intézményi.részl. '!AT255 -> #REF! | ... AT24: ='intézményi.részl. '!BH255 -> 1336156
A25: Felhalmozási költségvetés egyenlege | Y25: ='intézményi.részl. '!AM256 -> -1561904 | Z25: ='intézményi.részl. '!AN256 -> #REF! | AA25: ='intézményi.részl. '!AO256 -> #REF! | AB25: ='intézményi.részl. '!AP256 -> #REF! | AC25: ='intézményi.részl. '!AQ256 -> #REF! | AD25: ='intézményi.részl. '!AR256 -> #REF! | AE25: ='intézményi.részl. '!AS256 -> #REF! | AF25: ='intézményi.részl. '!AT256 -> #REF! | ... AT25: ='intézményi.részl. '!BH256 -> -1336156
A26: Bevételek központi irányítószervi támogatás nélkül | B26: =B20-B19 -> 9995031 | C26: =C20-C19 -> 28003 | D26: =D20-D19 -> 10023034 | E26: =E20-E19 -> 329655 | F26: =F20-F19 -> 10352689 | G26: =G20-G19 -> 24813 | H26: =H20-H19 -> 10377502 | I26: =I20-I19 -> 370622 | ... W26: =W20-W19 -> 8580528 | X26: Kiadások központi irányítószervi támogatás nélkül | Y26: =Y20-Y19 -> 9995031 | Z26: =Z20-Z19 -> #REF! | AA26: =AA20-AA19 -> #REF! | AB26: =AB20-AB19 -> #REF! | AC26: =AC20-AC19 -> #REF! | AD26: =AD20-AD19 -> #REF! | AE26: =AE20-AE19 -> #REF! | AF26: =AF20-AF19 -> #REF! | ... AT26: =AT20-AT19 -> 8580528
Y27: =B26-Y26 -> -0.0099999998 | Z27: =C26-Z26 -> #REF! | AA27: =D26-AA26 -> #REF! | AB27: =E26-AB26 -> #REF! | AC27: =F26-AC26 -> #REF! | AD27: =G26-AD26 -> #REF! | AE27: =H26-AE26 -> #REF! | AF27: =I26-AF26 -> #REF! | ... AT27: =W26-AT26 -> 0
A94: Kiskunfélegyháza Nemzetiségi Önkormányzat 2012. évi költségvetési mérlege
A96: BEVÉTELEK | X96: KIADÁSOK
A97: Megnevezés | X97: Megnevezés
A98: Önkormányzati támogatás | X98: Személyi juttatás
A99: 2012. évi normatív támogatás | X99: Munkaadót terhelő járulék
A100: Működési célú pénzmaradvány | X100: Dologi kiadás
A101: BEVÉTELEK ÖSSZESEN | X101: KIADÁSOK ÖSSZESEN

Sheet kötelező-nem köt 
K1: 2/a. melléklet
A2: Önkormányzati feladatellátás megbontása kötelező, nem kötelező feladatokra
A3: INTÉZMÉNY | B3: Kötelező feladatok | N3: INTÉZMÉNY | O3: Önként vállalt feladatok | AA3: MINDÖSZ-SZESEN
B4: bevételek összetétele | I4: kiadások összetétele | O4: bevételek összetétele | V4: kiadások összetétele
B5: mc.tám.áht-n belülről | C5: pályázati forrás, átvett pe., egyéb | D5: MEP | E5: saját bevétel, kincstárjegy b. | F5: önk. saját erő | G5: pénzma-radvány | H5: Bevételek összesen | I5: szem.j. | J5: m.adó | K5: dologi + egyéb | L5: felhalm. | M5: Kiadások összesen | O5: közp.kvi tám. | P5: pályázati forrás, átvett pe., v.ig.ÁFA | Q5: MEP | R5: intézmény saját bevétel | S5: önk. saját erő | T5: pénzma-radvány | U5: Bevételek összesen | V5: szem.j. | W5: m.adó | X5: dologi + egyéb | Y5: felhalm. | Z5: Kiadások összesen
A6: Kiskunfélegyházi Napköziotthonos Óvoda | B6: 502873 | E6: 1075 | F6: 11738 | H6: =SUM(B6:F6) -> 515686 | I6: 417824 | J6: 90706 | K6: 7067 | L6: 89 | M6: =SUM(I6:L6) -> 515686 | N6: Kiskunfélegyházi Napköziotthonos Óvoda | U6: =SUM(O6:S6) -> 0 | AA6: =M6+Z6 -> 515686 | AB6: 0
A7: Petőfi S. Városi Könyvtár | B7: 18314 | E7: 2000 | F7: 40527 | H7: =SUM(B7:F7) -> 60841 | I7: 43060 | J7: 8401 | K7: 9380 | M7: =SUM(I7:L7) -> 60841 | N7: Petőfi S. Városi Könyvtár | U7: =SUM(O7:S7) -> 0 | Z7: =SUM(V7:Y7) -> 0 | AA7: =M7+Z7 -> 60841
A8: Móra Ferenc Művelődési Központ | B8: 18314 | E8: 8089 | F8: 42627 | H8: =SUM(B8:F8) -> 69030 | I8: 34874 | J8: 6884 | K8: 26825 | L8: 447 | M8: =SUM(I8:L8) -> 69030 | N8: Móra F. Művelődési Ház | U8: =SUM(O8:S8) -> 0 | Z8: =SUM(V8:Y8) -> 0 | AA8: =M8+Z8 -> 69030
A9: Kapocs Szoc. és Gyerrmekvéd. Intézmény | B9: 335888 | E9: 7435 | F9: 17324 | H9: =SUM(B9:F9) -> 360647 | I9: 283677 | J9: 57320 | K9: 15650 | L9: 4000 | M9: =SUM(I9:L9) -> 360647 | N9: Kapocs Szoc. és Gyerrmekvéd. Intézmény | Z9: =SUM(V9:Y9) -> 0 | AA9: =M9+Z9 -> 360647 | AB9: 0
A10: Szivárvány Szem. G. Ny. Int. | B10: 53841 | E10: 40583 | F10: -8178 | G10: =G11+G12+G13 -> 0 | H10: =SUM(B10:F10) -> 86246 | I10: 62694 | J10: 12397 | K10: 10889 | L10: 266 | M10: =SUM(I10:L10) -> 86246 | N10: Szivárvány Szem. G. Ny. Int. | O10: =O11+O12+O13 -> 215102 | P10: =P11+P12+P13 -> 0 | Q10: =Q11+Q12+Q13 -> 0 | R10: =R11+R12+R13 -> 199817 | S10: =S11+S12+S13 -> 114864 | T10: =T11+T12+T13 -> 0 | U10: =SUM(O10:S10) -> 529783 | V10: =V11+V12+V13 -> 297635 | W10: =W11+W12+W13 -> 60137 | X10: =X11+X12+X13 -> 172011 | Y10: =Y11+Y12+Y13 -> 0 | Z10: =SUM(V10:Y10) -> 529783 | AA10: =M10+Z10 -> 616029
H11: =SUM(B11:G11) -> 0 | M11: =SUM(I11:L11) -> 0 | N11: időskorúak tartós bentlakásos szoc.ell. | O11: 202702 | R11: 199014 | S11: 106360 | U11: =SUM(O11:S11) -> 508076 | V11: 283710 | W11: 57316 | X11: 167050 | Z11: =SUM(V11:Y11) -> 508076
N12: tanyagondnoki szolgálat | O12: 12400 | S12: 4051 | U12: =SUM(O12:S12) -> 16451 | V12: 10116 | W12: 2075 | X12: 4260 | Z12: =SUM(V12:Y12) -> 16451
N13: jelzőrendszeres házi segítségnyújtás | R13: 803 | S13: 4453 | U13: =SUM(O13:S13) -> 5256 | V13: 3809 | W13: 746 | X13: 701 | Z13: =SUM(V13:Y13) -> 5256
A14: Védőnői Szolgálat | D14: 92368 | H14: =SUM(B14:F14) -> 92368 | I14: 70489 | J14: 14116 | K14: 6933 | L14: 830 | M14: =SUM(I14:L14) -> 92368 | N14: Védőnői Szolgálat | AA14: =M14+Z14 -> 92368
A15: Kiskun Múzeum | B15: 20757 | C15: 42322 | E15: 1002 | F15: 16079 | H15: =SUM(B15:F15) -> 80160 | I15: 30099 | J15: 5911 | K15: 27276 | L15: 16874 | M15: =SUM(I15:L15) -> 80160 | N15: Kiskun Múzeum | U15: =SUM(O15:S15) -> 0 | Z15: =SUM(V15:Y15) -> 0 | AA15: =M15+Z15 -> 80160
A16: Polgármesteri Hivatal | B16: 393865 | E16: 155726 | F16: 429358 | H16: =SUM(B16:F16) -> 978949 | I16: 512373 | J16: 99346 | K16: 362839 | L16: 4391 | M16: =SUM(I16:L16) -> 978949 | N16: Polgármesteri Hivatal | O16: =O17 -> 5400 | P16: =P17 -> 0 | Q16: =Q17 -> 0 | R16: =R17 -> 0 | S16: =S17 -> 17797 | T16: =T17 -> 0 | U16: =SUM(O16:S16) -> 23197 | V16: =V17 -> 18787 | W16: =W17 -> 2550 | X16: =X17 -> 1860 | Y16: =Y17 -> 0 | Z16: =SUM(V16:Y16) -> 23197 | AA16: =M16+Z16 -> 1002146 | AB16: 0
N17: Mezei Őrszolgálat | O17: 5400 | S17: 17797 | U17: =SUM(O17:S17) -> 23197 | V17: =5711+13076 -> 18787 | W17: 2550 | X17: 1860 | Z17: =SUM(V17:Y17) -> 23197 | AA17: =SUM(Z17) -> 23197
A18: Önkormányzat | B18: 310771 | C18: 1694303 | E18: 1480256 | G18: 3160878 | H18: =SUM(B18:G18) -> 6646208 | I18: 339583 | J18: 50202 | K18: =950660-71419 -> 879241 | L18: =5305763+71419 -> 5377182 | M18: =SUM(I18:L18) -> 6646208 | N18: Önkormányzat | O18: =SUM(O19:O26) -> 383 | P18: =SUM(P19:P26) -> 0 | Q18: =SUM(Q19:Q26) -> 0 | R18: =SUM(R19:R26) -> 12700 | S18: =SUM(S19:S26) -> 538833 | T18: =SUM(T19:T26) -> 0 | U18: =SUM(U19:U26) -> 551916 | V18: =SUM(V19:V26) -> 12034 | ... Z18: =SUM(Z19:Z26) -> 551916 | AA18: =M18+Z18 -> 7198124 | AB18: 0
M19: =SUM(I19:L19) -> 0 | N19: Pénzeszköz átadások | S19: 493613 | U19: =SUM(O19:T19) -> 493613 | X19: =493613-47399 -> 446214 | Y19: 47399 | Z19: =SUM(V19:Y19) -> 493613 | AA19: =M19+Z19 -> 493613
M20: =SUM(I20:L20) -> 0 | N20: Tourinform Iroda | S20: 3300 | U20: =SUM(O20:T20) -> 3300 | X20: 3300 | Z20: =SUM(V20:Y20) -> 3300 | AA20: =M20+Z20 -> 3300
M21: =SUM(I21:L21) -> 0 | N21: GYIÖK működtetése | S21: 700 | U21: =SUM(O21:T21) -> 700 | X21: 700 | Z21: =SUM(V21:Y21) -> 700 | AA21: =M21+Z21 -> 700
M22: =SUM(I22:L22) -> 0 | N22: KEF pályázat, rendezvények | S22: 37034 | U22: =SUM(O22:T22) -> 37034 | V22: 12034 | X22: 25000 | Z22: =SUM(V22:Y22) -> 37034 | AA22: =M22+Z22 -> 37034
M23: =SUM(I23:L23) -> 0 | N23: Üdülő, szálláshely | O23: 383 | S23: 886 | U23: =SUM(O23:T23) -> 1269 | X23: 1269 | Z23: =SUM(V23:Y23) -> 1269 | AA23: =M23+Z23 -> 1269
M24: =SUM(I24:L24) -> 0 | N24: Ipari park. | R24: 12700 | S24: 3300 | U24: =SUM(O24:T24) -> 16000 | X24: 16000 | Z24: =SUM(V24:Y24) -> 16000 | AA24: =M24+Z24 -> 16000
M25: =SUM(I25:L25) -> 0 | U25: =SUM(O25:T25) -> 0 | Z25: =SUM(V25:Y25) -> 0 | AA25: =M25+Z25 -> 0
M26: =SUM(I26:L26) -> 0 | U26: =SUM(O26:T26) -> 0 | Z26: =SUM(V26:Y26) -> 0 | AA26: =M26+Z26 -> 0
A27: MINDÖSSZESEN | B27: =B6+B7+B8+B9+B10+B14+B15+B16+B18 -> 1654623 | C27: =C6+C7+C8+C9+C10+C14+C15+C16+C18 -> 1736625 | D27: =D6+D7+D8+D9+D10+D14+D15+D16+D18 -> 92368 | E27: =E6+E7+E8+E9+E10+E14+E15+E16+E18 -> 1696166 | F27: =F6+F7+F8+F9+F10+F14+F15+F16+F18 -> 549475 | G27: =G6+G7+G8+G9+G10+G14+G15+G16+G18 -> 3160878 | H27: =H6+H7+H8+H9+H10+H14+H15+H16+H18 -> 8890135 | I27: =I6+I7+I8+I9+I10+I14+I15+I16+I18 -> 1794673 | ... M27: =M6+M7+M8+M9+M10+M14+M15+M16+M18 -> 8890135 | N27: MINDÖSSZESEN | O27: =O6+O7+O8+O9+O10+O14+O15+O16+O18 -> 220885 | P27: =P6+P7+P8+P9+P10+P14+P15+P16+P18 -> 0 | Q27: =Q6+Q7+Q8+Q9+Q10+Q14+Q15+Q16+Q18 -> 0 | R27: =R6+R7+R8+R9+R10+R14+R15+R16+R18 -> 212517 | S27: =S6+S7+S8+S9+S10+S14+S15+S16+S18 -> 671494 | T27: =T6+T7+T8+T9+T10+T14+T15+T16+T18 -> 0 | U27: =U6+U7+U8+U9+U10+U14+U15+U16+U18 -> 1104896 | V27: =V6+V7+V8+V9+V10+V14+V15+V16+V18 -> 328456 | ... AA27: =AA6+AA7+AA8+AA9+AA10+AA14+AA15+AA16+AA18 -> 9995031
B29: =B27+O27 -> 1875508 | C29: =C27+P27 -> 1736625 | D29: =D27+Q27 -> 92368 | E29: =E27+R27 -> 1908683 | F29: =F27+S27 -> 1220969 | G29: =G27+T27 -> 3160878 | H29: =H27+U27 -> 9995031 | I29: =I27+V27 -> 2123129 | ... M29: =M27+Z27 -> 9995031

Sheet intézményi.részl.  
BG1: 2. melléklet
A2: Kiskunfélegyháza Város Önkormányzata
A3: 2020. ÉVI KÖLTSÉGVETÉSI BEVÉTELEK ÉS KIADÁSOK RÉSZLETEZÉSE
BH4: me: ezer Ft
A5: BEVÉTELEK | P5: 2019. | Q5: Válto- | R5: Módos. | S5: Válto- | T5: Módos. | U5: Válto- | V5: Módos. | W5: Válto- | X5: Módos. | Y5: Válto- | Z5: Módos. | AA5: Válto- | AB5: Módos. | AC5: Válto- | AD5: Módos. | AE5: Válto- | AF5: Módos. | AG5: Válto- | AH5: 2019 | AI5: 2020. | AJ5: Válto- | AK5: Módos. | AL5: KIADÁSOK | AM5: 2019. | AN5: Válto- | AO5: Módos. | AP5: Válto- | AQ5: Módos. | AR5: Válto- | AS5: Módos. | AT5: Válto- | AU5: Módos. | AV5: Válto- | AW5: Módos. | AX5: Válto- | AY5: Módos. | AZ5: Válto- | BA5: Módos. | BB5: Válto- | BC5: Módos. | BD5: Válto- | BE5: 2019 | BF5: 2020. | BG5: Válto- | BH5: Módos.
A6: rovatszám szerint | D6: zás | E6: ei. | F6: zás | G6: ei. | H6: zás | I6: ei. | J6: zás | K6: ei. | L6: zás | M6: ei. | N6: zás | O6: mód.ei. | P6: eredeti ei. | Q6: zás | R6: ei. | S6: zás | T6: ei. | U6: zás | V6: ei. | W6: zás | X6: ei. | Y6: zás | Z6: ei. | AA6: zás | AB6: ei. | AC6: zás | AD6: ei. | AE6: zás | AF6: ei. | AG6: zás | AH6: várható | AI6: eredeti ei. | AJ6: zás | AK6: ei. | AL6: rovatszám szerint | AM6: eredeti ei. | AN6: zás | AO6: ei. | AP6: zás | AQ6: ei. | AR6: zás | AS6: ei. | AT6: zás | AU6: ei. | AV6: zás | AW6: ei. | AX6: zás | AY6: ei. | AZ6: zás | BA6: ei. | BB6: zás | BC6: ei. | BD6: zás | BE6: várható | BF6: eredeti ei. | BG6: zás | BH6: ei.
A7: KISKUNFÉLEGYHÁZA VÁROS ÖNKORMÁNYZATA
A8: 1. Működési célú támogatások államháztartáson belülről | B8: =B9+B33+#REF! -> #REF! | C8: =C9+C33+#REF! -> #REF! | D8: =D9+D33+#REF! -> #REF! | E8: =E9+E33+#REF! -> #REF! | F8: =F9+F33+#REF! -> #REF! | G8: =G9+G33+#REF! -> #REF! | H8: =H9+H33+#REF! -> #REF! | I8: =I9+I33+#REF! -> #REF! | ... O8: =O9+O33+#REF! -> #REF! | P8: =P9+P40 -> 1875508 | Q8: =Q9+Q40+Q50 -> 24622 | R8: =R9+R40+R50 -> 1900130 | S8: =S9+S40+S50+S51 -> 38480 | T8: =T9+T40+T50+T51 -> 1938610 | U8: =U9+U40+U50+U51 -> 10971 | V8: =V9+V40+V50+V51 -> 1949581 | W8: =W9+W40+W50+W51 -> 154406 | X8: =X9+X40+X50+X51 -> 2103987 | Y8: =Y9+Y40+Y50+Y51 -> 25039 | Z8: =Z9+Z40+Z50+Z51 -> 2129026 | AA8: =AA9+AA40+AA50+AA51 -> 19903 | AB8: =AB9+AB40+AB50+AB51+AB52 -> 2148929 | AC8: =AC9+AC40+AC50+AC51+AC52 -> 13061 | AD8: =AD9+AD40+AD50+AD51+AD52 -> 2161990 | AE8: =AE9+AE40+AE50+AE51+AE52 -> 7640 | AF8: =AF9+AF40+AF50+AF51+AF52 -> 2169630 | AG8: =AG9+AG40+AG50+AG51+AG52 -> 7491 | AH8: =AH9+AH40+AH50+AH51+AH52 -> 2177121 | AI8: =AI9+AI40 -> 1990081 | AJ8: =AJ9+AJ40 -> 76777 | AK8: =AK9+AK40 -> 2066858 | AL8: 1. Személyi juttatások | AM8: 351617 | AN8: =Szem.dologi!C92 -> #REF! | AO8: =Szem.dologi!D92 -> #REF! | AP8: =Szem.dologi!E92 -> #REF! | AQ8: =Szem.dologi!F92 -> #REF! | AR8: =Szem.dologi!J92 -> 455 | AS8: =SUM(AQ8:AR8) -> #REF! | AT8: =Szem.dologi!N92 -> 481 | AU8: 352233 | AV8: =Szem.dologi!N92 -> 481 | AW8: =Szem.dologi!K92 -> 361029 | AX8: =Szem.dologi!N92 -> 481 | AY8: 355048 | AZ8: =Szem.dologi!N92 -> 481 | BA8: 361571 | BB8: =Szem.dologi!N92 -> 481 | BC8: 361317 | BD8: =Szem.dologi!N92 -> 481 | BE8: =SUM(BC8:BD8) -> 361798 | BF8: =Szem.dologi!G92 -> 302260 | BG8: =Szem.dologi!W92 -> 1 | BH8: =SUM(BF8:BG8) -> 302261
A9: 11. Önkormányzatok működési támogatásai | B9: =B10+B11+B12+B20+B24+B28+B31 -> 28460 | C9: =C10+C11+C12+C20+C24+C28+C31 -> 28460 | D9: =D10+D11+D12+D20+D24+D28+D31 -> 0 | E9: =E10+E11+E12+E20+E24+E28+E31 -> 28460 | F9: =F10+F11+F12+F20+F24+F28+F31 -> 17263 | G9: =G10+G11+G12+G20+G24+G28+G31 -> 45723 | H9: =H10+H11+H12+H20+H24+H28+H31 -> 13170 | I9: =I10+I11+I12+I20+I24+I28+I31 -> 58893 | ... X9: =X10+X11+X12+X20+X24+X28+X31 -> 1740871 | Y9: =Y10+Y11+Y12+Y20+Y24+Y28+Y31+Y38 -> 24121 | Z9: =Z10+Z11+Z12+Z20+Z24+Z28+Z31+Z38 -> 1764992 | AA9: =AA10+AA11+AA12+AA20+AA24+AA28+AA31+AA38 -> 18778 | AB9: =AB10+AB11+AB12+AB20+AB24+AB28+AB31+AB38 -> 1783770 | AC9: =AC10+AC11+AC12+AC20+AC24+AC28+AC31+AC38 -> 7911 | AD9: =AD10+AD11+AD12+AD20+AD24+AD28+AD31+AD38 -> 1791681 | AE9: =AE10+AE11+AE12+AE20+AE24+AE28+AE31+AE38 -> 7640 | AF9: =AF10+AF11+AF12+AF20+AF24+AF28+AF31+AF38 -> 1799321 | ... AK9: =AK10+AK11+AK12+AK20+AK24+AK28+AK31+AK38 -> 1852317 | AL9: 2. Munkaadókat terhelő járulékok | AM9: 50202 | AN9: =Szem.dologi!I92 -> #REF! | AO9: =Szem.dologi!L92 -> #REF! | AP9: =Szem.dologi!M92 -> 0 | AQ9: =Szem.dologi!P92 -> #REF! | AR9: =Szem.dologi!S92 -> 1 | AS9: =SUM(AQ9:AR9) -> #REF! | AT9: =Szem.dologi!X92 -> 40753 | AU9: 50213 | AV9: =Szem.dologi!X92 -> 40753 | AW9: =Szem.dologi!T92 -> #REF! | AX9: =Szem.dologi!X92 -> 40753 | AY9: 50623 | AZ9: =Szem.dologi!X92 -> 40753 | BA9: 51553 | BB9: =Szem.dologi!X92 -> 40753 | BC9: =SUM(BA9:BB9) -> 92306 | BD9: =Szem.dologi!X92 -> 40753 | BE9: 51553 | BF9: =Szem.dologi!X92 -> 40753 | BG9: =Szem.dologi!AE92 -> 0 | BH9: =SUM(BF9:BG9) -> 40753
A10: 111. Helyi önkormányzatok működésének általános támogatása | B10: 1311 | C10: =SUM(B10:B10) -> 1311 | E10: =SUM(C10:D10) -> 1311 | G10: =SUM(E10:F10) -> 1311 | I10: =SUM(G10:H10) -> 1311 | K10: =SUM(I10:J10) -> 1311 | M10: =SUM(K10:L10) -> 1311 | O10: =SUM(M10:N10) -> 1311 | P10: 197093 | R10: =SUM(P10:Q10) -> 197093 | T10: =SUM(R10:S10) -> 197093 | U10: =510+1843 -> 2353 | V10: =SUM(T10:U10) -> 199446 | W10: 510 | X10: =SUM(V10:W10) -> 199956 | Y10: =494+482 -> 976 | Z10: =SUM(X10:Y10) -> 200932 | AA10: 640 | AB10: =SUM(Z10:AA10) -> 201572 | AC10: 638 | AD10: =SUM(AB10:AC10) -> 202210 | AE10: 615 | AF10: =SUM(AD10:AE10) -> 202825 | AG10: 600 | AH10: =SUM(AF10:AG10) -> 203425 | AI10: 255184 | AJ10: =637+46574+461 -> 47672 | AK10: =SUM(AI10:AJ10) -> 302856 | AL10: 3. Dologi kiadások | AM10: 572824 | AN10: =Szem.dologi!R92 -> #REF! | AO10: =Szem.dologi!U92 -> #REF! | AP10: =Szem.dologi!V92 -> -6090 | AQ10: =Szem.dologi!Z92 -> #REF! | AR10: =Szem.dologi!AA92 -> 5673 | AS10: =SUM(AQ10:AR10) -> #REF! | AT10: =Szem.dologi!AC92 -> 94775 | AU10: 608987 | AV10: =Szem.dologi!AC92 -> 94775 | AW10: =Szem.dologi!AB92 -> #REF! | AX10: =Szem.dologi!AC92 -> 94775 | AY10: 614818 | AZ10: =Szem.dologi!AC92 -> 94775 | BA10: 623535 | BB10: =Szem.dologi!AC92 -> 94775 | BC10: 770192 | BD10: =Szem.dologi!AC92 -> 94775 | BE10: =SUM(BC10:BD10) -> 864967 | BF10: =Szem.dologi!AF92 -> 566535 | BG10: =Szem.dologi!AN92 -> -39930 | BH10: =SUM(BF10:BG10) -> 526605
A11: 112. Települési önkormányzatok egyes köznevelési feladatainak tám. | C11: =SUM(B11:B11) -> 0 | E11: =SUM(C11:D11) -> 0 | G11: =SUM(E11:F11) -> 0 | I11: =SUM(G11:H11) -> 0 | K11: =SUM(I11:J11) -> 0 | M11: =SUM(K11:L11) -> 0 | N11: -252 | O11: =SUM(M11:N11) -> -252 | P11: 502873 | R11: =SUM(P11:Q11) -> 502873 | T11: =SUM(R11:S11) -> 502873 | V11: =SUM(T11:U11) -> 502873 | X11: =SUM(V11:W11) -> 502873 | Z11: =SUM(X11:Y11) -> 502873 | AA11: 5302 | AB11: =SUM(Z11:AA11) -> 508175 | AD11: =SUM(AB11:AC11) -> 508175 | AF11: =SUM(AD11:AE11) -> 508175 | AH11: =SUM(AF11:AG11) -> 508175 | AI11: 526172 | AK11: =SUM(AI11:AJ11) -> 526172 | AL11: 4. Ellátottak pénzbeli juttatásai | AM11: 73164 | AN11: =#REF! -> #REF! | AO11: =#REF! -> #REF! | AP11: =#REF! -> #REF! | AQ11: 73164 | AR11: =#REF! -> #REF! | AS11: =#REF! -> #REF! | AT11: =#REF! -> #REF! | AU11: =SUM(AS11:AT11) -> #REF! | AW11: =SUM(AU11:AV11) -> #REF! | AY11: =SUM(AW11:AX11) -> #REF! | BA11: =SUM(AY11:AZ11) -> #REF! | BC11: =SUM(BA11:BB11) -> #REF! | BE11: =SUM(BC11:BD11) -> #REF! | BF11: ='Szoc.rász.'!H19 -> 31960 | BH11: =SUM(BF11:BG11) -> 31960
A12: 113. Települési önkormányzatok szoc.és gyermekjóléti felad. tám. | B12: =+B13+B14+B15+B16+B17 -> 20912 | C12: =+C13+C14+C15+C16+C17 -> 20912 | D12: =+D13+D14+D15+D16+D17 -> 0 | E12: =+E13+E14+E15+E16+E17 -> 20912 | F12: =+F13+F14+F15+F16+F17 -> 13515 | G12: =+G13+G14+G15+G16+G17 -> 34427 | H12: =+H13+H14+H15+H16+H17 -> 6762 | I12: =+I13+I14+I15+I16+I17 -> 41189 | J12: =+J13+J14+J15+J16+J17+J18 -> 19718 | K12: =+K13+K14+K15+K16+K17+K18 -> 60907 | L12: =+L13+L14+L15+L16+L17+L18+L19 -> 17577 | M12: =+M13+M14+M15+M16+M17+M18+M19 -> 78484 | N12: =+N13+N14+N15+N16+N17+N18+N19 -> 35765 | O12: =+O13+O14+O15+O16+O17+O18+O19 -> 120929 | P12: =+P13+P14+P15+P16+P17+P18+P19 -> 807013 | Q12: =+Q13+Q14+Q15+Q16+Q17+Q18+Q19 -> 20755 | R12: =+R13+R14+R15+R16+R17+R18+R19 -> 827768 | S12: =+S13+S14+S15+S16+S17+S18+S19 -> 7103 | ... AK12: =+AK13+AK14+AK15+AK16+AK17+AK18+AK19 -> 962306 | AL12: 5. Egyéb működési célú kiadások | AM12: =AM13+AM14+AM16+AM17+AM18 -> 742503 | AN12: =AN13+AN14+AN16+AN17+AN18+AN15 -> #REF! | AO12: =AO13+AO14+AO16+AO17+AO18+AO15 -> #REF! | AP12: =AP13+AP14+AP16+AP17+AP18+AP15 -> #REF! | AQ12: =AQ13+AQ14+AQ16+AQ17+AQ18+AQ15 -> #REF! | AR12: =AR13+AR14+AR16+AR17+AR18+AR15 -> #REF! | AS12: =AS13+AS14+AS16+AS17+AS18+AS15 -> #REF! | AT12: =AT13+AT14+AT16+AT17+AT18+AT15 -> #REF! | AU12: =AU13+AU14+AU16+AU17+AU18+AU15 -> #REF! | ... BH12: =BH13+BH14+BH16+BH17+BH18+BH15 -> 749118
A13: 1131. Egyes szociális és gyermekjóléti feladatok támogatása | C13: =SUM(B13:B13) -> 0 | E13: =SUM(C13:D13) -> 0 | G13: =SUM(E13:F13) -> 0 | I13: =SUM(G13:H13) -> 0 | K13: =SUM(I13:J13) -> 0 | M13: =SUM(K13:L13) -> 0 | O13: =SUM(M13:N13) -> 0 | P13: 351039 | R13: =SUM(P13:Q13) -> 351039 | T13: =SUM(R13:S13) -> 351039 | V13: =SUM(T13:U13) -> 351039 | X13: =SUM(V13:W13) -> 351039 | Z13: =SUM(X13:Y13) -> 351039 | AA13: -8843 | AB13: =SUM(Z13:AA13) -> 342196 | AD13: =SUM(AB13:AC13) -> 342196 | AF13: =SUM(AD13:AE13) -> 342196 | AH13: =SUM(AF13:AG13) -> 342196 | AI13: 385120 | AJ13: 1444 | AK13: =SUM(AI13:AJ13) -> 386564 | AL13: 502. Előző évi elszámolásból származó kiad. | AM13: 298 | AO13: 298 | AQ13: 298 | AS13: =SUM(AQ13:AR13) -> 298 | AU13: =SUM(AS13:AT13) -> 298 | AW13: =SUM(AU13:AV13) -> 298 | AY13: =SUM(AW13:AX13) -> 298 | BA13: =SUM(AY13:AZ13) -> 298 | BC13: =SUM(BA13:BB13) -> 298 | BE13: =SUM(BC13:BD13) -> 298 | BH13: =SUM(BF13:BG13) -> 0
A14: 1132. Egyes szoc.szakosított ell, gyermekek átm.gond.kapcs.fea. | C14: =SUM(B14:B14) -> 0 | E14: =SUM(C14:D14) -> 0 | G14: =SUM(E14:F14) -> 0 | I14: =SUM(G14:H14) -> 0 | K14: =SUM(I14:J14) -> 0 | M14: =SUM(K14:L14) -> 0 | N14: 30139 | O14: =SUM(M14:N14) -> 30139 | P14: 244884 | R14: =SUM(P14:Q14) -> 244884 | T14: =SUM(R14:S14) -> 244884 | V14: =SUM(T14:U14) -> 244884 | X14: =SUM(V14:W14) -> 244884 | Z14: =SUM(X14:Y14) -> 244884 | AA14: 5898 | AB14: =SUM(Z14:AA14) -> 250782 | AD14: =SUM(AB14:AC14) -> 250782 | AF14: =SUM(AD14:AE14) -> 250782 | AH14: =SUM(AF14:AG14) -> 250782 | AI14: 317052 | AK14: =SUM(AI14:AJ14) -> 317052 | AL14: 506. Egyéb működési célú támogatások államháztartáson belülre | AM14: ='Pe.átad., Kölcsönök'!C35 -> 20811 | AN14: ='Pe.átad., Kölcsönök'!D35 -> 0 | AO14: ='Pe.átad., Kölcsönök'!E35 -> 20811 | AP14: ='Pe.átad., Kölcsönök'!F35 -> 0 | AQ14: ='Pe.átad., Kölcsönök'!G35 -> 20811 | AR14: ='Pe.átad., Kölcsönök'!H35 -> -100 | AS14: ='Pe.átad., Kölcsönök'!I35 -> 20711 | AT14: ='Pe.átad., Kölcsönök'!J35 -> 0 | ... BD14: ='Pe.átad., Kölcsönök'!T35 -> 0 | BE14: =SUM(BC14:BD14) -> 20377 | BF14: ='Pe.átad., Kölcsönök'!V35 -> 19672 | BG14: ='Pe.átad., Kölcsönök'!W35 -> -290 | BH14: =SUM(BF14:BG14) -> 19382
