Workbook
Name _10Excel_BuiltIn_Print_Area_1_1_1_1_1_1_1_1_1_1: #REF!
Name _10Excel_BuiltIn_Print_Area_1_1_1_1_1_1_1_1_1_1: #REF!
Name _10Excel_BuiltIn_Print_Area_1_1_1_1_1_1_1_1_1_1_1: #REF!
Name _10Excel_BuiltIn_Print_Area_1_1_1_1_1_1_1_1_1_1_1: #REF!
Name _10Excel_BuiltIn_Print_Area_1_1_1_1_1_1_1_1_1_1_1: #REF!
Name _10Excel_BuiltIn_Print_Area_1_1_1_1_1_1_1_1_1_1_1: #REF!
Name _11Excel_BuiltIn_Print_Area_1_1_1_1_1_1_1_1_1_1_1: #REF!
Name _11Excel_BuiltIn_Print_Area_1_1_1_1_1_1_1_1_1_1_1: #REF!
Name _11Excel_BuiltIn_Print_Area_1_1_1_1_1_1_12_1: #REF!
Name _11Excel_BuiltIn_Print_Area_1_1_1_1_1_1_12_1: #REF!
Name _11Excel_BuiltIn_Print_Area_1_1_1_1_1_1_12_1: #REF!
Name _11Excel_BuiltIn_Print_Area_1_1_1_1_1_1_12_1: #REF!
Name _12Excel_BuiltIn_Print_Area_1_1_1_1_1_1_12_1: #REF!
Name _12Excel_BuiltIn_Print_Area_1_1_1_1_1_1_12_1: #REF!
Name _12Excel_BuiltIn_Print_Area_1_1_1_1_1_1_7_1: #REF!
Name _12Excel_BuiltIn_Print_Area_1_1_1_1_1_1_7_1: #REF!
Name _12Excel_BuiltIn_Print_Area_1_1_1_1_1_1_7_1: #REF!
Name _12Excel_BuiltIn_Print_Area_1_1_1_1_1_1_7_1: #REF!
Name _13Excel_BuiltIn_Print_Area_1_1_1_1_1_1_7_1: #REF!
Name _13Excel_BuiltIn_Print_Area_1_1_1_1_1_1_7_1: #REF!
Name _13Excel_BuiltIn_Print_Area_1_1_1_1_1_1_8_1: #REF!
Name _13Excel_BuiltIn_Print_Area_1_1_1_1_1_1_8_1: #REF!
Name _13Excel_BuiltIn_Print_Area_1_1_1_1_1_1_8_1: #REF!
Name _13Excel_BuiltIn_Print_Area_1_1_1_1_1_1_8_1: #REF!
Name _14Excel_BuiltIn_Print_Area_1_1_1_1_1_1_8_1: #REF!
Name _14Excel_BuiltIn_Print_Area_1_1_1_1_1_1_8_1: #REF!
Name _14Excel_BuiltIn_Print_Area_1_1_1_12_1: #REF!
Name _14Excel_BuiltIn_Print_Area_1_1_1_12_1: #REF!
Name _14Excel_BuiltIn_Print_Area_1_1_1_12_1: #REF!
Name _14Excel_BuiltIn_Print_Area_1_1_1_12_1: #REF!
Name _15Excel_BuiltIn_Print_Area_1_1_1_12_1: #REF!
Name _15Excel_BuiltIn_Print_Area_1_1_1_12_1: #REF!
Name _15Excel_BuiltIn_Print_Area_1_1_1_2_1: #REF!
Name _15Excel_BuiltIn_Print_Area_1_1_1_2_1: #REF!
Name _15Excel_BuiltIn_Print_Area_1_1_1_2_1: #REF!
Name _15Excel_BuiltIn_Print_Area_1_1_1_2_1: #REF!
Name _16Excel_BuiltIn_Print_Area_1_1_1_2_1: #REF!
Name _16Excel_BuiltIn_Print_Area_1_1_1_2_1: #REF!
Name _16Excel_BuiltIn_Print_Area_1_1_12_1: #REF!
Name _16Excel_BuiltIn_Print_Area_1_1_12_1: #REF!
Name _16Excel_BuiltIn_Print_Area_1_1_12_1: #REF!
Name _16Excel_BuiltIn_Print_Area_1_1_12_1: #REF!
Name _17Excel_BuiltIn_Print_Area_1_1_12_1: #REF!
Name _17Excel_BuiltIn_Print_Area_1_1_12_1: #REF!
Name _17Excel_BuiltIn_Print_Area_1_1_12_2: #REF!
Name _17Excel_BuiltIn_Print_Area_1_1_12_2: #REF!
Name _17Excel_BuiltIn_Print_Area_1_1_12_2: #REF!
Name _17Excel_BuiltIn_Print_Area_1_1_12_2: #REF!
Name _18Excel_BuiltIn_Print_Area_1_1_12_2: #REF!
Name _18Excel_BuiltIn_Print_Area_1_1_12_2: #REF!
Name _18Excel_BuiltIn_Print_Area_1_1_2_1: #REF!
Name _18Excel_BuiltIn_Print_Area_1_1_2_1: #REF!
Name _18Excel_BuiltIn_Print_Area_1_1_2_1: #REF!
Name _18Excel_BuiltIn_Print_Area_1_1_2_1: #REF!
Name _19Excel_BuiltIn_Print_Area_1_1_2_1: #REF!
Name _19Excel_BuiltIn_Print_Area_1_1_2_1: #REF!
Name _19Excel_BuiltIn_Print_Area_1_1_8_1: #REF!
Name _19Excel_BuiltIn_Print_Area_1_1_8_1: #REF!
Name _19Excel_BuiltIn_Print_Area_1_1_8_1: #REF!
Name _19Excel_BuiltIn_Print_Area_1_1_8_1: #REF!

Sheet 1.tábla
H1: 1. tábla
A2: Helyi önkormányzatok általános működésének és ágazati feladatainak támogatása
A3: a költségvetési törvény és a mutatószám felmérés alapján
C5: 2020. évi | F5: 2019. évi | I5: me: Ft
A6: 2019. évi központi költségvetésből biztosított támogatás | B6: Hiv. sz. | C6: Mutatószám | D6: Fajlagos | E6: Összeg | F6: Mutatószám | G6: Fajlagos | H6: Összeg | I6: Változás 2019. évhez képest
A7: Helyi önkormányzatok működésének általános támogatása | B7: I.
A8: Önkormányzati hivatal működésének támogatása 1-2. hó | B8: I.1. a) | C8: =F8 -> 54.41 | D8: 4580000 | E8: =C8*D8/12*12 -> 249197800 | F8: 54.41 | G8: 4580000 | H8: =F8*G8 -> 2.491978e+08 | I8: =E8+E9-H8 -> 0
A9: Önkormányzati hivatal működésének támogatása 3-12. hó (kieg. felmérés) | C9: ='[1]Számítások tény'!B11 -> 54.41 | D9: 5450000 | E9: =C9*D9/12*0 -> 0
A10: Támogatás összesen - beszámítás után | E10: =SUM(E8:E9) -> 249197800 | H10: =H29 -> 1.9708346e+08 | I10: =E10-H10 -> 52114343
A11: Zöldterület-gazdálkodással kapcs. fa. ellátásának támog. | B11: I.1. ba) | C11: 1065.7 | D11: 25200 | E11: =C11*D11 -> 26855640 | F11: 1065.7 | G11: 22300 | H11: =F11*G11 -> 23765110 | I11: =E11-H11 -> 3090530
A12: Támogatás összesen - beszámítás után | E12: 0 | H12: 0 | I12: =E12-H12 -> 0
A13: Közvilágítás fenntartásának támogatása | B13: I.1. bb) | C13: 491.4 | D13: 400000 | E13: =C13*D13 -> 196560000 | F13: 489.3 | G13: 400000 | H13: =F13*G13 -> 195720000 | I13: =E13-H13 -> 840000
A14: Támogatás összesen - beszámítás után | E14: 0 | H14: 0 | I14: =E14-H14 -> 0
A15: Köztemető fenntartással kapcsolatos feladatok támogatása | B15: I.1. bc) | E15: 16338192 | H15: 16338192 | I15: =E15-H15 -> 0
A16: Támogatás összesen - beszámítás után | E16: 0 | H16: 0 | I16: =E16-H16 -> 0
A17: Közutak fenntartásának támogatása | B17: I.1. bd) | C17: 116.6 | D17: 295000 | E17: =C17*D17 -> 34397000 | F17: 116 | G17: 295000 | H17: =F17*G17 -> 34220000 | I17: =E17-H17 -> 177000
A18: Támogatás összesen - beszámítás után | E18: 5310626 | H18: 0 | I18: =E18-H18 -> 5310626
A19: Település-üzemeltetéshez kapcsolódó támogatás összesen | E19: =E11+E13+E15+E17 -> 274150832 | H19: =H11+H13+H15+H17 -> 270043302 | I19: =E19-H19 -> 4107530
A20: Támogatás összesen - beszámítás után | E20: =E12+E14+E16+E18 -> 5310626 | H20: =H12+H14+H16+H18 -> 0 | I20: =E20-H20 -> 5310626
A21: Egyéb önkormányzati feladatok támogatása | B21: I.1. c) | C21: 30155 | D21: 2700 | E21: =C21*D21 -> 81418500 | F21: 30271 | G21: 2700 | H21: =F21*G21 -> 81731700 | I21: =E21-H21 -> -313200
A22: Egyéb önkormányzati feladatok támogatása - beszámítás után | E22: 0 | H22: 0 | I22: =E22-H22 -> 0
A23: Lakott külterülettel kapcsolatos feladatok támogatása | B23: I.1. d) | C23: 4503 | D23: 2550 | E23: =C23*D23 -> 11482650 | F23: 4446 | G23: 2550 | H23: =F23*G23 -> 11337300 | I23: =E23-H23 -> 145350
A24: Támogatás összesen - beszámítás után | E24: 0 | H24: 0 | I24: =E24-H24 -> 0
A25: Üdülőhelyi feladatok támogatása | B25: I.1. e) | C25: 665400 | D25: 1 | E25: =C25*D25 -> 665400 | F25: 382500 | G25: 1 | H25: =F25*G25 -> 382500 | I25: =E25-H25 -> 282900
A26: Támogatás összesen - beszámítás után | E26: 665400 | H26: 0 | I26: =E26-H26 -> 665400
A27: A települési önkormányzatok műdödésének támogatása | E27: =E8+E9+E11+E13+E15+E17+E21+E23+E25 -> 616915182 | H27: =H8+H11+H13+H15+H17+H21+H23+H25 -> 612692602 | I27: =E27-H27 -> 4222580
A28: Beszámítás összege elvárható bevétel 2018. évi iparűzési adóalap 0,55 %-ának korrekcióval | B28: I.1. f) | C28: 79179476304 | D28: =-0.55% -> -0.0055 | E28: =-'[1]Számítások tény'!C23 -> -3.6174136e+08 | F28: 84873145207 | G28: =-0.558129135%*0.877364595 -> -0.0048968274 | H28: =F28*G28 -> -4.1560915e+08 | I28: =E28-H28 -> 53867789
A29: A települési önkormányzatok működésének támogatása beszámítás és kiegészítés után | E29: =SUM(E27:E28) -> 2.5517383e+08 | H29: =SUM(H27:H28) -> 1.9708346e+08
A30: Nem közművel összegyűjtott háztartási szennyvíz ártalmatlanítása | B30: I.2. | C30: 100 | D30: 100 | E30: =C30*D30 -> 10000 | F30: 100 | G30: 100 | H30: =F30*G30 -> 10000 | I30: =E30-H30 -> 0
A31: Összesen | E31: =E10+E20+E22+E24+E26+E30 -> 255183826 | H31: =H10+H20+H22+H24+H26+H30 -> 1.9709346e+08 | I31: =E31-H31 -> 58090369
A32: Települési önkormányzatok egyes köznevelési feladatainak támogatása | B32: II.
A33: Óvodapedagógusok, és az óvodapedagógusok nevelő munkáját közvetlenül segítők bértámogatása | B33: II. 1.
A34: Óvodapedagógusok elismert létszáma | E34: =SUM(E35:E37) -> 3.164966e+08 | H34: =SUM(H35:H37) -> 304693550 | I34: =E34-H34 -> 11803050
A35: 2020. évben 8 hónapra | B35: II.1.(1)1 | C35: 72.4 | D35: 4371500 | E35: =C35*8/12*D35 -> 2.1099773e+08 | F35: 69.7 | G35: 4371500 | H35: =F35*8/12*G35 -> 2.0312903e+08 | I35: =E35-H35 -> 7868700
A36: 2020. évben 4 hónapra | B36: II.1.(1)2 | C36: 72.4 | D36: 4371500 | E36: =C36*4/12*D36 -> 1.0549887e+08 | F36: 69.7 | G36: 4371500 | H36: =F36*4/12*G36 -> 1.0156452e+08 | I36: =E36-H36 -> 3934350
A37: Pótlólagos összeg | E37: 0 | H37: 0 | I37: =E37-H37 -> 0
A38: Óvodapedagógusok nevelő munkáját közvetlenül segítők száma | E38: =SUM(E39:E40) -> 115200000 | H38: =SUM(H39:H40) -> 105840000 | I38: =E38-H38 -> 9360000
A39: 2020. évben 8 hónapra | B39: II.1.(2)1 | C39: 48 | D39: 2400000 | E39: =C39*8/12*D39 -> 76800000 | F39: 48 | G39: 2205000 | H39: =F39*8/12*G39 -> 70560000 | I39: =E39-H39 -> 6240000
A40: 2020. évben 4 hónapra | B40: II.1.(2)2 | C40: 48 | D40: 2400000 | E40: =C40*4/12*D40 -> 38400000 | F40: 48 | G40: 2205000 | H40: =F40*4/12*G40 -> 35280000 | I40: =E40-H40 -> 3120000
A41: Óvodaműködtetési támogatás | B41: II. 2. | E41: =SUM(E42:E43) -> 80355000 | H41: =SUM(H42:H43) -> 77822600 | I41: =E41-H41 -> 2532400
A42: 2020. évben 8 hónapra | B42: II.2.(1)1 | C42: 825 | D42: 97400 | E42: =C42*8/12*D42 -> 53570000 | F42: 799 | G42: 97400 | H42: =F42*8/12*G42 -> 51881733 | I42: =E42-H42 -> 1688266.7
A43: 2020. évben 4 hónapra | B43: II.2.(1)2 | C43: 825 | D43: 97400 | E43: =C43*4/12*D43 -> 26785000 | F43: 799 | G43: 97400 | H43: =F43*4/12*G43 -> 25940867 | I43: =E43-H43 -> 844133.33
A44: Köznevelési intézmények működtetéséhez kapcsolódó támogatás | E44: 0 | H44: 0 | I44: =E44-H44 -> 0
A45: Kiegészítő támogatás az óvodapedagógusok minősítéséből adódó többletkiadásokhoz | B45: II.4. | E45: =SUM(E46:E51) -> 14119900 | H45: =SUM(H46:H51) -> 14516600 | I45: =E45-H45 -> -396700
A46: Alapfokozatú végzettségű óvodapedagógusok Pedagógus II. kategóriába sorolás kiegészítő támog. - minősítés 2019. évben | B46: II..4a(1) | C46: 21 | D46: 396700 | E46: =C46*D46 -> 8330700 | F46: 22 | G46: 396700 | H46: =F46*G46 -> 8727400 | I46: =E46-H46 -> -396700
A47: Alapfokozatú végzettségű óvodapedagógusok Pedagógus II. kategóriába sorolás kiegészítő támog. - minősítés 2020. évben | B47: II.4.b(1) | C47: 0 | D47: 363642 | E47: =C47*D47 -> 0 | F47: 0 | G47: 363642 | H47: =F47*G47 -> 0 | I47: =E47-H47 -> 0
A48: Alapfokozatú végzettségű óvodapedagógusok Mesterpedagógus kategóriába sorolás kiegészítő támog. - minősítés 2019. évben | B48: II.4.a(2) | C48: 4 | D48: 1447300 | E48: =C48*D48 -> 5789200 | F48: 4 | G48: 1447300 | H48: =F48*G48 -> 5789200 | I48: =E48-H48 -> 0
A49: Alapfokozatú végzettségű óvodapedagógusok Mesterpedagógus kategóriába sorolás kiegészítő támog. - minősítés 2020. évben | B49: II.4.b(2) | D49: 1326692 | E49: =C49*D49 -> 0 | G49: 1326692 | H49: =F49*G49 -> 0 | I49: =E49-H49 -> 0
A50: Mesterfokozatú végzettségű óvodapedagógusok Pedagógus II. kategóriába sorolás kiegészítő támogatása | B50: II.5.(3) | I50: =E50-H50 -> 0
A51: Mesterfokozatú végzettségű óvodapedagógusok Mesterpedagógus kategóriába sorolás kiegészítő támogatása | B51: II.5.(4) | I51: =E51-H51 -> 0
A52: Összesen | E52: =E34+E38+E41+E44+E45 -> 5.261715e+08 | H52: =H34+H38+H41+H44+H45 -> 502872750 | I52: =E52-H52 -> 23298750
A53: A települési önkormányzatok szociális gyermekjóléti és gyermekétkeztetési feladatainak támogatása
A54: Települési önkormányzatok szociális feladatainak egyéb támogatása | B54: III. 2. | E54: 0 | H54: 0 | I54: =E54-H54 -> 0
A56: Egyes szociális és gyermekjóléti feladatok támogatása | B56: III.2. | E56: =SUM(E57:E73) -> 254446686 | H56: =SUM(H57:H73) -> 221529140 | I56: =E56-H56 -> 32917546
A57: Család- és gyermekjóléti szolgálat 1-2. hó | B57: III. 2.a | C57: 3.8 | D57: 3400000 | E57: =C57*D57/12*12 -> 12920000 | F57: 3.8 | G57: 3400000 | H57: =F57*G57 -> 12920000 | I57: =E57+E58-H57 -> 0
A58: Család- és gyermekjóléti szolgálat 3-12. hó (kiegészítő felmérés) | B58: III. 2.a | C58: 3.8 | D58: 3780000 | E58: =C58*D58/12*0 -> 0
A59: Család- és gyermekjóléti központ | B59: III. 2.b | C59: 6.6 | D59: 3300000 | E59: =C59*D59 -> 21780000 | F59: 6.6 | G59: 3300000 | H59: =F59*G59 -> 21780000 | I59: =E59-H59 -> 0
A60: Szociális étkeztetés | B60: III. 2.c | C60: 295 | D60: 65360 | E60: =C60*D60 -> 19281200 | F60: 290 | G60: 55360 | H60: =F60*G60 -> 16054400 | I60: =E60-H60 -> 3226800
A61: Házi segítségnyújtás
A62: Szociális segítés | B62: III. 2.da | C62: 5 | D62: 25000 | E62: =C62*D62 -> 125000 | F62: 5 | G62: 25000 | H62: =F62*G62 -> 125000 | I62: =E62-H62 -> 0
A63: Személyi gondozás | B63: III. 2.db | C63: 50 | D63: 330000 | E63: =C63*D63 -> 16500000 | F63: 52 | G63: 330000 | H63: =F63*G63 -> 17160000 | I63: =E63-H63 -> -660000
A64: Tanyagondnoki szolgáltatás | B64: III. 2.e | C64: 4 | D64: 4250000 | E64: =C64*D64 -> 17000000 | F64: 4 | G64: 3100000 | H64: =F64*G64 -> 12400000 | I64: =E64-H64 -> 4600000
A65: Időskorúak nappali intézményi ellátása | B65: III. 2.f(1) | C65: 30 | D65: 190000 | E65: =C65*D65 -> 5700000 | F65: 30 | G65: 109000 | H65: =F65*G65 -> 3270000 | I65: =E65-H65 -> 2430000
A66: Fogyatékos és demens személyek nappali intézményi ell. | B66: III. 2.g(1) | C66: 40 | D66: 689000 | E66: =C66*D66 -> 27560000 | F66: 40 | G66: 500000 | H66: =F66*G66 -> 20000000 | I66: =E66-H66 -> 7560000
A67: Hajléktalanok nappali intézményi ellátása | B67: III. 2.i(1) | C67: 120 | D67: 239100 | E67: =C67*D67 -> 28692000 | F67: 120 | G67: 206100 | H67: =F67*G67 -> 24732000 | I67: =E67-H67 -> 3960000
A68: Bölcsődei ellátás - nem fogyatékos, nem hátrányos helyzetű | B68: III. 3.ja(1) | I68: =E68-H68 -> 0
A69: Bölcsődei ellátás - nem fogyatékos, hátrányos helyz. | B69: III. 3.ja(2) | I69: =E69-H69 -> 0
A70: Bölcsődei ellátás - nem fogyatékos, halmozottan hátrányos helyz. | B70: III. 3.ja(3) | I70: =E70-H70 -> 0
A71: Bölcsődei ellátás - fogyatékos gyermek | B71: III. 3.ja(4) | I71: =E71-H71 -> 0
A72: Hajléktalanok átmeneti intézményei | B72: III. 2.k(1) | C72: 139 | D72: 569350 | E72: =C72*D72 -> 79139650 | F72: 139 | G72: 490000 | H72: =F72*G72 -> 68110000 | I72: =E72-H72 -> 11029650
A73: Óvodai és iskolai szociális segítő tevékenység | B73: III. 2.n | E73: 25748836 | H73: 24977740 | I73: =E73-H73 -> 771096
A74: Bölcsőde, minibölcsőde támogtása | B74: III. 3.a | E74: =SUM(E75:E76) -> 130673500 | H74: =SUM(H75:H76) -> 129509400 | I74: =E74-H74 -> 1164100
A75: Bölcsőde szakmai dolgozók bértámogatása | C75: 30.5 | D75: 2993000 | E75: =C75*D75 -> 91286500 | F75: 29.8 | G75: 2993000 | H75: =F75*G75 -> 89191400 | I75: =E75-H75 -> 2095100
A76: Bölcsődei üzemeltetési támogatás | E76: 39387000 | H76: 40318000 | I76: =E76-H76 -> -931000
A77: Egyes szociális szakosított ellátások, valamint gyermekek átmeneti gondozásával kapcsolatos feladatok támogatása | B77: III. 4. | E77: =E78+E82 -> 317051888 | H77: =H78+H82 -> 244884000 | I77: =E77-H77 -> 72167888
A78: A finanszírozás szempontjából elismert szakmai dolgozók bértámogatása | B78: III. 4.a | C78: 57.2 | D78: 3858040 | E78: =C78*D78 -> 220679888 | F78: 58.25 | G78: 2848000 | H78: =F78*G78 -> 165896000 | I78: =E78-H78 -> 54783888
A79: Időskorúak ápoló-gondozó otthoni ellátása, időskorúak gondozóháza | C79: 48 | D79: 3858040 | E79: =C79*D79 -> 185185920 | F79: 48 | G79: 2848000 | H79: =F79*G79 -> 136704000 | I79: =E79-H79 -> 48481920
A80: Családok átmeneti otthona | C80: 9 | D80: 3858040 | E80: =C80*D80 -> 34722360 | F80: 10 | G80: 2848000 | H80: =F80*G80 -> 28480000 | I80: =E80-H80 -> 6242360
A81: Helyettes szülő | C81: 0.2 | D81: 3858040 | E81: =C81*D81 -> 771608 | F81: 0.25 | G81: 2848000 | H81: =F81*G81 -> 712000 | I81: =E81-H81 -> 59608
A82: Intézmény-üzemeltetési támogatás | B82: III. 4.b | E82: =SUM(E83:E84) -> 96372000 | H82: 78988000 | I82: =E82-H82 -> 17384000
A83: Időskorúak ápoló-gondozó otthoni ellátása, időskorúak gondozóháza | E83: ='[1]Intézményi ktgv'!F109 -> 77591000 | H83: 65997970 | I83: =E83-H83 -> 11593030
A84: Gyermekek és családok átmeneti otthona | E84: ='[1]Intézményi ktgv'!F149 -> 18781000 | H84: 12990030 | I84: =E84-H84 -> 5790970
A85: Gyermekétkeztetés támogatása | E85: =SUM(E86:E89) -> 233531478 | H85: =SUM(H86:H89) -> 211090294 | I85: =E85-H85 -> 22441184
A86: Finanszírozási szempontból elismert dolgozók bértámogatása | B86: III.5.aa) | C86: 54.26 | D86: 2200000 | E86: =C86*D86 -> 119372000 | F86: 54.13 | G86: 1900000 | H86: =F86*G86 -> 102847000 | I86: =E86-H86 -> 16525000
A87: Bölcsődében elhelyezett gyermekek étkeztetésének támogatása
A88: Gyermekétkeztetés üzemeltetési támogatása | B88: III.5.ab) | E88: 112129366 | H88: 105678978 | I88: =E88-H88 -> 6450388
A89: Rászoruló gyermekek intézményen kívüli szünidei étkeztetése | B89: III.5.b) | C89: 5936 | D89: 342 | E89: =C89*D89 -> 2030112 | F89: 7498 | G89: 342 | H89: =F89*G89 -> 2564316 | I89: =E89-H89 -> -534204
A90: Összesen | E90: =E54+E57+E59+E60+E61+E62+E63+E64+E65+E66+E67+E72+E73+E78+E82+E86+E87+E88+E89+E75+E76 -> 935703552 | H90: =H54+H57+H59+H60+H61+H62+H63+H64+H65+H66+H67+H72+H73+H78+H82+H86+H87+H88+H89+H75+H76 -> 807012834 | I90: =E90-H90 -> 128690718
A91: I., II., III. összesen | E91: =E31+E52+E90 -> 1717058878 | H91: =H31+H52+H90 -> 1.506979e+09 | I91: =E91-H91 -> 2.1007984e+08
A92: A települési önkormányzatok kulturális feladatainak támgatása
A93: Települési önkormányzatok nyilvános könyvtári és közművelődési feladatainak támogatása | B93: IV. 1.b) | C93: 30155 | D93: 1251 | E93: =C93*D93 -> 37723905 | F93: 30271 | G93: 1210 | H93: =F93*G93 -> 36627910 | I93: =E93-H93 -> 1095995
A94: Települési önkormányzatok muzeális intézményi feladatainak támogatása | B94: 3. mell. | E94: 20757000 | H94: 20757000 | I94: =E94-H94 -> 0
A95: A települési önkormányzatok könyvtári célú érdekeltségnövelő támogatása | B95: IV. 1.i) | E95: 2015. márc. 31. | H95: 2015. márc. 31.
A96: Összesen | E96: =SUM(E93:E94) -> 58480905 | H96: =SUM(H93:H94) -> 57384910 | I96: =E96-H96 -> 1095995
A97: Mindösszesen | E97: =E31+E52+E90+E96 -> 1775539783 | H97: =H31+H52+H90+H96 -> 1.564364e+09 | I97: =E97-H97 -> 2.1117583e+08
D99: I. | E99: 255183826
D100: II. | E100: 526171500
D101: III. | E101: 935703552
D102: IV. | E102: 37723905
E103: =SUM(E99:E102) -> 1754782783

Sheet 2018-2020mérleg
A1: Kiskunfélegyháza Város Önkormányzata | BB1: 2. tábla
A2: Önkormányzati bevételek és kiadások mérlegszerű bemutatása 2018-2020. években
BD3: me: ezer Ft
A4: BEVÉTELEK | B4: 2018 | C4: 2019 | R4: 2020 | S4: KIADÁSOK | T4: Változás | U4: Módos. | V4: Válto- | W4: Módos. | X4: Válto- | Y4: Módos. | Z4: Válto- | AA4: Módos. | AB4: Válto- | AC4: Módos. | AD4: Válto- | AE4: Módos. | AF4: Válto- | AG4: Módos. | AH4: Módos. | AI4: Módos. | AJ4: Válto- | AK4: Módos. | AL4: Válto- | AM4: Módos. | AN4: 2018 | AO4: 2019 | BD4: 2020
A5: rovatszám szerint | B5: tény | C5: eredeti ei. | F5: zás | G5: ei. | H5: zás | I5: ei. | J5: zás | K5: ei. | L5: zás | M5: ei. | N5: zás | O5: ei. | P5: zás | Q5: várható | R5: tervezet | S5: rovatszám szerint | U5: ei. | V5: zás | W5: ei. | X5: zás | Y5: ei. | Z5: zás | AA5: ei. | AB5: zás | AC5: ei. | AD5: zás | AE5: ei. | AF5: zás | AG5: ei. | AH5: ei. | AI5: ei. | AJ5: zás | AK5: ei. | AL5: zás | AM5: ei. | AN5: tény | AO5: eredeti ei. | AR5: zás | AS5: ei. | AT5: zás | AU5: ei. | AV5: zás | AW5: ei. | AX5: zás | AY5: ei. | AZ5: zás | BA5: ei. | BB5: zás | BC5: várható | BD5: tervezet
A6: 1. Működési célú támogatások államháztartáson belülről | B6: 1759153 | C6: 1967876 | Q6: 2366418 | R6: =kv.mérleg!U6 -> 2116986 | S6: 1. Személyi juttatások | T6: =#REF! -> #REF! | U6: =#REF! -> #REF! | V6: =#REF! -> #REF! | W6: =#REF! -> #REF! | X6: =#REF! -> #REF! | Y6: =#REF! -> #REF! | Z6: =#REF! -> #REF! | AA6: =#REF! -> #REF! | ... AM6: =#REF! -> #REF! | AN6: 2097319 | AO6: 2123129 | BC6: 2258696 | BD6: =kv.mérleg!AR6 -> 2212552
A7: 2. Felhalmozási célú támogatások áht-n belülről | B7: 12002 | C7: 1657096 | Q7: 2283175 | R7: =kv.mérleg!U7 -> 712209 | S7: 2. Munkaadókat terhelő járulékok | T7: =#REF! -> #REF! | U7: =#REF! -> #REF! | V7: =#REF! -> #REF! | W7: =#REF! -> #REF! | X7: =#REF! -> #REF! | Y7: =#REF! -> #REF! | Z7: =#REF! -> #REF! | AA7: =#REF! -> #REF! | ... AM7: =#REF! -> #REF! | AN7: 409709.4 | AO7: 407970 | BC7: 432370 | BD7: =kv.mérleg!AR7 -> 389049
A8: 3. Közhatalmi bevételek | B8: 1846635 | C8: 2050415 | Q8: 2082115 | R8: =kv.mérleg!U8 -> 2124850 | S8: 3. Dologi kiadások | T8: =#REF! -> #REF! | U8: =#REF! -> #REF! | V8: =#REF! -> #REF! | W8: =#REF! -> #REF! | X8: =#REF! -> #REF! | Y8: =#REF! -> #REF! | Z8: =#REF! -> #REF! | AA8: =#REF! -> #REF! | ... AM8: =#REF! -> #REF! | AN8: 1476411 | AO8: 1213554 | BC8: 1690190 | BD8: =kv.mérleg!AR8 -> 1228220
A9: 4. Működési bevételek | B9: 1124985 | C9: 982237 | Q9: 1000168 | R9: =kv.mérleg!U9 -> 794541 | S9: 4. Ellátottak pénzbeli juttatásai | T9: =#REF! -> #REF! | U9: =#REF! -> #REF! | V9: =#REF! -> #REF! | W9: =#REF! -> #REF! | X9: =#REF! -> #REF! | Y9: =#REF! -> #REF! | Z9: =#REF! -> #REF! | AA9: =#REF! -> #REF! | ... AM9: =#REF! -> #REF! | AN9: 60015 | AO9: 73164 | BC9: 58500 | BD9: =kv.mérleg!AR9 -> 31960
A10: 5. Felhalmozási bevételek | B10: 100000 | C10: 150000 | Q10: 150100 | R10: =kv.mérleg!U10 -> 172952 | S10: 5. Egyéb működési célú kiadások | T10: =#REF! -> #REF! | U10: =#REF! -> #REF! | V10: =#REF! -> #REF! | W10: =#REF! -> #REF! | X10: =#REF! -> #REF! | Y10: =#REF! -> #REF! | Z10: =#REF! -> #REF! | AA10: =#REF! -> #REF! | ... AM10: =#REF! -> #REF! | AN10: 536645 | AO10: 671084 | BC10: 905753 | BD10: =kv.mérleg!AR10 -> 720957
A11: 6. Működési célú átvett pénzeszközök | B11: 0 | Q11: 39962 | R11: =kv.mérleg!U11 -> 36544 | S11: 6. Beruházási kiadások | T11: =#REF! -> #REF! | U11: =#REF! -> #REF! | V11: =#REF! -> #REF! | W11: =#REF! -> #REF! | X11: =#REF! -> #REF! | Y11: =#REF! -> #REF! | Z11: =#REF! -> #REF! | AA11: =#REF! -> #REF! | ... AM11: =#REF! -> #REF! | AN11: 1516433 | AO11: 4875770 | BC11: 5361782 | BD11: =kv.mérleg!AR11 -> 2914307
A12: 7. Felhalmozási célú átvett pénzeszközök | B12: 104418 | C12: 26529 | Q12: 7703 | R12: =kv.mérleg!U12 -> 27958 | S12: 7. Felújítási kiadások | T12: =#REF! -> #REF! | U12: =#REF! -> #REF! | V12: =#REF! -> #REF! | W12: =#REF! -> #REF! | X12: =#REF! -> #REF! | Y12: =#REF! -> #REF! | Z12: =#REF! -> #REF! | AA12: =#REF! -> #REF! | ... AM12: =#REF! -> #REF! | AN12: 561463 | AO12: 456890 | BC12: 557051 | BD12: =kv.mérleg!AR12 -> 614693
S13: 8. Egyéb felhalmozási célú kiadások | T13: =#REF! -> #REF! | U13: =#REF! -> #REF! | V13: =#REF! -> #REF! | W13: =#REF! -> #REF! | X13: =#REF! -> #REF! | Y13: =#REF! -> #REF! | Z13: =#REF! -> #REF! | AA13: =#REF! -> #REF! | ... AM13: =#REF! -> #REF! | AN13: 1970721 | AO13: 118818 | BC13: 46669 | BD13: =kv.mérleg!AR13 -> 321110
A14: Tárgyévi költségvetési bevételek | B14: =SUM(B6:B13) -> 4947193 | C14: =SUM(C6:C13) -> 6834153 | D14: =SUM(D6:D13) -> 0 | E14: =SUM(E6:E13) -> 0 | F14: =SUM(F6:F13) -> 0 | G14: =SUM(G6:G13) -> 0 | H14: =SUM(H6:H13) -> 0 | I14: =SUM(I6:I13) -> 0 | ... R14: =SUM(R6:R13) -> 5986040 | S14: Tárgyévi költségvetési kiadások | T14: =SUM(T6:T13) -> #REF! | U14: =SUM(U6:U13) -> #REF! | V14: =SUM(V6:V13) -> #REF! | W14: =SUM(W6:W13) -> #REF! | X14: =SUM(X6:X13) -> #REF! | Y14: =SUM(Y6:Y13) -> #REF! | Z14: =SUM(Z6:Z13) -> #REF! | AA14: =SUM(AA6:AA13) -> #REF! | ... BD14: =SUM(BD6:BD13) -> 8432848
A15: Tárgyévi költségvetési bevételek és kiadások egyenlege | T15: =#REF!-T14 -> #REF! | U15: =#REF!-U14 -> #REF! | V15: =#REF!-V14 -> #REF! | W15: =#REF!-W14 -> #REF! | X15: =#REF!-X14 -> #REF! | Y15: =#REF!-Y14 -> #REF! | Z15: =#REF!-Z14 -> #REF! | AA15: =#REF!-AA14 -> #REF! | ... AL15: =#REF!-AL14 -> #REF! | AM15: =B14-AM14 -> #REF! | AN15: =B14-AN14 -> -3681523.4 | AO15: =C14-AO14 -> -3106226 | AP15: =D14-AP14 -> 0 | AQ15: =E14-AQ14 -> 0 | AR15: =F14-AR14 -> 0 | AS15: =G14-AS14 -> 0 | AT15: =H14-AT14 -> 0 | AU15: =I14-AU14 -> 0 | ... BD15: =R14-BD14 -> -2446808
A16: Működési költségvetés egyenlege | T16: =(#REF!+#REF!+#REF!+#REF!)-(T6+T7+T8+T9+T10) -> #REF! | U16: =(#REF!+#REF!+#REF!+#REF!)-(U6+U7+U8+U9+U10) -> #REF! | V16: =(#REF!+#REF!+#REF!+#REF!)-(V6+V7+V8+V9+V10) -> #REF! | W16: =(#REF!+#REF!+#REF!+#REF!)-(W6+W7+W8+W9+W10) -> #REF! | X16: =(#REF!+#REF!+#REF!+#REF!)-(X6+X7+X8+X9+X10) -> #REF! | Y16: =(#REF!+#REF!+#REF!+#REF!)-(Y6+Y7+Y8+Y9+Y10) -> #REF! | Z16: =(#REF!+#REF!+#REF!+#REF!)-(Z6+Z7+Z8+Z9+Z10) -> #REF! | AA16: =(#REF!+#REF!+#REF!+#REF!)-(AA6+AA7+AA8+AA9+AA10) -> #REF! | ... AL16: =(#REF!+#REF!+#REF!+#REF!)-(AL6+AL7+AL8+AL9+AL10) -> #REF! | AM16: =(B6+B8+B9+B11)-(AM6+AM7+AM8+AM9+AM10) -> #REF! | AN16: 150674 | AO16: =(C6+C8+C9+C11)-(AO6+AO7+AO8+AO9+AO10) -> 511627 | AP16: =(D6+D8+D9+D11)-(AP6+AP7+AP8+AP9+AP10) -> 0 | AQ16: =(E6+E8+E9+E11)-(AQ6+AQ7+AQ8+AQ9+AQ10) -> 0 | AR16: =(F6+F8+F9+F11)-(AR6+AR7+AR8+AR9+AR10) -> 0 | AS16: =(G6+G8+G9+G11)-(AS6+AS7+AS8+AS9+AS10) -> 0 | AT16: =(H6+H8+H9+H11)-(AT6+AT7+AT8+AT9+AT10) -> 0 | AU16: =(I6+I8+I9+I11)-(AU6+AU7+AU8+AU9+AU10) -> 0 | AV16: =(J6+J8+J9+J11)-(AV6+AV7+AV8+AV9+AV10) -> 0 | ... BD16: =(R6+R8+R9+R11)-(BD6+BD7+BD8+BD9+BD10) -> 490183
A17: Felhalmozási költségvetés egyenlege | T17: =(#REF!+#REF!+#REF!)-(T11+T12+T13) -> #REF! | U17: =(#REF!+#REF!+#REF!)-(U11+U12+U13) -> #REF! | V17: =(#REF!+#REF!+#REF!)-(V11+V12+V13) -> #REF! | W17: =(#REF!+#REF!+#REF!)-(W11+W12+W13) -> #REF! | X17: =(#REF!+#REF!+#REF!)-(X11+X12+X13) -> #REF! | Y17: =(#REF!+#REF!+#REF!)-(Y11+Y12+Y13) -> #REF! | Z17: =(#REF!+#REF!+#REF!)-(Z11+Z12+Z13) -> #REF! | AA17: =(#REF!+#REF!+#REF!)-(AA11+AA12+AA13) -> #REF! | ... AL17: =(#REF!+#REF!+#REF!)-(AL11+AL12+AL13) -> #REF! | AM17: =(B7+B10+B12)-(AM11+AM12+AM13) -> #REF! | AN17: -3832197 | AO17: =(C7+C10+C12)-(AO11+AO12+AO13) -> -3617853 | AP17: =(D7+D10+D12)-(AP11+AP12+AP13) -> 0 | AQ17: =(E7+E10+E12)-(AQ11+AQ12+AQ13) -> 0 | AR17: =(F7+F10+F12)-(AR11+AR12+AR13) -> 0 | AS17: =(G7+G10+G12)-(AS11+AS12+AS13) -> 0 | AT17: =(H7+H10+H12)-(AT11+AT12+AT13) -> 0 | AU17: =(I7+I10+I12)-(AU11+AU12+AU13) -> 0 | AV17: =(J7+J10+J12)-(AV11+AV12+AV13) -> 0 | ... BD17: =(R7+R10+R12)-(BD11+BD12+BD13) -> -2936991
A18: 8. Finanszírozási bevételek | B18: 6151111 | C18: 5407368 | Q18: 5789355 | R18: =kv.mérleg!U18 -> 4881576 | S18: 9. Finanszírozási kiadások | T18: =#REF! -> #REF! | U18: =#REF! -> #REF! | V18: =#REF! -> #REF! | W18: =#REF! -> #REF! | X18: =#REF! -> #REF! | Y18: =#REF! -> #REF! | Z18: =#REF! -> #REF! | AA18: =#REF! -> #REF! | ... AM18: =#REF! -> #REF! | AN18: 2469588 | AO18: 2301142 | BC18: 2407985 | BD18: =kv.mérleg!AR18 -> 2434768
A19: ebből: központi irányítószervi támogatás | B19: 2421111 | C19: 2246490 | Q19: 2353333 | R19: =kv.mérleg!U19 -> 2364576 | S19: ebből: központi irányítószervi támogatás | T19: =#REF! -> #REF! | U19: =#REF! -> #REF! | V19: =#REF! -> #REF! | W19: =#REF! -> #REF! | X19: =#REF! -> #REF! | Y19: =#REF! -> #REF! | Z19: =#REF! -> #REF! | AA19: =#REF! -> #REF! | ... AL19: =#REF! -> #REF! | AM19: =B19 -> 2421111 | AN19: =B19 -> 2421111 | AO19: =C19 -> 2246490 | AP19: =D19 -> 0 | AQ19: =E19 -> 0 | AR19: =F19 -> 0 | AS19: =G19 -> 0 | AT19: =H19 -> 0 | AU19: =I19 -> 0 | ... BD19: =R19 -> 2364576
A20: Bevételek összesen | B20: =B14+B18 -> 11098304 | C20: =C14+C18 -> 12241521 | D20: =D14+D18 -> 0 | E20: =E14+E18 -> 0 | F20: =F14+F18 -> 0 | G20: =G14+G18 -> 0 | H20: =H14+H18 -> 0 | I20: =I14+I18 -> 0 | ... R20: =R14+R18 -> 10867616 | S20: Kiadások összesen | T20: =T14+T18 -> #REF! | U20: =U14+U18 -> #REF! | V20: =V14+V18 -> #REF! | W20: =W14+W18 -> #REF! | X20: =X14+X18 -> #REF! | Y20: =Y14+Y18 -> #REF! | Z20: =Z14+Z18 -> #REF! | AA20: =AA14+AA18 -> #REF! | ... BD20: =BD14+BD18 -> 10867616
A21: ebből: működési bevételek | B21: 8363369 | C21: 8351947 | Q21: 9090331 | R21: =kv.mérleg!U21 -> 8293875 | S21: ebből: működési kiadások | T21: =#REF! -> #REF! | U21: =#REF! -> #REF! | V21: =#REF! -> #REF! | W21: =#REF! -> #REF! | X21: =#REF! -> #REF! | Y21: =#REF! -> #REF! | Z21: =#REF! -> #REF! | AA21: =#REF! -> #REF! | ... AM21: =#REF! -> #REF! | AN21: 7049687 | AO21: 6790043 | BC21: 7753494 | BD21: =kv.mérleg!AR21 -> 7017506
A22: felhalmozási bevételek | B22: 2734935 | C22: 3889574 | Q22: 4628665 | R22: =kv.mérleg!U22 -> 2573741 | S22: felhalmozási kiadások | T22: =#REF! -> #REF! | U22: =#REF! -> #REF! | V22: =#REF! -> #REF! | W22: =#REF! -> #REF! | X22: =#REF! -> #REF! | Y22: =#REF! -> #REF! | Z22: =#REF! -> #REF! | AA22: =#REF! -> #REF! | ... AM22: =#REF! -> #REF! | AN22: 4048617 | AO22: 5451478 | BC22: 5965502 | BD22: =kv.mérleg!AR22 -> 3850110
A23: Tárgyévi költségvetési bevételek és kiadások egyenlege (hiány, többlet) | T23: =#REF! -> #REF! | U23: =#REF! -> #REF! | V23: =#REF! -> #REF! | W23: =#REF! -> #REF! | X23: =#REF! -> #REF! | Y23: =#REF! -> #REF! | Z23: =#REF! -> #REF! | AA23: =#REF! -> #REF! | ... AM23: =#REF! -> #REF! | AN23: -0.4 | AO23: -0.4 | AP23: -0.4 | AQ23: -0.4 | AR23: -0.4 | AS23: -0.4 | AT23: -0.4 | AU23: -0.4 | AV23: -0.4 | AW23: -0.4 | AX23: -0.4 | AY23: -0.4 | AZ23: -0.4 | BA23: -0.4 | BB23: -0.4 | BC23: -0.4 | BD23: -0.4
A24: Működési költségvetés egyenlege | T24: =#REF! -> #REF! | U24: =#REF! -> #REF! | V24: =#REF! -> #REF! | W24: =#REF! -> #REF! | X24: =#REF! -> #REF! | Y24: =#REF! -> #REF! | Z24: =#REF! -> #REF! | AA24: =#REF! -> #REF! | ... AM24: =#REF! -> #REF! | AN24: 1313682 | AO24: 1561904 | BC24: 1336837 | BD24: =kv.mérleg!AR24 -> 1276369
A25: Felhalmozási költségvetés egyenlege | T25: =#REF! -> #REF! | U25: =#REF! -> #REF! | V25: =#REF! -> #REF! | W25: =#REF! -> #REF! | X25: =#REF! -> #REF! | Y25: =#REF! -> #REF! | Z25: =#REF! -> #REF! | AA25: =#REF! -> #REF! | ... AM25: =#REF! -> #REF! | AN25: -1313682 | AO25: -1561904 | BC25: -1336837 | BD25: =kv.mérleg!AR25 -> -1276369
A26: Bevételek központi irányítószervi támogatás nélkül | B26: =B20-B19 -> 8677193 | C26: =C20-C19 -> 9995031 | D26: =D20-D19 -> 0 | E26: =E20-E19 -> 0 | F26: =F20-F19 -> 0 | G26: =G20-G19 -> 0 | H26: =H20-H19 -> 0 | I26: =I20-I19 -> 0 | ... R26: =R20-R19 -> 8503040 | S26: Kiadások központi irányítószervi támogatás nélkül | T26: =T20-T19 -> #REF! | U26: =U20-U19 -> #REF! | V26: =V20-V19 -> #REF! | W26: =W20-W19 -> #REF! | X26: =X20-X19 -> #REF! | Y26: =Y20-Y19 -> #REF! | Z26: =Z20-Z19 -> #REF! | AA26: =AA20-AA19 -> #REF! | ... BD26: =BD20-BD19 -> 8503040
T27: =#REF!-T26 -> #REF! | U27: =#REF!-U26 -> #REF! | V27: =#REF!-V26 -> #REF! | W27: =#REF!-W26 -> #REF! | X27: =#REF!-X26 -> #REF! | Y27: =#REF!-Y26 -> #REF! | Z27: =#REF!-Z26 -> #REF! | AA27: =#REF!-AA26 -> #REF! | ... AL27: =#REF!-AL26 -> #REF! | AM27: =B26-AM26 -> #REF! | AN27: =B26-AN26 -> -0.4 | AO27: =C26-AO26 -> 0 | AP27: =D26-AP26 -> 0 | AQ27: =E26-AQ26 -> 0 | AR27: =F26-AR26 -> 0 | AS27: =G26-AS26 -> 0 | AT27: =H26-AT26 -> 0 | AU27: =I26-AU26 -> 0 | ... BD27: =R26-BD26 -> 0

Sheet bérkomp.
J1: 1. tábla
A2: Költségvetési szerveknél foglalkoztatottak 2020. évi bérkompenzációja
J3: me: ezer Ft
A4: Megnevezés | B4: 2019.12 hó után járó (eFt) | E4: 2020.01. hó után járó (eFt) | H4: 2020. I.rend.mód.
B5: közterhekkel növelt bruttó összeg | C5: bruttó bér | D5: szoc.hj.adó | E5: közterhekkel növelt bruttó összeg | F5: bruttó bér | G5: szoc.hj.adó | H5: finanszírozás | I5: bruttó bér | J5: szoc.hj.adó
A6: Polgármesteri Hivatal | B6: =C6+D6 -> 88 | C6: 75 | D6: 13 | E6: =F6+G6 -> 74 | F6: 63 | G6: 11 | H6: =B6+E6 -> 162 | I6: =C6+F6 -> 138 | J6: =D6+G6 -> 24
A7: Napközi Otthonos Óvoda | B7: =C7+D7 -> 23 | C7: 20 | D7: 3 | E7: =F7+G7 -> 11 | F7: 9 | G7: 2 | H7: =B7+E7 -> 34 | I7: =C7+F7 -> 29 | J7: =D7+G7 -> 5
A8: P.S. Városi Könyvtár | B8: =C8+D8 -> 45 | C8: 38 | D8: 7 | E8: =F8+G8 -> 9 | F8: 7 | G8: 2 | H8: =B8+E8 -> 54 | I8: =C8+F8 -> 45 | J8: =D8+G8 -> 9
A9: Kapocs Szociális Gy.és Eü-i I. | B9: =C9+D9 -> 176 | C9: 150 | D9: 26 | E9: =F9+G9 -> 116 | F9: 99 | G9: 17 | H9: =B9+E9 -> 292 | I9: =C9+F9 -> 249 | J9: =D9+G9 -> 43
A10: Szivárvány Sz. G. Ny. Intézmény | B10: =C10+D10 -> 85 | C10: 72 | D10: 13 | E10: =F10+G10 -> 45 | F10: 38 | G10: 7 | H10: =B10+E10 -> 130 | I10: =C10+F10 -> 110 | J10: =D10+G10 -> 20
A11: Védőnői Szolgálat | B11: =C11+D11 -> 210 | C11: 179 | D11: 31 | E11: =F11+G11 -> 201 | F11: 171 | G11: 30 | H11: =B11+E11 -> 411 | I11: =C11+F11 -> 350 | J11: =D11+G11 -> 61
A12: Kiskun Múzeum | B12: =C12+D12 -> 5 | C12: 4 | D12: 1 | E12: =F12+G12 -> 0 | H12: =B12+E12 -> 5 | I12: =C12+F12 -> 4 | J12: =D12+G12 -> 1
A13: M.F. Művelődési Központ | B13: =C13+D13 -> 4 | C13: 3 | D13: 1 | E13: =F13+G13 -> 5 | F13: 4 | G13: 1 | H13: =B13+E13 -> 9 | I13: =C13+F13 -> 7 | J13: =D13+G13 -> 2
A14: Önkormányzat | B14: =C14+D14 -> 1 | C14: 1 | E14: =F14+G14 -> 0 | I14: =C14+F14 -> 1 | J14: =D14+G14 -> 0
A15: önkormányzat összesen: | B15: =C15+D15 -> 637 | C15: =SUM(C6:C14) -> 542 | D15: =SUM(D6:D14) -> 95 | E15: =SUM(E6:E14) -> 461 | F15: =SUM(F6:F14) -> 391 | G15: =SUM(G6:G14) -> 70 | H15: =SUM(H6:H14) -> 1097 | I15: =SUM(I6:I14) -> 933 | J15: =SUM(J6:J14) -> 165

Sheet kv.mérleg
A1: Kiskunfélegyháza Város Önkormányzata | AS1: 1. melléklet | BP1: 1. sz. melléklet
A2: 2020. ÉVI KÖLTSÉGVETÉSI MÉRLEG
AT3: me: ezer Ft
A4: BEVÉTELEK | B4: 2019. | C4: Válto- | D4: Módos. | E4: Válto- | F4: Módos. | G4: Válto- | H4: Módos. | I4: Válto- | J4: Módos. | K4: Válto- | L4: Módos. | M4: Válto- | N4: Módos. | O4: Válto- | P4: Módos. | Q4: Válto- | R4: Módos. | S4: Válto- | T4: 2019. | U4: 2020. | V4: Válto- | W4: Módos. | X4: KIADÁSOK | Y4: 2019. | Z4: Válto- | AA4: Módos. | AB4: Válto- | AC4: Módos. | AD4: Válto- | AE4: Módos. | AF4: Válto- | AG4: Módos. | AH4: Válto- | AI4: Módos. | AJ4: Válto- | AK4: Módos. | AL4: Válto- | AM4: Módos. | AN4: Válto- | AP4: Válto- | AQ4: 2019. | AR4: 2020. | AS4: Válto- | AT4: Módos.
A5: rovatszám szerint | B5: eredeti ei. | C5: zás | D5: ei. | E5: zás | F5: ei. | G5: zás | H5: ei. | I5: zás | J5: ei. | K5: zás | L5: ei. | M5: zás | N5: ei. | O5: zás | P5: ei. | Q5: zás | R5: ei. | S5: zás | T5: várható | U5: eredeti ei. | V5: zás | W5: ei. | X5: rovatszám szerint | Y5: eredeti ei. | Z5: zás | AA5: ei. | AB5: zás | AC5: ei. | AD5: zás | AE5: ei. | AF5: zás | AG5: ei. | AH5: zás | AI5: ei. | AJ5: zás | AK5: ei. | AL5: zás | AM5: ei. | AN5: zás | AP5: zás | AQ5: várható | AR5: eredeti ei. | AS5: zás | AT5: ei.
A6: 1. Működési célú támogatások államháztartáson belülről | B6: ='intézményi.részl. '!P239 -> 1967876 | C6: ='intézményi.részl. '!Q239 -> 24622 | D6: ='intézményi.részl. '!R239 -> 1992498 | E6: ='intézményi.részl. '!S239 -> 38480 | F6: ='intézményi.részl. '!T239 -> 2030978 | G6: ='intézményi.részl. '!U239 -> 18615 | H6: ='intézményi.részl. '!V239 -> 2049593 | I6: ='intézményi.részl. '!W239 -> 224760 | ... W6: ='intézményi.részl. '!AK239 -> 2193963 | X6: 1. Személyi juttatások | Y6: ='intézményi.részl. '!AM239 -> 2123129 | Z6: ='intézményi.részl. '!AN239 -> #REF! | AA6: ='intézményi.részl. '!AO239 -> #REF! | AB6: ='intézményi.részl. '!AP239 -> #REF! | AC6: ='intézményi.részl. '!AQ239 -> #REF! | AD6: ='intézményi.részl. '!AR239 -> 13062 | AE6: ='intézményi.részl. '!AS239 -> #REF! | AF6: ='intézményi.részl. '!AT239 -> 7455 | ... AJ6: ='intézményi.részl. '!AX239 -> 10266 | AK6: 2230957 | AL6: ='intézményi.részl. '!AZ239 -> 11832 | AM6: 2248831 | AN6: ='intézményi.részl. '!BB239 -> 3381 | AO6: ='intézményi.részl. '!BC239 -> 2251477 | AP6: ='intézményi.részl. '!BD239 -> 7219 | AQ6: ='intézményi.részl. '!BE239 -> 2258696 | AR6: ='intézményi.részl. '!BF239 -> 2212552 | AS6: ='intézményi.részl. '!BG239 -> 24474 | AT6: ='intézményi.részl. '!BH239 -> 2237026
A7: 2. Felhalmozási célú támogatások áht-n belülről | B7: ='intézményi.részl. '!P240 -> 1657096 | C7: ='intézményi.részl. '!Q240 -> 0 | D7: ='intézményi.részl. '!R240 -> 1657096 | E7: ='intézményi.részl. '!S240 -> 0 | F7: ='intézményi.részl. '!T240 -> 1657096 | G7: ='intézményi.részl. '!U240 -> 0 | H7: ='intézményi.részl. '!V240 -> 1657096 | I7: ='intézményi.részl. '!W240 -> 140000 | ... W7: ='intézményi.részl. '!AK240 -> 712720 | X7: 2. Munkaadókat terhelő járulékok | Y7: ='intézményi.részl. '!AM240 -> 407970 | Z7: ='intézményi.részl. '!AN240 -> #REF! | AA7: ='intézményi.részl. '!AO240 -> #REF! | AB7: ='intézményi.részl. '!AP240 -> 7007 | AC7: ='intézményi.részl. '!AQ240 -> #REF! | AD7: ='intézményi.részl. '!AR240 -> 2521 | AE7: ='intézményi.részl. '!AS240 -> #REF! | AF7: ='intézményi.részl. '!AT240 -> 42112 | ... AL7: ='intézményi.részl. '!AZ240 -> 43037 | AM7: 432391 | AN7: ='intézményi.részl. '!BB240 -> 39742 | AO7: ='intézményi.részl. '!BC240 -> 472133 | AP7: ='intézményi.részl. '!BD240 -> 41743 | AQ7: ='intézményi.részl. '!BE240 -> 432370 | AR7: ='intézményi.részl. '!BF240 -> 389049 | AS7: ='intézményi.részl. '!BG240 -> 4285 | AT7: ='intézményi.részl. '!BH240 -> 393334
A8: 3. Közhatalmi bevételek | B8: ='intézményi.részl. '!P241 -> 2050415 | C8: ='intézményi.részl. '!Q241 -> 0 | D8: ='intézményi.részl. '!R241 -> 2050415 | E8: ='intézményi.részl. '!S241 -> 0 | F8: ='intézményi.részl. '!T241 -> 2050415 | G8: ='intézményi.részl. '!U241 -> 0 | H8: ='intézményi.részl. '!V241 -> 2050415 | I8: ='intézményi.részl. '!W241 -> 0 | ... W8: ='intézményi.részl. '!AK241 -> 2124850 | X8: 3. Dologi kiadások | Y8: ='intézményi.részl. '!AM241 -> 1213554 | Z8: ='intézményi.részl. '!AN241 -> #REF! | AA8: ='intézményi.részl. '!AO241 -> #REF! | AB8: ='intézményi.részl. '!AP241 -> 118508 | AC8: ='intézményi.részl. '!AQ241 -> #REF! | AD8: ='intézményi.részl. '!AR241 -> 30216 | AE8: ='intézményi.részl. '!AS241 -> #REF! | AF8: ='intézményi.részl. '!AT241 -> 165169 | ... AL8: ='intézményi.részl. '!AZ241 -> 96586 | AM8: 1431469 | AN8: ='intézményi.részl. '!BB241 -> 108438 | AO8: ='intézményi.részl. '!BC241 -> 1591789 | AP8: ='intézményi.részl. '!BD241 -> 94901 | AQ8: ='intézményi.részl. '!BE241 -> 1686690 | AR8: ='intézményi.részl. '!BF241 -> 1228220 | AS8: ='intézményi.részl. '!BG241 -> -39730 | AT8: ='intézményi.részl. '!BH241 -> 1188490
A9: 4. Működési bevételek | B9: ='intézményi.részl. '!P242 -> 982236.99 | C9: ='intézményi.részl. '!Q242 -> 0 | D9: ='intézményi.részl. '!R242 -> 982236.99 | E9: ='intézményi.részl. '!S242 -> 1893 | F9: ='intézményi.részl. '!T242 -> 984129.99 | G9: ='intézményi.részl. '!U242 -> 3017 | H9: ='intézményi.részl. '!V242 -> 987146.99 | I9: ='intézményi.részl. '!W242 -> 4281 | ... W9: ='intézményi.részl. '!AK242 -> 794541 | X9: 4. Ellátottak pénzbeli juttatásai | Y9: ='intézményi.részl. '!AM242 -> 73164 | Z9: ='intézményi.részl. '!AN242 -> #REF! | AA9: ='intézményi.részl. '!AO242 -> #REF! | AB9: ='intézményi.részl. '!AP242 -> #REF! | AC9: ='intézményi.részl. '!AQ242 -> 73164 | AD9: ='intézményi.részl. '!AR242 -> #REF! | AE9: ='intézményi.részl. '!AS242 -> #REF! | AF9: ='intézményi.részl. '!AT242 -> #REF! | ... AT9: ='intézményi.részl. '!BH242 -> 31960
A10: 5. Felhalmozási bevételek | B10: ='intézményi.részl. '!P243 -> 150000 | C10: ='intézményi.részl. '!Q243 -> 0 | D10: ='intézményi.részl. '!R243 -> 150000 | E10: ='intézményi.részl. '!S243 -> 100 | F10: ='intézményi.részl. '!T243 -> 150100 | G10: ='intézményi.részl. '!U243 -> 0 | H10: ='intézményi.részl. '!V243 -> 150100 | I10: ='intézményi.részl. '!W243 -> 0 | ... W10: ='intézményi.részl. '!AK243 -> 172952 | X10: 5. Egyéb működési célú kiadások | Y10: ='intézményi.részl. '!AM243 -> 671084 | Z10: ='intézményi.részl. '!AN243 -> #REF! | AA10: ='intézményi.részl. '!AO243 -> #REF! | AB10: ='intézményi.részl. '!AP243 -> #REF! | AC10: ='intézményi.részl. '!AQ243 -> #REF! | AD10: ='intézményi.részl. '!AR243 -> #REF! | AE10: ='intézményi.részl. '!AS243 -> #REF! | AF10: ='intézményi.részl. '!AT243 -> #REF! | ... AT10: ='intézményi.részl. '!BH243 -> 749118
A11: 6. Működési célú átvett pénzeszközök | B11: ='intézményi.részl. '!P244 -> 0 | C11: ='intézményi.részl. '!Q244 -> 3381 | D11: ='intézményi.részl. '!R244 -> 3381 | E11: ='intézményi.részl. '!S244 -> 13851 | F11: ='intézményi.részl. '!T244 -> 17232 | G11: ='intézményi.részl. '!U244 -> 2811 | H11: ='intézményi.részl. '!V244 -> 20043 | I11: ='intézményi.részl. '!W244 -> 595 | ... W11: ='intézményi.részl. '!AK244 -> 36544 | X11: 6. Beruházási kiadások | Y11: ='intézményi.részl. '!AM244 -> 4875770 | Z11: ='intézményi.részl. '!AN244 -> #REF! | AA11: ='intézményi.részl. '!AO244 -> #REF! | AB11: ='intézményi.részl. '!AP244 -> #REF! | AC11: ='intézményi.részl. '!AQ244 -> #REF! | AD11: ='intézményi.részl. '!AR244 -> #REF! | AE11: ='intézményi.részl. '!AS244 -> #REF! | AF11: ='intézményi.részl. '!AT244 -> #REF! | ... AT11: ='intézményi.részl. '!BH244 -> 2974455
A12: 7. Felhalmozási célú átvett pénzeszközök | B12: ='intézményi.részl. '!P245 -> 26529 | C12: ='intézményi.részl. '!Q245 -> 0 | D12: ='intézményi.részl. '!R245 -> 26529 | E12: ='intézményi.részl. '!S245 -> 187 | F12: ='intézményi.részl. '!T245 -> 26716 | G12: ='intézményi.részl. '!U245 -> 370 | H12: ='intézményi.részl. '!V245 -> 27086 | I12: ='intézményi.részl. '!W245 -> 986 | ... W12: ='intézményi.részl. '!AK245 -> 27958 | X12: 7. Felújítási kiadások | Y12: ='intézményi.részl. '!AM245 -> 456890 | Z12: ='intézményi.részl. '!AN245 -> #REF! | AA12: ='intézményi.részl. '!AO245 -> #REF! | AB12: ='intézményi.részl. '!AP245 -> #REF! | AC12: ='intézményi.részl. '!AQ245 -> #REF! | AD12: ='intézményi.részl. '!AR245 -> #VALUE! | AE12: ='intézményi.részl. '!AS245 -> #REF! | AF12: ='intézményi.részl. '!AT245 -> #REF! | ... AT12: ='intézményi.részl. '!BH245 -> 614693
X13: 8. Egyéb felhalmozási célú kiadások | Y13: ='intézményi.részl. '!AM246 -> 118818 | Z13: ='intézményi.részl. '!AN246 -> #REF! | AA13: ='intézményi.részl. '!AO246 -> #REF! | AB13: ='intézményi.részl. '!AP246 -> #REF! | AC13: ='intézményi.részl. '!AQ246 -> #REF! | AD13: ='intézményi.részl. '!AR246 -> #REF! | AE13: ='intézményi.részl. '!AS246 -> #REF! | AF13: ='intézményi.részl. '!AT246 -> #REF! | ... AT13: ='intézményi.részl. '!BH246 -> 321260
A14: Tárgyévi költségvetési bevételek | B14: =SUM(B6:B13) -> 6834153 | C14: =SUM(C6:C13) -> 28003 | D14: =SUM(D6:D13) -> 6862156 | E14: =SUM(E6:E13) -> 54511 | F14: =SUM(F6:F13) -> 6916667 | G14: =SUM(G6:G13) -> 24813 | H14: =SUM(H6:H13) -> 6941480 | I14: =SUM(I6:I13) -> 370622 | ... W14: =SUM(W6:W13) -> 6063528 | X14: Tárgyévi költségvetési kiadások | Y14: =SUM(Y6:Y13) -> 9940379 | Z14: =SUM(Z6:Z13) -> #REF! | AA14: =SUM(AA6:AA13) -> #REF! | AB14: =SUM(AB6:AB13) -> #REF! | AC14: =SUM(AC6:AC13) -> #REF! | AD14: =SUM(AD6:AD13) -> #REF! | AE14: =SUM(AE6:AE13) -> #REF! | AF14: =SUM(AF6:AF13) -> #REF! | ... AT14: =SUM(AT6:AT13) -> 8510336
A15: Tárgyévi költségvetési bevételek és kiadások egyenlege | Y15: =B14-Y14 -> -3106226 | Z15: =C14-Z14 -> #REF! | AA15: =D14-AA14 -> #REF! | AB15: =E14-AB14 -> #REF! | AC15: =F14-AC14 -> #REF! | AD15: =G14-AD14 -> #REF! | AE15: =H14-AE14 -> #REF! | AF15: =I14-AF14 -> #REF! | ... AT15: =W14-AT14 -> -2446808
A16: Működési költségvetés egyenlege | Y16: =(B6+B8+B9+B11)-(Y6+Y7+Y8+Y9+Y10) -> 511626.99 | Z16: =(C6+C8+C9+C11)-(Z6+Z7+Z8+Z9+Z10) -> #REF! | AA16: =(D6+D8+D9+D11)-(AA6+AA7+AA8+AA9+AA10) -> #REF! | AB16: =(E6+E8+E9+E11)-(AB6+AB7+AB8+AB9+AB10) -> #REF! | AC16: =(F6+F8+F9+F11)-(AC6+AC7+AC8+AC9+AC10) -> #REF! | AD16: =(G6+G8+G9+G11)-(AD6+AD7+AD8+AD9+AD10) -> #REF! | AE16: =(H6+H8+H9+H11)-(AE6+AE7+AE8+AE9+AE10) -> #REF! | AF16: =(I6+I8+I9+I11)-(AF6+AF7+AF8+AF9+AF10) -> #REF! | ... AT16: =(W6+W8+W9+W11)-(AT6+AT7+AT8+AT9+AT10) -> 549970
A17: Felhalmozási költségvetés egyenlege | Y17: =(B7+B10+B12)-(Y11+Y12+Y13) -> -3617853 | Z17: =(C7+C10+C12)-(Z11+Z12+Z13) -> #REF! | AA17: =(D7+D10+D12)-(AA11+AA12+AA13) -> #REF! | AB17: =(E7+E10+E12)-(AB11+AB12+AB13) -> #REF! | AC17: =(F7+F10+F12)-(AC11+AC12+AC13) -> #REF! | AD17: =(G7+G10+G12)-(AD11+AD12+AD13) -> #REF! | AE17: =(H7+H10+H12)-(AE11+AE12+AE13) -> #REF! | AF17: =(I7+I10+I12)-(AF11+AF12+AF13) -> #REF! | ... AT17: =(W7+W10+W12)-(AT11+AT12+AT13) -> -2996778
A18: 8. Finanszírozási bevételek | B18: ='intézményi.részl. '!P246 -> 5407368 | C18: ='intézményi.részl. '!Q246 -> 24819 | D18: ='intézményi.részl. '!R246 -> 5432187 | E18: ='intézményi.részl. '!S246 -> 288387 | F18: ='intézményi.részl. '!T246 -> 5720574 | G18: ='intézményi.részl. '!U246 -> 32026 | H18: ='intézményi.részl. '!V246 -> 5752600 | I18: ='intézményi.részl. '!W246 -> 8373 | ... W18: ='intézményi.részl. '!AK246 -> 4910334 | X18: 9. Finanszírozási kiadások | Y18: ='intézményi.részl. '!AM247 -> 2301142 | Z18: ='intézményi.részl. '!AN247 -> 24819 | AA18: ='intézményi.részl. '!AO247 -> 2325961 | AB18: ='intézményi.részl. '!AP247 -> 13243 | AC18: ='intézményi.részl. '!AQ247 -> 2339204 | AD18: ='intézményi.részl. '!AR247 -> 32026 | AE18: ='intézményi.részl. '!AS247 -> 2371230 | AF18: ='intézményi.részl. '!AT247 -> 8373 | ... AT18: ='intézményi.részl. '!BH247 -> 2463526
A19: ebből: központi irányítószervi támogatás | B19: ='intézményi.részl. '!P248 -> 2246490 | C19: ='intézményi.részl. '!Q248 -> 24819 | D19: ='intézményi.részl. '!R248 -> 2271309 | E19: ='intézményi.részl. '!S248 -> 13243 | F19: ='intézményi.részl. '!T248 -> 2284552 | G19: ='intézményi.részl. '!U248 -> 32026 | H19: ='intézményi.részl. '!V248 -> 2316578 | I19: ='intézményi.részl. '!W248 -> 8373 | ... W19: ='intézményi.részl. '!AK248 -> 2393334 | X19: ebből: központi irányítószervi támogatás | Y19: =B19 -> 2246490 | Z19: =C19 -> 24819 | AA19: =D19 -> 2271309 | AB19: =E19 -> 13243 | AC19: =F19 -> 2284552 | AD19: =G19 -> 32026 | AE19: =H19 -> 2316578 | AF19: =I19 -> 8373 | ... AT19: =W19 -> 2393334
A20: Bevételek összesen | B20: =B14+B18 -> 12241521 | C20: =C14+C18 -> 52822 | D20: =D14+D18 -> 12294343 | E20: =E14+E18 -> 342898 | F20: =F14+F18 -> 12637241 | G20: =G14+G18 -> 56839 | H20: =H14+H18 -> 12694080 | I20: =I14+I18 -> 378995 | ... W20: =W14+W18 -> 10973862 | X20: Kiadások összesen | Y20: =Y14+Y18 -> 12241521 | Z20: =Z14+Z18 -> #REF! | AA20: =AA14+AA18 -> #REF! | AB20: =AB14+AB18 -> #REF! | AC20: =AC14+AC18 -> #REF! | AD20: =AD14+AD18 -> #REF! | AE20: =AE14+AE18 -> #REF! | AF20: =AF14+AF18 -> #REF! | ... AT20: =AT14+AT18 -> 10973862
A21: ebből: működési bevételek | B21: ='intézményi.részl. '!P252 -> 8351947 | C21: ='intézményi.részl. '!Q252 -> 52822 | D21: ='intézményi.részl. '!R252 -> 8404769 | E21: ='intézményi.részl. '!S252 -> 210873 | F21: ='intézményi.részl. '!T252 -> 8615642 | G21: ='intézményi.részl. '!U252 -> 56469 | H21: ='intézményi.részl. '!V252 -> 8672111 | I21: ='intézményi.részl. '!W252 -> 238009 | ... W21: ='intézményi.részl. '!AK252 -> 8399610 | X21: ebből: működési kiadások | Y21: ='intézményi.részl. '!AM252 -> 6790043 | Z21: ='intézményi.részl. '!AN252 -> #REF! | AA21: ='intézményi.részl. '!AO252 -> #REF! | AB21: ='intézményi.részl. '!AP252 -> #REF! | AC21: ='intézményi.részl. '!AQ252 -> #REF! | AD21: ='intézményi.részl. '!AR252 -> #REF! | AE21: ='intézményi.részl. '!AS252 -> #REF! | AF21: ='intézményi.részl. '!AT252 -> #REF! | ... AT21: ='intézményi.részl. '!BH252 -> 7063454
A22: felhalmozási bevételek | B22: ='intézményi.részl. '!P253 -> 3889574 | C22: ='intézményi.részl. '!Q253 -> 0 | D22: ='intézményi.részl. '!R253 -> 3889574 | E22: ='intézményi.részl. '!S253 -> 132025 | F22: ='intézményi.részl. '!T253 -> 4021599 | G22: ='intézményi.részl. '!U253 -> 370 | H22: ='intézményi.részl. '!V253 -> 4021969 | I22: ='intézményi.részl. '!W253 -> 140986 | ... W22: ='intézményi.részl. '!AK253 -> 2574252 | X22: felhalmozási kiadások | Y22: ='intézményi.részl. '!AM253 -> 5451478 | Z22: ='intézményi.részl. '!AN253 -> #REF! | AA22: ='intézményi.részl. '!AO253 -> #REF! | AB22: ='intézményi.részl. '!AP253 -> #REF! | AC22: ='intézményi.részl. '!AQ253 -> #REF! | AD22: ='intézményi.részl. '!AR253 -> #REF! | AE22: ='intézményi.részl. '!AS253 -> #REF! | AF22: ='intézményi.részl. '!AT253 -> #REF! | ... AT22: ='intézményi.részl. '!BH253 -> 3910408
A23: Tárgyévi költségvetési bevételek és kiadások egyenlege (hiány, többlet) | Y23: ='intézményi.részl. '!P254 -> 0 | Z23: ='intézményi.részl. '!Q254 -> 0 | AA23: ='intézményi.részl. '!R254 -> 0 | AB23: ='intézményi.részl. '!S254 -> 0 | AC23: ='intézményi.részl. '!T254 -> 0 | AD23: ='intézményi.részl. '!U254 -> 0 | AE23: ='intézményi.részl. '!V254 -> 0 | AF23: ='intézményi.részl. '!W254 -> 0 | ... AT23: ='intézményi.részl. '!AK254 -> 0
A24: Működési költségvetés egyenlege | Y24: ='intézményi.részl. '!AM255 -> 1561904 | Z24: ='intézményi.részl. '!AN255 -> #REF! | AA24: ='intézményi.részl. '!AO255 -> #REF! | AB24: ='intézményi.részl. '!AP255 -> #REF! | AC24: ='intézményi.részl. '!AQ255 -> #REF! | AD24: ='intézményi.részl. '!AR255 -> #REF! | AE24: ='intézményi.részl. '!AS255 -> #REF! | AF24: ='intézményi.részl. '!AT255 -> #REF! | ... AT24: ='intézményi.részl. '!BH255 -> 1336156
A25: Felhalmozási költségvetés egyenlege | Y25: ='intézményi.részl. '!AM256 -> -1561904 | Z25: ='intézményi.részl. '!AN256 -> #REF! | AA25: ='intézményi.részl. '!AO256 -> #REF! | AB25: ='intézményi.részl. '!AP256 -> #REF! | AC25: ='intézményi.részl. '!AQ256 -> #REF! | AD25: ='intézményi.részl. '!AR256 -> #REF! | AE25: ='intézményi.részl. '!AS256 -> #REF! | AF25: ='intézményi.részl. '!AT256 -> #REF! | ... AT25: ='intézményi.részl. '!BH256 -> -1336156
A26: Bevételek központi irányítószervi támogatás nélkül | B26: =B20-B19 -> 9995031 | C26: =C20-C19 -> 28003 | D26: =D20-D19 -> 10023034 | E26: =E20-E19 -> 329655 | F26: =F20-F19 -> 10352689 | G26: =G20-G19 -> 24813 | H26: =H20-H19 -> 10377502 | I26: =I20-I19 -> 370622 | ... W26: =W20-W19 -> 8580528 | X26: Kiadások központi irányítószervi támogatás nélkül | Y26: =Y20-Y19 -> 9995031 | Z26: =Z20-Z19 -> #REF! | AA26: =AA20-AA19 -> #REF! | AB26: =AB20-AB19 -> #REF! | AC26: =AC20-AC19 -> #REF! | AD26: =AD20-AD19 -> #REF! | AE26: =AE20-AE19 -> #REF! | AF26: =AF20-AF19 -> #REF! | ... AT26: =AT20-AT19 -> 8580528
Y27: =B26-Y26 -> -0.0099999998 | Z27: =C26-Z26 -> #REF! | AA27: =D26-AA26 -> #REF! | AB27: =E26-AB26 -> #REF! | AC27: =F26-AC26 -> #REF! | AD27: =G26-AD26 -> #REF! | AE27: =H26-AE26 -> #REF! | AF27: =I26-AF26 -> #REF! | ... AT27: =W26-AT26 -> 0
A94: Kiskunfélegyháza Nemzetiségi Önkormányzat 2012. évi költségvetési mérlege
A96: BEVÉTELEK | X96: KIADÁSOK
A97: Megnevezés | X97: Megnevezés
A98: Önkormányzati támogatás | X98: Személyi juttatás
A99: 2012. évi normatív támogatás | X99: Munkaadót terhelő járulék
A100: Működési célú pénzmaradvány | X100: Dologi kiadás
A101: BEVÉTELEK ÖSSZESEN | X101: KIADÁSOK ÖSSZESEN

Sheet kötelező-nem köt 
K1: 2/a. melléklet
A2: Önkormányzati feladatellátás megbontása kötelező, nem kötelező feladatokra
A3: INTÉZMÉNY | B3: Kötelező feladatok | N3: INTÉZMÉNY | O3: Önként vállalt feladatok | AA3: MINDÖSZ-SZESEN
B4: bevételek összetétele | I4: kiadások összetétele | O4: bevételek összetétele | V4: kiadások összetétele
B5: mc.tám.áht-n belülről | C5: pályázati forrás, átvett pe., egyéb | D5: MEP | E5: saját bevétel, kincstárjegy b. | F5: önk. saját erő | G5: pénzma-radvány | H5: Bevételek összesen | I5: szem.j. | J5: m.adó | K5: dologi + egyéb | L5: felhalm. | M5: Kiadások összesen | O5: közp.kvi tám. | P5: pályázati forrás, átvett pe., v.ig.ÁFA | Q5: MEP | R5: intézmény saját bevétel | S5: önk. saját erő | T5: pénzma-radvány | U5: Bevételek összesen | V5: szem.j. | W5: m.adó | X5: dologi + egyéb | Y5: felhalm. | Z5: Kiadások összesen
A6: Kiskunfélegyházi Napköziotthonos Óvoda | B6: 502873 | E6: 1075 | F6: 11738 | H6: =SUM(B6:F6) -> 515686 | I6: 417824 | J6: 90706 | K6: 7067 | L6: 89 | M6: =SUM(I6:L6) -> 515686 | N6: Kiskunfélegyházi Napköziotthonos Óvoda | U6: =SUM(O6:S6) -> 0 | AA6: =M6+Z6 -> 515686 | AB6: 0
A7: Petőfi S. Városi Könyvtár | B7: 18314 | E7: 2000 | F7: 40527 | H7: =SUM(B7:F7) -> 60841 | I7: 43060 | J7: 8401 | K7: 9380 | M7: =SUM(I7:L7) -> 60841 | N7: Petőfi S. Városi Könyvtár | U7: =SUM(O7:S7) -> 0 | Z7: =SUM(V7:Y7) -> 0 | AA7: =M7+Z7 -> 60841
A8: Móra Ferenc Művelődési Központ | B8: 18314 | E8: 8089 | F8: 42627 | H8: =SUM(B8:F8) -> 69030 | I8: 34874 | J8: 6884 | K8: 26825 | L8: 447 | M8: =SUM(I8:L8) -> 69030 | N8: Móra F. Művelődési Ház | U8: =SUM(O8:S8) -> 0 | Z8: =SUM(V8:Y8) -> 0 | AA8: =M8+Z8 -> 69030
A9: Kapocs Szoc. és Gyerrmekvéd. Intézmény | B9: 335888 | E9: 7435 | F9: 17324 | H9: =SUM(B9:F9) -> 360647 | I9: 283677 | J9: 57320 | K9: 15650 | L9: 4000 | M9: =SUM(I9:L9) -> 360647 | N9: Kapocs Szoc. és Gyerrmekvéd. Intézmény | Z9: =SUM(V9:Y9) -> 0 | AA9: =M9+Z9 -> 360647 | AB9: 0
A10: Szivárvány Szem. G. Ny. Int. | B10: 53841 | E10: 40583 | F10: -8178 | G10: =G11+G12+G13 -> 0 | H10: =SUM(B10:F10) -> 86246 | I10: 62694 | J10: 12397 | K10: 10889 | L10: 266 | M10: =SUM(I10:L10) -> 86246 | N10: Szivárvány Szem. G. Ny. Int. | O10: =O11+O12+O13 -> 215102 | P10: =P11+P12+P13 -> 0 | Q10: =Q11+Q12+Q13 -> 0 | R10: =R11+R12+R13 -> 199817 | S10: =S11+S12+S13 -> 114864 | T10: =T11+T12+T13 -> 0 | U10: =SUM(O10:S10) -> 529783 | V10: =V11+V12+V13 -> 297635 | W10: =W11+W12+W13 -> 60137 | X10: =X11+X12+X13 -> 172011 | Y10: =Y11+Y12+Y13 -> 0 | Z10: =SUM(V10:Y10) -> 529783 | AA10: =M10+Z10 -> 616029
H11: =SUM(B11:G11) -> 0 | M11: =SUM(I11:L11) -> 0 | N11: időskorúak tartós bentlakásos szoc.ell. | O11: 202702 | R11: 199014 | S11: 106360 | U11: =SUM(O11:S11) -> 508076 | V11: 283710 | W11: 57316 | X11: 167050 | Z11: =SUM(V11:Y11) -> 508076
N12: tanyagondnoki szolgálat | O12: 12400 | S12: 4051 | U12: =SUM(O12:S12) -> 16451 | V12: 10116 | W12: 2075 | X12: 4260 | Z12: =SUM(V12:Y12) -> 16451
N13: jelzőrendszeres házi segítségnyújtás | R13: 803 | S13: 4453 | U13: =SUM(O13:S13) -> 5256 | V13: 3809 | W13: 746 | X13: 701 | Z13: =SUM(V13:Y13) -> 5256
A14: Védőnői Szolgálat | D14: 92368 | H14: =SUM(B14:F14) -> 92368 | I14: 70489 | J14: 14116 | K14: 6933 | L14: 830 | M14: =SUM(I14:L14) -> 92368 | N14: Védőnői Szolgálat | AA14: =M14+Z14 -> 92368
A15: Kiskun Múzeum | B15: 20757 | C15: 42322 | E15: 1002 | F15: 16079 | H15: =SUM(B15:F15) -> 80160 | I15: 30099 | J15: 5911 | K15: 27276 | L15: 16874 | M15: =SUM(I15:L15) -> 80160 | N15: Kiskun Múzeum | U15: =SUM(O15:S15) -> 0 | Z15: =SUM(V15:Y15) -> 0 | AA15: =M15+Z15 -> 80160
A16: Polgármesteri Hivatal | B16: 393865 | E16: 155726 | F16: 429358 | H16: =SUM(B16:F16) -> 978949 | I16: 512373 | J16: 99346 | K16: 362839 | L16: 4391 | M16: =SUM(I16:L16) -> 978949 | N16: Polgármesteri Hivatal | O16: =O17 -> 5400 | P16: =P17 -> 0 | Q16: =Q17 -> 0 | R16: =R17 -> 0 | S16: =S17 -> 17797 | T16: =T17 -> 0 | U16: =SUM(O16:S16) -> 23197 | V16: =V17 -> 18787 | W16: =W17 -> 2550 | X16: =X17 -> 1860 | Y16: =Y17 -> 0 | Z16: =SUM(V16:Y16) -> 23197 | AA16: =M16+Z16 -> 1002146 | AB16: 0
N17: Mezei Őrszolgálat | O17: 5400 | S17: 17797 | U17: =SUM(O17:S17) -> 23197 | V17: =5711+13076 -> 18787 | W17: 2550 | X17: 1860 | Z17: =SUM(V17:Y17) -> 23197 | AA17: =SUM(Z17) -> 23197
A18: Önkormányzat | B18: 310771 | C18: 1694303 | E18: 1480256 | G18: 3160878 | H18: =SUM(B18:G18) -> 6646208 | I18: 339583 | J18: 50202 | K18: =950660-71419 -> 879241 | L18: =5305763+71419 -> 5377182 | M18: =SUM(I18:L18) -> 6646208 | N18: Önkormányzat | O18: =SUM(O19:O26) -> 383 | P18: =SUM(P19:P26) -> 0 | Q18: =SUM(Q19:Q26) -> 0 | R18: =SUM(R19:R26) -> 12700 | S18: =SUM(S19:S26) -> 538833 | T18: =SUM(T19:T26) -> 0 | U18: =SUM(U19:U26) -> 551916 | V18: =SUM(V19:V26) -> 12034 | ... Z18: =SUM(Z19:Z26) -> 551916 | AA18: =M18+Z18 -> 7198124 | AB18: 0
M19: =SUM(I19:L19) -> 0 | N19: Pénzeszköz átadások | S19: 493613 | U19: =SUM(O19:T19) -> 493613 | X19: =493613-47399 -> 446214 | Y19: 47399 | Z19: =SUM(V19:Y19) -> 493613 | AA19: =M19+Z19 -> 493613
M20: =SUM(I20:L20) -> 0 | N20: Tourinform Iroda | S20: 3300 | U20: =SUM(O20:T20) -> 3300 | X20: 3300 | Z20: =SUM(V20:Y20) -> 3300 | AA20: =M20+Z20 -> 3300
M21: =SUM(I21:L21) -> 0 | N21: GYIÖK működtetése | S21: 700 | U21: =SUM(O21:T21) -> 700 | X21: 700 | Z21: =SUM(V21:Y21) -> 700 | AA21: =M21+Z21 -> 700
M22: =SUM(I22:L22) -> 0 | N22: KEF pályázat, rendezvények | S22: 37034 | U22: =SUM(O22:T22) -> 37034 | V22: 12034 | X22: 25000 | Z22: =SUM(V22:Y22) -> 37034 | AA22: =M22+Z22 -> 37034
M23: =SUM(I23:L23) -> 0 | N23: Üdülő, szálláshely | O23: 383 | S23: 886 | U23: =SUM(O23:T23) -> 1269 | X23: 1269 | Z23: =SUM(V23:Y23) -> 1269 | AA23: =M23+Z23 -> 1269
M24: =SUM(I24:L24) -> 0 | N24: Ipari park. | R24: 12700 | S24: 3300 | U24: =SUM(O24:T24) -> 16000 | X24: 16000 | Z24: =SUM(V24:Y24) -> 16000 | AA24: =M24+Z24 -> 16000
M25: =SUM(I25:L25) -> 0 | U25: =SUM(O25:T25) -> 0 | Z25: =SUM(V25:Y25) -> 0 | AA25: =M25+Z25 -> 0
M26: =SUM(I26:L26) -> 0 | U26: =SUM(O26:T26) -> 0 | Z26: =SUM(V26:Y26) -> 0 | AA26: =M26+Z26 -> 0
A27: MINDÖSSZESEN | B27: =B6+B7+B8+B9+B10+B14+B15+B16+B18 -> 1654623 | C27: =C6+C7+C8+C9+C10+C14+C15+C16+C18 -> 1736625 | D27: =D6+D7+D8+D9+D10+D14+D15+D16+D18 -> 92368 | E27: =E6+E7+E8+E9+E10+E14+E15+E16+E18 -> 1696166 | F27: =F6+F7+F8+F9+F10+F14+F15+F16+F18 -> 549475 | G27: =G6+G7+G8+G9+G10+G14+G15+G16+G18 -> 3160878 | H27: =H6+H7+H8+H9+H10+H14+H15+H16+H18 -> 8890135 | I27: =I6+I7+I8+I9+I10+I14+I15+I16+I18 -> 1794673 | ... M27: =M6+M7+M8+M9+M10+M14+M15+M16+M18 -> 8890135 | N27: MINDÖSSZESEN | O27: =O6+O7+O8+O9+O10+O14+O15+O16+O18 -> 220885 | P27: =P6+P7+P8+P9+P10+P14+P15+P16+P18 -> 0 | Q27: =Q6+Q7+Q8+Q9+Q10+Q14+Q15+Q16+Q18 -> 0 | R27: =R6+R7+R8+R9+R10+R14+R15+R16+R18 -> 212517 | S27: =S6+S7+S8+S9+S10+S14+S15+S16+S18 -> 671494 | T27: =T6+T7+T8+T9+T10+T14+T15+T16+T18 -> 0 | U27: =U6+U7+U8+U9+U10+U14+U15+U16+U18 -> 1104896 | V27: =V6+V7+V8+V9+V10+V14+V15+V16+V18 -> 328456 | ... AA27: =AA6+AA7+AA8+AA9+AA10+AA14+AA15+AA16+AA18 -> 9995031
B29: =B27+O27 -> 1875508 | C29: =C27+P27 -> 1736625 | D29: =D27+Q27 -> 92368 | E29: =E27+R27 -> 1908683 | F29: =F27+S27 -> 1220969 | G29: =G27+T27 -> 3160878 | H29: =H27+U27 -> 9995031 | I29: =I27+V27 -> 2123129 | ... M29: =M27+Z27 -> 9995031

Sheet intézményi.részl.  
BG1: 2. melléklet
A2: Kiskunfélegyháza Város Önkormányzata
A3: 2020. ÉVI KÖLTSÉGVETÉSI BEVÉTELEK ÉS KIADÁSOK RÉSZLETEZÉSE
BH4: me: ezer Ft
A5: BEVÉTELEK | P5: 2019. | Q5: Válto- | R5: Módos. | S5: Válto- | T5: Módos. | U5: Válto- | V5: Módos. | W5: Válto- | X5: Módos. | Y5: Válto- | Z5: Módos. | AA5: Válto- | AB5: Módos. | AC5: Válto- | AD5: Módos. | AE5: Válto- | AF5: Módos. | AG5: Válto- | AH5: 2019 | AI5: 2020. | AJ5: Válto- | AK5: Módos. | AL5: KIADÁSOK | AM5: 2019. | AN5: Válto- | AO5: Módos. | AP5: Válto- | AQ5: Módos. | AR5: Válto- | AS5: Módos. | AT5: Válto- | AU5: Módos. | AV5: Válto- | AW5: Módos. | AX5: Válto- | AY5: Módos. | AZ5: Válto- | BA5: Módos. | BB5: Válto- | BC5: Módos. | BD5: Válto- | BE5: 2019 | BF5: 2020. | BG5: Válto- | BH5: Módos.
A6: rovatszám szerint | D6: zás | E6: ei. | F6: zás | G6: ei. | H6: zás | I6: ei. | J6: zás | K6: ei. | L6: zás | M6: ei. | N6: zás | O6: mód.ei. | P6: eredeti ei. | Q6: zás | R6: ei. | S6: zás | T6: ei. | U6: zás | V6: ei. | W6: zás | X6: ei. | Y6: zás | Z6: ei. | AA6: zás | AB6: ei. | AC6: zás | AD6: ei. | AE6: zás | AF6: ei. | AG6: zás | AH6: várható | AI6: eredeti ei. | AJ6: zás | AK6: ei. | AL6: rovatszám szerint | AM6: eredeti ei. | AN6: zás | AO6: ei. | AP6: zás | AQ6: ei. | AR6: zás | AS6: ei. | AT6: zás | AU6: ei. | AV6: zás | AW6: ei. | AX6: zás | AY6: ei. | AZ6: zás | BA6: ei. | BB6: zás | BC6: ei. | BD6: zás | BE6: várható | BF6: eredeti ei. | BG6: zás | BH6: ei.
A7: KISKUNFÉLEGYHÁZA VÁROS ÖNKORMÁNYZATA
A8: 1. Működési célú támogatások államháztartáson belülről | B8: =B9+B33+#REF! -> #REF! | C8: =C9+C33+#REF! -> #REF! | D8: =D9+D33+#REF! -> #REF! | E8: =E9+E33+#REF! -> #REF! | F8: =F9+F33+#REF! -> #REF! | G8: =G9+G33+#REF! -> #REF! | H8: =H9+H33+#REF! -> #REF! | I8: =I9+I33+#REF! -> #REF! | ... O8: =O9+O33+#REF! -> #REF! | P8: =P9+P40 -> 1875508 | Q8: =Q9+Q40+Q50 -> 24622 | R8: =R9+R40+R50 -> 1900130 | S8: =S9+S40+S50+S51 -> 38480 | T8: =T9+T40+T50+T51 -> 1938610 | U8: =U9+U40+U50+U51 -> 10971 | V8: =V9+V40+V50+V51 -> 1949581 | W8: =W9+W40+W50+W51 -> 154406 | X8: =X9+X40+X50+X51 -> 2103987 | Y8: =Y9+Y40+Y50+Y51 -> 25039 | Z8: =Z9+Z40+Z50+Z51 -> 2129026 | AA8: =AA9+AA40+AA50+AA51 -> 19903 | AB8: =AB9+AB40+AB50+AB51+AB52 -> 2148929 | AC8: =AC9+AC40+AC50+AC51+AC52 -> 13061 | AD8: =AD9+AD40+AD50+AD51+AD52 -> 2161990 | AE8: =AE9+AE40+AE50+AE51+AE52 -> 7640 | AF8: =AF9+AF40+AF50+AF51+AF52 -> 2169630 | AG8: =AG9+AG40+AG50+AG51+AG52 -> 7491 | AH8: =AH9+AH40+AH50+AH51+AH52 -> 2177121 | AI8: =AI9+AI40 -> 1990081 | AJ8: =AJ9+AJ40 -> 76777 | AK8: =AK9+AK40 -> 2066858 | AL8: 1. Személyi juttatások | AM8: 351617 | AN8: =Szem.dologi!C92 -> #REF! | AO8: =Szem.dologi!D92 -> #REF! | AP8: =Szem.dologi!E92 -> #REF! | AQ8: =Szem.dologi!F92 -> #REF! | AR8: =Szem.dologi!J92 -> 455 | AS8: =SUM(AQ8:AR8) -> #REF! | AT8: =Szem.dologi!N92 -> 481 | AU8: 352233 | AV8: =Szem.dologi!N92 -> 481 | AW8: =Szem.dologi!K92 -> 361029 | AX8: =Szem.dologi!N92 -> 481 | AY8: 355048 | AZ8: =Szem.dologi!N92 -> 481 | BA8: 361571 | BB8: =Szem.dologi!N92 -> 481 | BC8: 361317 | BD8: =Szem.dologi!N92 -> 481 | BE8: =SUM(BC8:BD8) -> 361798 | BF8: =Szem.dologi!G92 -> 302260 | BG8: =Szem.dologi!W92 -> 1 | BH8: =SUM(BF8:BG8) -> 302261
A9: 11. Önkormányzatok működési támogatásai | B9: =B10+B11+B12+B20+B24+B28+B31 -> 28460 | C9: =C10+C11+C12+C20+C24+C28+C31 -> 28460 | D9: =D10+D11+D12+D20+D24+D28+D31 -> 0 | E9: =E10+E11+E12+E20+E24+E28+E31 -> 28460 | F9: =F10+F11+F12+F20+F24+F28+F31 -> 17263 | G9: =G10+G11+G12+G20+G24+G28+G31 -> 45723 | H9: =H10+H11+H12+H20+H24+H28+H31 -> 13170 | I9: =I10+I11+I12+I20+I24+I28+I31 -> 58893 | ... X9: =X10+X11+X12+X20+X24+X28+X31 -> 1740871 | Y9: =Y10+Y11+Y12+Y20+Y24+Y28+Y31+Y38 -> 24121 | Z9: =Z10+Z11+Z12+Z20+Z24+Z28+Z31+Z38 -> 1764992 | AA9: =AA10+AA11+AA12+AA20+AA24+AA28+AA31+AA38 -> 18778 | AB9: =AB10+AB11+AB12+AB20+AB24+AB28+AB31+AB38 -> 1783770 | AC9: =AC10+AC11+AC12+AC20+AC24+AC28+AC31+AC38 -> 7911 | AD9: =AD10+AD11+AD12+AD20+AD24+AD28+AD31+AD38 -> 1791681 | AE9: =AE10+AE11+AE12+AE20+AE24+AE28+AE31+AE38 -> 7640 | AF9: =AF10+AF11+AF12+AF20+AF24+AF28+AF31+AF38 -> 1799321 | ... AK9: =AK10+AK11+AK12+AK20+AK24+AK28+AK31+AK38 -> 1852317 | AL9: 2. Munkaadókat terhelő járulékok | AM9: 50202 | AN9: =Szem.dologi!I92 -> #REF! | AO9: =Szem.dologi!L92 -> #REF! | AP9: =Szem.dologi!M92 -> 0 | AQ9: =Szem.dologi!P92 -> #REF! | AR9: =Szem.dologi!S92 -> 1 | AS9: =SUM(AQ9:AR9) -> #REF! | AT9: =Szem.dologi!X92 -> 40753 | AU9: 50213 | AV9: =Szem.dologi!X92 -> 40753 | AW9: =Szem.dologi!T92 -> #REF! | AX9: =Szem.dologi!X92 -> 40753 | AY9: 50623 | AZ9: =Szem.dologi!X92 -> 40753 | BA9: 51553 | BB9: =Szem.dologi!X92 -> 40753 | BC9: =SUM(BA9:BB9) -> 92306 | BD9: =Szem.dologi!X92 -> 40753 | BE9: 51553 | BF9: =Szem.dologi!X92 -> 40753 | BG9: =Szem.dologi!AE92 -> 0 | BH9: =SUM(BF9:BG9) -> 40753
A10: 111. Helyi önkormányzatok működésének általános támogatása | B10: 1311 | C10: =SUM(B10:B10) -> 1311 | E10: =SUM(C10:D10) -> 1311 | G10: =SUM(E10:F10) -> 1311 | I10: =SUM(G10:H10) -> 1311 | K10: =SUM(I10:J10) -> 1311 | M10: =SUM(K10:L10) -> 1311 | O10: =SUM(M10:N10) -> 1311 | P10: 197093 | R10: =SUM(P10:Q10) -> 197093 | T10: =SUM(R10:S10) -> 197093 | U10: =510+1843 -> 2353 | V10: =SUM(T10:U10) -> 199446 | W10: 510 | X10: =SUM(V10:W10) -> 199956 | Y10: =494+482 -> 976 | Z10: =SUM(X10:Y10) -> 200932 | AA10: 640 | AB10: =SUM(Z10:AA10) -> 201572 | AC10: 638 | AD10: =SUM(AB10:AC10) -> 202210 | AE10: 615 | AF10: =SUM(AD10:AE10) -> 202825 | AG10: 600 | AH10: =SUM(AF10:AG10) -> 203425 | AI10: 255184 | AJ10: =637+46574+461 -> 47672 | AK10: =SUM(AI10:AJ10) -> 302856 | AL10: 3. Dologi kiadások | AM10: 572824 | AN10: =Szem.dologi!R92 -> #REF! | AO10: =Szem.dologi!U92 -> #REF! | AP10: =Szem.dologi!V92 -> -6090 | AQ10: =Szem.dologi!Z92 -> #REF! | AR10: =Szem.dologi!AA92 -> 5673 | AS10: =SUM(AQ10:AR10) -> #REF! | AT10: =Szem.dologi!AC92 -> 94775 | AU10: 608987 | AV10: =Szem.dologi!AC92 -> 94775 | AW10: =Szem.dologi!AB92 -> #REF! | AX10: =Szem.dologi!AC92 -> 94775 | AY10: 614818 | AZ10: =Szem.dologi!AC92 -> 94775 | BA10: 623535 | BB10: =Szem.dologi!AC92 -> 94775 | BC10: 770192 | BD10: =Szem.dologi!AC92 -> 94775 | BE10: =SUM(BC10:BD10) -> 864967 | BF10: =Szem.dologi!AF92 -> 566535 | BG10: =Szem.dologi!AN92 -> -39930 | BH10: =SUM(BF10:BG10) -> 526605
A11: 112. Települési önkormányzatok egyes köznevelési feladatainak tám. | C11: =SUM(B11:B11) -> 0 | E11: =SUM(C11:D11) -> 0 | G11: =SUM(E11:F11) -> 0 | I11: =SUM(G11:H11) -> 0 | K11: =SUM(I11:J11) -> 0 | M11: =SUM(K11:L11) -> 0 | N11: -252 | O11: =SUM(M11:N11) -> -252 | P11: 502873 | R11: =SUM(P11:Q11) -> 502873 | T11: =SUM(R11:S11) -> 502873 | V11: =SUM(T11:U11) -> 502873 | X11: =SUM(V11:W11) -> 502873 | Z11: =SUM(X11:Y11) -> 502873 | AA11: 5302 | AB11: =SUM(Z11:AA11) -> 508175 | AD11: =SUM(AB11:AC11) -> 508175 | AF11: =SUM(AD11:AE11) -> 508175 | AH11: =SUM(AF11:AG11) -> 508175 | AI11: 526172 | AK11: =SUM(AI11:AJ11) -> 526172 | AL11: 4. Ellátottak pénzbeli juttatásai | AM11: 73164 | AN11: =#REF! -> #REF! | AO11: =#REF! -> #REF! | AP11: =#REF! -> #REF! | AQ11: 73164 | AR11: =#REF! -> #REF! | AS11: =#REF! -> #REF! | AT11: =#REF! -> #REF! | AU11: =SUM(AS11:AT11) -> #REF! | AW11: =SUM(AU11:AV11) -> #REF! | AY11: =SUM(AW11:AX11) -> #REF! | BA11: =SUM(AY11:AZ11) -> #REF! | BC11: =SUM(BA11:BB11) -> #REF! | BE11: =SUM(BC11:BD11) -> #REF! | BF11: ='Szoc.rász.'!H19 -> 31960 | BH11: =SUM(BF11:BG11) -> 31960
A12: 113. Települési önkormányzatok szoc.és gyermekjóléti felad. tám. | B12: =+B13+B14+B15+B16+B17 -> 20912 | C12: =+C13+C14+C15+C16+C17 -> 20912 | D12: =+D13+D14+D15+D16+D17 -> 0 | E12: =+E13+E14+E15+E16+E17 -> 20912 | F12: =+F13+F14+F15+F16+F17 -> 13515 | G12: =+G13+G14+G15+G16+G17 -> 34427 | H12: =+H13+H14+H15+H16+H17 -> 6762 | I12: =+I13+I14+I15+I16+I17 -> 41189 | J12: =+J13+J14+J15+J16+J17+J18 -> 19718 | K12: =+K13+K14+K15+K16+K17+K18 -> 60907 | L12: =+L13+L14+L15+L16+L17+L18+L19 -> 17577 | M12: =+M13+M14+M15+M16+M17+M18+M19 -> 78484 | N12: =+N13+N14+N15+N16+N17+N18+N19 -> 35765 | O12: =+O13+O14+O15+O16+O17+O18+O19 -> 120929 | P12: =+P13+P14+P15+P16+P17+P18+P19 -> 807013 | Q12: =+Q13+Q14+Q15+Q16+Q17+Q18+Q19 -> 20755 | R12: =+R13+R14+R15+R16+R17+R18+R19 -> 827768 | S12: =+S13+S14+S15+S16+S17+S18+S19 -> 7103 | ... AK12: =+AK13+AK14+AK15+AK16+AK17+AK18+AK19 -> 962306 | AL12: 5. Egyéb működési célú kiadások | AM12: =AM13+AM14+AM16+AM17+AM18 -> 742503 | AN12: =AN13+AN14+AN16+AN17+AN18+AN15 -> #REF! | AO12: =AO13+AO14+AO16+AO17+AO18+AO15 -> #REF! | AP12: =AP13+AP14+AP16+AP17+AP18+AP15 -> #REF! | AQ12: =AQ13+AQ14+AQ16+AQ17+AQ18+AQ15 -> #REF! | AR12: =AR13+AR14+AR16+AR17+AR18+AR15 -> #REF! | AS12: =AS13+AS14+AS16+AS17+AS18+AS15 -> #REF! | AT12: =AT13+AT14+AT16+AT17+AT18+AT15 -> #REF! | AU12: =AU13+AU14+AU16+AU17+AU18+AU15 -> #REF! | ... BH12: =BH13+BH14+BH16+BH17+BH18+BH15 -> 749118
A13: 1131. Egyes szociális és gyermekjóléti feladatok támogatása | C13: =SUM(B13:B13) -> 0 | E13: =SUM(C13:D13) -> 0 | G13: =SUM(E13:F13) -> 0 | I13: =SUM(G13:H13) -> 0 | K13: =SUM(I13:J13) -> 0 | M13: =SUM(K13:L13) -> 0 | O13: =SUM(M13:N13) -> 0 | P13: 351039 | R13: =SUM(P13:Q13) -> 351039 | T13: =SUM(R13:S13) -> 351039 | V13: =SUM(T13:U13) -> 351039 | X13: =SUM(V13:W13) -> 351039 | Z13: =SUM(X13:Y13) -> 351039 | AA13: -8843 | AB13: =SUM(Z13:AA13) -> 342196 | AD13: =SUM(AB13:AC13) -> 342196 | AF13: =SUM(AD13:AE13) -> 342196 | AH13: =SUM(AF13:AG13) -> 342196 | AI13: 385120 | AJ13: 1444 | AK13: =SUM(AI13:AJ13) -> 386564 | AL13: 502. Előző évi elszámolásból származó kiad. | AM13: 298 | AO13: 298 | AQ13: 298 | AS13: =SUM(AQ13:AR13) -> 298 | AU13: =SUM(AS13:AT13) -> 298 | AW13: =SUM(AU13:AV13) -> 298 | AY13: =SUM(AW13:AX13) -> 298 | BA13: =SUM(AY13:AZ13) -> 298 | BC13: =SUM(BA13:BB13) -> 298 | BE13: =SUM(BC13:BD13) -> 298 | BH13: =SUM(BF13:BG13) -> 0
A14: 1132. Egyes szoc.szakosított ell, gyermekek átm.gond.kapcs.fea. | C14: =SUM(B14:B14) -> 0 | E14: =SUM(C14:D14) -> 0 | G14: =SUM(E14:F14) -> 0 | I14: =SUM(G14:H14) -> 0 | K14: =SUM(I14:J14) -> 0 | M14: =SUM(K14:L14) -> 0 | N14: 30139 | O14: =SUM(M14:N14) -> 30139 | P14: 244884 | R14: =SUM(P14:Q14) -> 244884 | T14: =SUM(R14:S14) -> 244884 | V14: =SUM(T14:U14) -> 244884 | X14: =SUM(V14:W14) -> 244884 | Z14: =SUM(X14:Y14) -> 244884 | AA14: 5898 | AB14: =SUM(Z14:AA14) -> 250782 | AD14: =SUM(AB14:AC14) -> 250782 | AF14: =SUM(AD14:AE14) -> 250782 | AH14: =SUM(AF14:AG14) -> 250782 | AI14: 317052 | AK14: =SUM(AI14:AJ14) -> 317052 | AL14: 506. Egyéb működési célú támogatások államháztartáson belülre | AM14: ='Pe.átad., Kölcsönök'!C35 -> 20811 | AN14: ='Pe.átad., Kölcsönök'!D35 -> 0 | AO14: ='Pe.átad., Kölcsönök'!E35 -> 20811 | AP14: ='Pe.átad., Kölcsönök'!F35 -> 0 | AQ14: ='Pe.átad., Kölcsönök'!G35 -> 20811 | AR14: ='Pe.átad., Kölcsönök'!H35 -> -100 | AS14: ='Pe.átad., Kölcsönök'!I35 -> 20711 | AT14: ='Pe.átad., Kölcsönök'!J35 -> 0 | ... BD14: ='Pe.átad., Kölcsönök'!T35 -> 0 | BE14: =SUM(BC14:BD14) -> 20377 | BF14: ='Pe.átad., Kölcsönök'!V35 -> 19672 | BG14: ='Pe.átad., Kölcsönök'!W35 -> -290 | BH14: =SUM(BF14:BG14) -> 19382
A15: 1133. Gyermekétkeztetés támogatása és szünidei étk. tám. | C15: =SUM(B15:B15) -> 0 | E15: =SUM(C15:D15) -> 0 | G15: =SUM(E15:F15) -> 0 | I15: =SUM(G15:H15) -> 0 | K15: =SUM(I15:J15) -> 0 | M15: =SUM(K15:L15) -> 0 | N15: -1059 | O15: =SUM(M15:N15) -> -1059 | P15: 211090 | R15: =SUM(P15:Q15) -> 211090 | T15: =SUM(R15:S15) -> 211090 | V15: =SUM(T15:U15) -> 211090 | X15: =SUM(V15:W15) -> 211090 | Z15: =SUM(X15:Y15) -> 211090 | AA15: 7788 | AB15: =SUM(Z15:AA15) -> 218878 | AD15: =SUM(AB15:AC15) -> 218878 | AF15: =SUM(AD15:AE15) -> 218878 | AH15: =SUM(AF15:AG15) -> 218878 | AI15: 233531 | AK15: =SUM(AI15:AJ15) -> 233531 | AL15: 508. Működési célú visszatérítendő támogatások, kölcsönök nyújtása államháztartáson kívülre | AN15: ='Pe.átad., Kölcsönök'!D38 -> 3000 | AO15: ='Pe.átad., Kölcsönök'!E38 -> 3000 | AP15: ='Pe.átad., Kölcsönök'!F38 -> 0 | AQ15: ='Pe.átad., Kölcsönök'!G38 -> 3000 | AR15: ='Pe.átad., Kölcsönök'!H38 -> 0 | AS15: =SUM(AQ15:AR15) -> 3000 | AT15: ='Pe.átad., Kölcsönök'!J38 -> 0 | AU15: =SUM(AS15:AT15) -> 3000 | AV15: ='Pe.átad., Kölcsönök'!L38 -> 0 | AW15: =SUM(AU15:AV15) -> 3000 | AX15: ='Pe.átad., Kölcsönök'!N38 -> 0 | AY15: =SUM(AW15:AX15) -> 3000 | AZ15: ='Pe.átad., Kölcsönök'!P38 -> 0 | BA15: =SUM(AY15:AZ15) -> 3000 | BC15: =SUM(BA15:BB15) -> 3000 | BD15: ='Pe.átad., Kölcsönök'!T38 -> 0 | BE15: 56545 | BF15: ='Pe.átad., Kölcsönök'!V38 -> 0 | BH15: =SUM(BF15:BG15) -> 0
A16: 1134. Szociális ágazati összevont pótlék | B16: 20885 | C16: =SUM(B16:B16) -> 20885 | E16: =SUM(C16:D16) -> 20885 | F16: =6819+6668 -> 13487 | G16: =SUM(E16:F16) -> 34372 | H16: 6748 | I16: =SUM(G16:H16) -> 41120 | J16: =6773+6673 -> 13446 | K16: =SUM(I16:J16) -> 54566 | L16: 6635 | M16: =SUM(K16:L16) -> 61201 | N16: 6674 | O16: 74544 | Q16: =6725+6911+7059 -> 20695 | R16: =SUM(P16:Q16) -> 20695 | S16: 7080 | T16: =SUM(R16:S16) -> 27775 | U16: 7065 | V16: =SUM(T16:U16) -> 34840 | W16: 6942 | X16: =SUM(V16:W16) -> 41782 | Y16: =6739+6803 -> 13542 | Z16: =SUM(X16:Y16) -> 55324 | AA16: 6639 | AB16: =SUM(Z16:AA16) -> 61963 | AC16: 6424 | AD16: =SUM(AB16:AC16) -> 68387 | AE16: 6202 | AF16: =SUM(AD16:AE16) -> 74589 | AG16: 6059 | AH16: =SUM(AF16:AG16) -> 80648 | AJ16: =6184+6081+12864 -> 25129 | AK16: =SUM(AI16:AJ16) -> 25129 | AL16: 512. Egyéb működési célú támogatások államháztartáson kívülre | AM16: ='Pe.átad., Kölcsönök'!C27 -> 425403 | AN16: ='Pe.átad., Kölcsönök'!D27 -> #REF! | AO16: ='Pe.átad., Kölcsönök'!E27 -> 418403 | AP16: ='Pe.átad., Kölcsönök'!F27 -> 9917 | AQ16: ='Pe.átad., Kölcsönök'!G27 -> 428320 | AR16: ='Pe.átad., Kölcsönök'!H27 -> -461 | AS16: ='Pe.átad., Kölcsönök'!I27 -> 427859 | AT16: ='Pe.átad., Kölcsönök'!J27 -> 3571 | ... BD16: ='Pe.átad., Kölcsönök'!T27 -> 0 | BE16: 460101 | BF16: ='Pe.átad., Kölcsönök'!V27 -> 492347 | BG16: ='Pe.átad., Kölcsönök'!W27 -> -24000 | BH16: =SUM(BF16:BG16) -> 468347
A17: 1135. Egészségügyi kiegészítő pótlék | B17: 27 | C17: =SUM(B17:B17) -> 27 | E17: =SUM(C17:D17) -> 27 | F17: =14+14 -> 28 | G17: =SUM(E17:F17) -> 55 | H17: 14 | I17: =SUM(G17:H17) -> 69 | J17: =14+14 -> 28 | K17: =SUM(I17:J17) -> 97 | L17: 14 | M17: =SUM(K17:L17) -> 111 | N17: 11 | O17: 133 | Q17: 60 | R17: =SUM(P17:Q17) -> 60 | S17: 23 | T17: =SUM(R17:S17) -> 83 | U17: 24 | V17: =SUM(T17:U17) -> 107 | W17: 23 | X17: =SUM(V17:W17) -> 130 | Y17: =23+23 -> 46 | Z17: =SUM(X17:Y17) -> 176 | AA17: 23 | AB17: =SUM(Z17:AA17) -> 199 | AC17: 23 | AD17: =SUM(AB17:AC17) -> 222 | AE17: 20 | AF17: =SUM(AD17:AE17) -> 242 | AG17: 24 | AH17: =SUM(AF17:AG17) -> 266 | AJ17: 30 | AK17: =SUM(AI17:AJ17) -> 30 | AL17: 5131. Általános tartalék | AM17: =150651-500 -> 150151 | AN17: =-2160-4000-39530-22826 -> -68516 | AO17: =SUM(AM17:AN17) -> 81635 | AP17: =43000+30000-38921-4724+6788+3664-960-15774-3239-14143 -> 5691 | AQ17: =SUM(AO17:AP17) -> 87326 | AR17: =886-3500-11174-23058 -> -36846 | AS17: =SUM(AQ17:AR17) -> 50480 | AT17: =1588-2334-1237-2159-12700+4600+5033+116466-174+39530 -> 148613 | AU17: =SUM(AS17:AT17) -> 199093 | AV17: =7846-369+500+2334-2311 -> 8000 | AW17: =SUM(AU17:AV17) -> 207093 | AX17: =23058+19454+10145-650-15000-11500 -> 25507 | AY17: =SUM(AW17:AX17) -> 232600 | AZ17: =1121-6215-750-4500 -> -10344 | BA17: =SUM(AY17:AZ17) -> 222256 | BB17: =400 -> 400 | BC17: =SUM(BA17:BB17) -> 222656 | BD17: =27044+4656-3000-11250-2295-20000-10000-10000+15534-3500-6000 -> -18811 | BE17: 203845 | BF17: =150000-50000 -> 100000 | BG17: =46574+1444+66930-59637 -> 55311 | BH17: =SUM(BF17:BG17) -> 155311
A18: 1136. Óvodai és iskolai szociális segítő tevékenység tám. | J18: 6244 | K18: =SUM(I18:J18) -> 6244 | M18: =SUM(K18:L18) -> 6244 | O18: =SUM(M18:N18) -> 6244 | R18: =SUM(P18:Q18) -> 0 | T18: =SUM(R18:S18) -> 0 | V18: =SUM(T18:U18) -> 0 | X18: =SUM(V18:W18) -> 0 | Z18: =SUM(X18:Y18) -> 0 | AB18: =SUM(Z18:AA18) -> 0 | AD18: =SUM(AB18:AC18) -> 0 | AF18: =SUM(AD18:AE18) -> 0 | AH18: =SUM(AF18:AG18) -> 0 | AK18: =SUM(AI18:AJ18) -> 0 | AL18: 5132. Céltartalék | AM18: 145840 | AN18: ='Célf.'!#REF! -> #REF! | AO18: ='Célf.'!#REF! -> #REF! | AP18: ='Célf.'!#REF! -> #REF! | AQ18: ='Célf.'!#REF! -> #REF! | AR18: ='Célf.'!#REF! -> #REF! | AS18: =SUM(AQ18:AR18) -> #REF! | AT18: ='Célf.'!#REF! -> #REF! | AU18: =SUM(AS18:AT18) -> #REF! | AV18: ='Célf.'!#REF! -> #REF! | AW18: =SUM(AU18:AV18) -> #REF! | AX18: ='Célf.'!#REF! -> #REF! | AY18: =SUM(AW18:AX18) -> #REF! | AZ18: ='Célf.'!#REF! -> #REF! | BA18: =SUM(AY18:AZ18) -> #REF! | BB18: ='Célf.'!#REF! -> #REF! | BC18: =SUM(BA18:BB18) -> #REF! | BD18: ='Célf.'!#REF! -> #REF! | BE18: 134587 | BF18: ='Célf.'!C13 -> 108938 | BG18: ='Célf.'!D13 -> -2860 | BH18: =SUM(BF18:BG18) -> 106078
A19: 1137. Bölcsődei kiegészítő támogatás | L19: 10928 | M19: =SUM(K19:L19) -> 10928 | O19: =SUM(M19:N19) -> 10928 | R19: =SUM(P19:Q19) -> 0 | T19: =SUM(R19:S19) -> 0 | V19: =SUM(T19:U19) -> 0 | X19: =SUM(V19:W19) -> 0 | Z19: =SUM(X19:Y19) -> 0 | AB19: =SUM(Z19:AA19) -> 0 | AD19: =SUM(AB19:AC19) -> 0 | AF19: =SUM(AD19:AE19) -> 0 | AH19: =SUM(AF19:AG19) -> 0 | AK19: =SUM(AI19:AJ19) -> 0 | BH19: =SUM(BF19:BG19) -> 0
A20: 114. Települési önkormányzatok kulturális feladatainak támogatása | B20: =B21+B22+B23 -> 2635 | C20: =C21+C22+C23 -> 2635 | D20: =D21+D22+D23 -> 0 | E20: =E21+E22+E23 -> 2635 | F20: =F21+F22+F23 -> 2171 | G20: =G21+G22+G23 -> 4806 | H20: =H21+H22+H23 -> 837 | I20: =I21+I22+I23 -> 5643 | ... AK20: =AK21+AK22+AK23 -> 60983
A21: 1141. Települési önkormányzatok kulturális feladatainak támogatása | C21: =SUM(B21:B21) -> 0 | E21: =SUM(C21:D21) -> 0 | G21: =SUM(E21:F21) -> 0 | I21: =SUM(G21:H21) -> 0 | K21: =SUM(I21:J21) -> 0 | M21: =SUM(K21:L21) -> 0 | O21: =SUM(M21:N21) -> 0 | P21: 57385 | R21: 57385 | T21: =SUM(R21:S21) -> 57385 | V21: =SUM(T21:U21) -> 57385 | X21: =SUM(V21:W21) -> 57385 | Z21: =SUM(X21:Y21) -> 57385 | AB21: =SUM(Z21:AA21) -> 57385 | AD21: =SUM(AB21:AC21) -> 57385 | AF21: =SUM(AD21:AE21) -> 57385 | AH21: =SUM(AF21:AG21) -> 57385 | AI21: =37724+20757 -> 58481 | AK21: =SUM(AI21:AJ21) -> 58481
A22: 1142. Kulturális illetmény pótlék | B22: 2635 | C22: =SUM(B22:B22) -> 2635 | E22: =SUM(C22:D22) -> 2635 | F22: =883+828 -> 1711 | G22: =SUM(E22:F22) -> 4346 | H22: 837 | I22: =SUM(G22:H22) -> 5183 | J22: =837+855 -> 1692 | K22: =SUM(I22:J22) -> 6875 | L22: 855 | M22: =SUM(K22:L22) -> 7730 | N22: 855 | O22: 9440 | Q22: =840+857+845 -> 2542 | R22: =SUM(P22:Q22) -> 2542 | S22: 859 | T22: =SUM(R22:S22) -> 3401 | U22: 853 | V22: =SUM(T22:U22) -> 4254 | W22: 860 | X22: =SUM(V22:W22) -> 5114 | Y22: =863+848 -> 1711 | Z22: =SUM(X22:Y22) -> 6825 | AA22: 831 | AB22: =SUM(Z22:AA22) -> 7656 | AC22: 826 | AD22: =SUM(AB22:AC22) -> 8482 | AE22: 803 | AF22: =SUM(AD22:AE22) -> 9285 | AG22: 808 | AH22: =SUM(AF22:AG22) -> 10093 | AJ22: =289+1363+850 -> 2502 | AK22: =SUM(AI22:AJ22) -> 2502
A23: 1143. Könyvtári érdekeltségnövelő támogatás | C23: =SUM(B23:B23) -> 0 | E23: =SUM(C23:D23) -> 0 | F23: 460 | G23: =SUM(E23:F23) -> 460 | I23: =SUM(G23:H23) -> 460 | K23: =SUM(I23:J23) -> 460 | M23: =SUM(K23:L23) -> 460 | O23: =SUM(M23:N23) -> 460 | R23: =SUM(P23:Q23) -> 0 | T23: =SUM(R23:S23) -> 0 | U23: 519 | V23: =SUM(T23:U23) -> 519 | X23: =SUM(V23:W23) -> 519 | Z23: =SUM(X23:Y23) -> 519 | AB23: =SUM(Z23:AA23) -> 519 | AD23: =SUM(AB23:AC23) -> 519 | AF23: =SUM(AD23:AE23) -> 519 | AH23: =SUM(AF23:AG23) -> 519 | AK23: =SUM(AI23:AJ23) -> 0
A24: 115. Működési célú költségvetési támogatások és kiegészítő tám. | B24: =B25 -> 3602 | C24: =C25 -> 3602 | D24: =D25 -> 0 | E24: =E25 -> 3602 | F24: =F25 -> 1577 | G24: =G25 -> 5179 | H24: =H25 -> 790 | I24: =I25 -> 5969 | ... K24: =K25 -> 7531 | L24: =L25+L26 -> 2768 | M24: =M25+M26 -> 10299 | N24: =N25+N26 -> 760 | O24: =O25+O26+O27 -> 26479 | P24: =P25+P26+P27 -> 0 | Q24: =Q25+Q26+Q27 -> 1325 | R24: =R25 -> 1325 | S24: =S25 -> 518 | T24: =T25 -> 1843 | U24: =U25 -> -1843 | V24: =V25+V34 -> 0 | W24: =W25+W34+W35+W36 -> 126099 | X24: =X25+X34+X35+X36 -> 126099 | Y24: =Y25+Y34+Y35+Y36 -> 0 | Z24: =Z25+Z34+Z35+Z36 -> 126099 | AA24: =AA25+AA34+AA35+AA36+AA37 -> 500 | AB24: =AB25+AB34+AB35+AB36+AB37 -> 126599 | AC24: =AC25+AC34+AC35+AC36+AC37 -> 0 | AD24: =AD25+AD34+AD35+AD36+AD37 -> 126599 | AE24: =AE25+AE34+AE35+AE36+AE37 -> 0 | AF24: =AF25+AF34+AF35+AF36+AF37 -> 126599 | AH24: =SUM(AF24:AG24) -> 126599 | AI24: =SUM(AI25:AI37) -> 0 | AK24: =SUM(AI24:AJ24) -> 0
A25: 1151. Bérkompenzáció | B25: 3602 | C25: =SUM(B25:B25) -> 3602 | E25: =SUM(C25:D25) -> 3602 | F25: =487+1090 -> 1577 | G25: =SUM(E25:F25) -> 5179 | H25: 790 | I25: =SUM(G25:H25) -> 5969 | J25: =781+781 -> 1562 | K25: =SUM(I25:J25) -> 7531 | L25: 768 | M25: =SUM(K25:L25) -> 8299 | N25: 760 | O25: 9815 | Q25: =750+575 -> 1325 | R25: =SUM(P25:Q25) -> 1325 | S25: 518 | T25: =SUM(R25:S25) -> 1843 | U25: -1843 | V25: =SUM(T25:U25) -> 0 | X25: =SUM(V25:W25) -> 0 | Z25: =SUM(X25:Y25) -> 0 | AB25: =SUM(Z25:AA25) -> 0 | AD25: =SUM(AB25:AC25) -> 0 | AF25: =SUM(AD25:AE25) -> 0 | AH25: =SUM(AF25:AG25) -> 0 | AK25: =SUM(AI25:AJ25) -> 0
A26: 1152. Jó adatszolg.önk. támogatása | L26: 2000 | M26: =SUM(K26:L26) -> 2000 | O26: =SUM(M26:N26) -> 2000 | R26: =SUM(P26:Q26) -> 0 | T26: =SUM(R26:S26) -> 0 | V26: =SUM(T26:U26) -> 0 | X26: =SUM(V26:W26) -> 0 | Z26: =SUM(X26:Y26) -> 0 | AB26: =SUM(Z26:AA26) -> 0 | AD26: =SUM(AB26:AC26) -> 0 | AF26: =SUM(AD26:AE26) -> 0 | AH26: =SUM(AF26:AG26) -> 0 | AK26: =SUM(AI26:AJ26) -> 0
A27: 1153. Téli rezsicsökkentés | O27: 14664 | R27: =SUM(P27:Q27) -> 0 | T27: =SUM(R27:S27) -> 0 | V27: =SUM(T27:U27) -> 0 | X27: =SUM(V27:W27) -> 0 | Z27: =SUM(X27:Y27) -> 0 | AB27: =SUM(Z27:AA27) -> 0 | AD27: =SUM(AB27:AC27) -> 0 | AF27: =SUM(AD27:AE27) -> 0 | AH27: =SUM(AF27:AG27) -> 0 | AK27: =SUM(AI27:AJ27) -> 0
A28: 116. Elszámolásból származó bevételek | B28: =B29 -> 0 | C28: =C29 -> 0 | D28: =D29 -> 0 | E28: =E29 -> 0 | F28: =F29 -> 0 | G28: =G29 -> 0 | H28: =H29 -> 4781 | I28: =I29 -> 4781 | J28: =J29+J30 -> 1077 | K28: =K29+K30 -> 5858 | L28: =L29+L30 -> 0 | M28: =M29+M30 -> 5858 | N28: =N29+N30 -> 0 | O28: =O29+O30 -> 5858 | R28: =SUM(P28:Q28) -> 0 | T28: =SUM(R28:S28) -> 0 | V28: =SUM(T28:U28) -> 0 | X28: =SUM(V28:W28) -> 0 | Z28: =SUM(X28:Y28) -> 0 | AB28: =SUM(Z28:AA28) -> 0 | AD28: =SUM(AB28:AC28) -> 0 | AF28: =SUM(AD28:AE28) -> 0 | AH28: =SUM(AF28:AG28) -> 0 | AK28: =SUM(AI28:AJ28) -> 0
A29: 1161. MÁK ellenőrzés - támogatások elszámolása | C29: =SUM(B29:B29) -> 0 | E29: =SUM(C29:D29) -> 0 | G29: =SUM(E29:F29) -> 0 | H29: 4781 | I29: =SUM(G29:H29) -> 4781 | K29: =SUM(I29:J29) -> 4781 | M29: =SUM(K29:L29) -> 4781 | O29: =SUM(M29:N29) -> 4781 | R29: =SUM(P29:Q29) -> 0 | T29: =SUM(R29:S29) -> 0 | V29: =SUM(T29:U29) -> 0 | X29: =SUM(V29:W29) -> 0 | Z29: =SUM(X29:Y29) -> 0 | AB29: =SUM(Z29:AA29) -> 0 | AD29: =SUM(AB29:AC29) -> 0 | AF29: =SUM(AD29:AE29) -> 0 | AH29: =SUM(AF29:AG29) -> 0 | AK29: =SUM(AI29:AJ29) -> 0
A30: 1162. Előző évi állami támogatás elszámolás miatt | J30: 1077 | K30: =SUM(I30:J30) -> 1077 | M30: =SUM(K30:L30) -> 1077 | O30: =SUM(M30:N30) -> 1077 | R30: =SUM(P30:Q30) -> 0 | T30: =SUM(R30:S30) -> 0 | V30: =SUM(T30:U30) -> 0 | X30: =SUM(V30:W30) -> 0 | Z30: =SUM(X30:Y30) -> 0 | AB30: =SUM(Z30:AA30) -> 0 | AD30: =SUM(AB30:AC30) -> 0 | AF30: =SUM(AD30:AE30) -> 0 | AH30: =SUM(AF30:AG30) -> 0 | AK30: =SUM(AI30:AJ30) -> 0
A31: 117. Minimálbér és bérminimum emelés miatt | C31: =SUM(B31:B31) -> 0 | E31: =SUM(C31:D31) -> 0 | G31: =SUM(E31:F31) -> 0 | I31: =SUM(G31:H31) -> 0 | K31: =SUM(I31:J31) -> 0 | M31: =SUM(K31:L31) -> 0 | O31: =SUM(M31:N31) -> 0 | R31: =SUM(P31:Q31) -> 0 | T31: =SUM(R31:S31) -> 0 | V31: =SUM(T31:U31) -> 0 | X31: =SUM(V31:W31) -> 0 | Z31: =SUM(X31:Y31) -> 0 | AB31: =SUM(Z31:AA31) -> 0 | AD31: =SUM(AB31:AC31) -> 0 | AF31: =SUM(AD31:AE31) -> 0 | AH31: =SUM(AF31:AG31) -> 0 | AK31: =SUM(AI31:AJ31) -> 0
A32: 121. KVI-től vállalkozási tevékenységét terhelő befizetési köt. | C32: =SUM(B32:B32) -> 0 | E32: =SUM(C32:D32) -> 0 | G32: =SUM(E32:F32) -> 0 | I32: =SUM(G32:H32) -> 0 | K32: =SUM(I32:J32) -> 0 | M32: =SUM(K32:L32) -> 0 | O32: =SUM(M32:N32) -> 0 | R32: =SUM(P32:Q32) -> 0 | T32: =SUM(R32:S32) -> 0 | V32: =SUM(T32:U32) -> 0 | X32: =SUM(V32:W32) -> 0 | Z32: =SUM(X32:Y32) -> 0 | AB32: =SUM(Z32:AA32) -> 0 | AD32: =SUM(AB32:AC32) -> 0 | AF32: =SUM(AD32:AE32) -> 0 | AH32: =SUM(AF32:AG32) -> 0 | AK32: =SUM(AI32:AJ32) -> 0
A33: 1152. 1294/2019.korm.hat - Falu és tanyagondn.szolg.tám. | B33: =B40+#REF!+B50 -> #REF! | C33: =C40+#REF!+C50 -> #REF! | D33: =D40+#REF!+D50 -> #REF! | E33: =E40+#REF!+E50 -> #REF! | F33: =F40+#REF!+F50 -> #REF! | G33: =G40+#REF!+G50 -> #REF! | H33: =H40+#REF!+H50 -> #REF! | I33: =I40+#REF!+I50 -> #REF! | J33: =J40+#REF!+J50+#REF! -> #REF! | K33: =K40+#REF!+K50+#REF! -> #REF! | L33: =L40+#REF!+L50+#REF! -> #REF! | M33: =M40+#REF!+M50+#REF! -> #REF! | N33: =N40+#REF!+N50+#REF! -> #REF! | O33: =O40+#REF!+O50+#REF! -> #REF! | P33: =P40+P50 -> 311644 | Q33: =Q40+Q50 -> 0 | R33: =R40+R50 -> 311144 | T33: =SUM(R33:S33) -> 311144 | V33: =SUM(T33:U33) -> 311144 | X33: =SUM(V33:W33) -> 311144 | Z33: =SUM(X33:Y33) -> 311144 | AB33: =SUM(Z33:AA33) -> 311144 | AD33: =SUM(AB33:AC33) -> 311144 | AF33: =SUM(AD33:AE33) -> 311144 | AH33: =SUM(AF33:AG33) -> 311144 | AK33: =SUM(AI33:AJ33) -> 0
A34: 1152. 1294/2019.korm.hat - Falu és tanyagondn.szolg.tám. | W34: 4600 | X34: =SUM(V34:W34) -> 4600 | Z34: =SUM(X34:Y34) -> 4600 | AB34: =SUM(Z34:AA34) -> 4600 | AD34: =SUM(AB34:AC34) -> 4600 | AF34: =SUM(AD34:AE34) -> 4600 | AH34: =SUM(AF34:AG34) -> 4600 | AK34: =SUM(AI34:AJ34) -> 0
A35: 1153. 1346/2019.korm.hat-hajléktalan ellátással összefüggő fea. | W35: 5033 | X35: =SUM(V35:W35) -> 5033 | Z35: =SUM(X35:Y35) -> 5033 | AB35: =SUM(Z35:AA35) -> 5033 | AD35: =SUM(AB35:AC35) -> 5033 | AF35: =SUM(AD35:AE35) -> 5033 | AH35: =SUM(AF35:AG35) -> 5033 | AK35: =SUM(AI35:AJ35) -> 0
A36: 1154. 1354/2019.korm.hat. - minimálbér és bérmin.emelésre | W36: 116466 | X36: =SUM(V36:W36) -> 116466 | Z36: =SUM(X36:Y36) -> 116466 | AB36: =SUM(Z36:AA36) -> 116466 | AD36: =SUM(AB36:AC36) -> 116466 | AF36: =SUM(AD36:AE36) -> 116466 | AH36: =SUM(AF36:AG36) -> 116466 | AK36: =SUM(AI36:AJ36) -> 0
A37: 1155. Jó adatszolgáltató önk.tám. | AA37: 500 | AB37: =SUM(Z37:AA37) -> 500 | AD37: =SUM(AB37:AC37) -> 500 | AF37: =SUM(AD37:AE37) -> 500 | AH37: =SUM(AF37:AG37) -> 500 | AK37: =SUM(AI37:AJ37) -> 0
A38: 116. Elszámolásból származó bevételek | Y38: =Y39 -> 7846 | Z38: =Z39 -> 7846 | AA38: =AA39 -> 0 | AB38: =AB39 -> 7846 | AC38: =AC39 -> 0 | AD38: =AD39 -> 7846 | AE38: =AE39 -> 0 | AF38: =AF39 -> 7846 | ... AI38: =AI39 -> 0 | AK38: =SUM(AI38:AJ38) -> 0
A39: 1162. Előző évi állami támogatás elszámolás miatt | Y39: 7846 | Z39: =Y39 -> 7846 | AB39: =SUM(Z39:AA39) -> 7846 | AD39: =SUM(AB39:AC39) -> 7846 | AF39: =SUM(AD39:AE39) -> 7846 | AH39: =SUM(AF39:AG39) -> 7846 | AK39: =SUM(AI39:AJ39) -> 0
A40: 16. Egyéb fejezeti kezelésű előirányzatból | B40: =SUM(B41:B45) -> 0 | C40: =SUM(C41:C45) -> 0 | D40: =SUM(D41:D45) -> 0 | E40: =SUM(E41:E45) -> 0 | F40: =SUM(F41:F45) -> 0 | G40: =SUM(G41:G45) -> 0 | H40: =SUM(H41:H45) -> -2452 | I40: =SUM(I41:I46) -> -2452 | J40: =SUM(J41:J46) -> 87808 | K40: =SUM(K41:K46) -> 85356 | L40: =SUM(L41:L46) -> 0 | M40: =SUM(M41:M46) -> 85356 | N40: =SUM(N41:N46) -> 0 | O40: =SUM(O41:O46) -> 85356 | P40: =SUM(P41:P52) -> 311144 | Q40: =SUM(Q41:Q46) -> 0 | R40: =SUM(R41:R46) -> 310644 | S40: =SUM(S41:S46) -> 0 | T40: =SUM(T41:T46) -> 310644 | U40: =SUM(U41:U47) -> 2000 | V40: =SUM(V41:V48) -> 312644 | W40: =SUM(W41:W48) -> 19972 | X40: =SUM(X41:X48) -> 332616 | Y40: =SUM(Y41:Y49) -> 918 | Z40: =SUM(Z41:Z49) -> 333534 | AA40: =SUM(AA41:AA49) -> 1125 | AB40: =SUM(AB41:AB49) -> 334659 | AC40: =SUM(AC41:AC49) -> 0 | AD40: =SUM(AD41:AD49) -> 334659 | AE40: =SUM(AE41:AE49) -> 0 | AF40: =SUM(AF41:AF49) -> 334659 | ... AH40: =SUM(AH41:AH49) -> 334659 | AI40: =SUM(AI41:AI52) -> 214541 | AJ40: =SUM(AJ41:AJ52) -> 0 | AK40: =SUM(AK41:AK52) -> 214541
A41: 16101. Természetbeli támogatások (Erzsébet utalvány) | C41: =SUM(B41:B41) -> 0 | E41: =SUM(C41:D41) -> 0 | G41: =SUM(E41:F41) -> 0 | I41: =SUM(G41:H41) -> 0 | K41: =SUM(I41:J41) -> 0 | M41: =SUM(K41:L41) -> 0 | O41: =SUM(M41:N41) -> 0 | P41: 7000 | R41: =SUM(P41:Q41) -> 7000 | T41: =SUM(R41:S41) -> 7000 | V41: =SUM(T41:U41) -> 7000 | X41: =SUM(V41:W41) -> 7000 | Z41: =SUM(X41:Y41) -> 7000 | AB41: =SUM(Z41:AA41) -> 7000 | AD41: =SUM(AB41:AC41) -> 7000 | AF41: =SUM(AD41:AE41) -> 7000 | AH41: =SUM(AF41:AG41) -> 7000 | AI41: 0 | AK41: =SUM(AI41:AJ41) -> 0
A42: 16102. Egyes rendszeres gyermekvéd.kedvezm.jogosult gyerm.utáni pbeli ell. | C42: =SUM(B42:B42) -> 0 | E42: =SUM(C42:D42) -> 0 | G42: =SUM(E42:F42) -> 0 | I42: =SUM(G42:H42) -> 0 | K42: =SUM(I42:J42) -> 0 | M42: =SUM(K42:L42) -> 0 | O42: =SUM(M42:N42) -> 0 | P42: 1000 | R42: =SUM(P42:Q42) -> 1000 | T42: =SUM(R42:S42) -> 1000 | V42: =SUM(T42:U42) -> 1000 | X42: =SUM(V42:W42) -> 1000 | Z42: =SUM(X42:Y42) -> 1000 | AB42: =SUM(Z42:AA42) -> 1000 | AD42: =SUM(AB42:AC42) -> 1000 | AF42: =SUM(AD42:AE42) -> 1000 | AH42: =SUM(AF42:AG42) -> 1000 | AI42: 0 | AK42: =SUM(AI42:AJ42) -> 0
A43: 16103. Nemzeti Foglalkoztatási Alap (közfoglalkoztatásra) | C43: =SUM(B43:B43) -> 0 | E43: =SUM(C43:D43) -> 0 | G43: =SUM(E43:F43) -> 0 | H43: -2452 | I43: =SUM(G43:H43) -> -2452 | K43: =SUM(I43:J43) -> -2452 | M43: =SUM(K43:L43) -> -2452 | O43: =SUM(M43:N43) -> -2452 | P43: 200936 | R43: =SUM(P43:Q43) -> 200936 | T43: =SUM(R43:S43) -> 200936 | V43: =SUM(T43:U43) -> 200936 | X43: =SUM(V43:W43) -> 200936 | Z43: =SUM(X43:Y43) -> 200936 | AB43: =SUM(Z43:AA43) -> 200936 | AD43: =SUM(AB43:AC43) -> 200936 | AF43: =SUM(AD43:AE43) -> 200936 | AH43: =SUM(AF43:AG43) -> 200936 | AI43: 158412 | AK43: =SUM(AI43:AJ43) -> 158412
A44: 16104. Mezei Őrszolgálat működéséhez | C44: =SUM(B44:B44) -> 0 | E44: =SUM(C44:D44) -> 0 | G44: =SUM(E44:F44) -> 0 | I44: =SUM(G44:H44) -> 0 | K44: =SUM(I44:J44) -> 0 | M44: =SUM(K44:L44) -> 0 | O44: =SUM(M44:N44) -> 0 | P44: 5400 | R44: =SUM(P44:Q44) -> 5400 | T44: =SUM(R44:S44) -> 5400 | V44: =SUM(T44:U44) -> 5400 | X44: =SUM(V44:W44) -> 5400 | Z44: =SUM(X44:Y44) -> 5400 | AB44: =SUM(Z44:AA44) -> 5400 | AD44: =SUM(AB44:AC44) -> 5400 | AF44: =SUM(AD44:AE44) -> 5400 | AH44: =SUM(AF44:AG44) -> 5400 | AI44: 5400 | AK44: =SUM(AI44:AJ44) -> 5400
A45: 16105. Nyári diákmunka (100 %) | C45: =SUM(B45:B45) -> 0 | E45: =SUM(C45:D45) -> 0 | G45: =SUM(E45:F45) -> 0 | I45: =SUM(G45:H45) -> 0 | K45: =SUM(I45:J45) -> 0 | M45: =SUM(K45:L45) -> 0 | O45: =SUM(M45:N45) -> 0 | P45: 8500 | R45: =SUM(P45:Q45) -> 8500 | T45: =SUM(R45:S45) -> 8500 | V45: =SUM(T45:U45) -> 8500 | X45: =SUM(V45:W45) -> 8500 | Z45: =SUM(X45:Y45) -> 8500 | AB45: =SUM(Z45:AA45) -> 8500 | AD45: =SUM(AB45:AC45) -> 8500 | AF45: =SUM(AD45:AE45) -> 8500 | AH45: =SUM(AF45:AG45) -> 8500 | AI45: 8343 | AK45: =SUM(AI45:AJ45) -> 8343
A46: 16106. EFOP-1.8.19-17-2017-00006 azonosítószámú, "EFI iroda létrehozása a Kiskunfélegyházi járásban" pályázat | J46: 87808 | K46: =SUM(I46:J46) -> 87808 | M46: =SUM(K46:L46) -> 87808 | O46: =SUM(M46:N46) -> 87808 | P46: 87808 | R46: =SUM(P46:Q46) -> 87808 | T46: =SUM(R46:S46) -> 87808 | V46: =SUM(T46:U46) -> 87808 | X46: =SUM(V46:W46) -> 87808 | Z46: =SUM(X46:Y46) -> 87808 | AB46: =SUM(Z46:AA46) -> 87808 | AD46: =SUM(AB46:AC46) -> 87808 | AF46: =SUM(AD46:AE46) -> 87808 | AH46: =SUM(AF46:AG46) -> 87808 | AI46: 28465 | AK46: =SUM(AI46:AJ46) -> 28465
A47: 16107. VP6-19.2.1-50-4-17. - Települési rend. (Aratófesztivál) | U47: 2000 | V47: =SUM(T47:U47) -> 2000 | X47: =SUM(V47:W47) -> 2000 | Z47: =SUM(X47:Y47) -> 2000 | AB47: =SUM(Z47:AA47) -> 2000 | AD47: =SUM(AB47:AC47) -> 2000 | AF47: =SUM(AD47:AE47) -> 2000 | AH47: =SUM(AF47:AG47) -> 2000 | AI47: 2000 | AK47: =SUM(AI47:AJ47) -> 2000
A48: 16108. TOP-7.1.1-16-H-ESZA-2019-00207 „Élményekkel teli Félegyháza” pályázat | W48: 19972 | X48: =SUM(V48:W48) -> 19972 | Z48: =SUM(X48:Y48) -> 19972 | AB48: =SUM(Z48:AA48) -> 19972 | AD48: =SUM(AB48:AC48) -> 19972 | AF48: =SUM(AD48:AE48) -> 19972 | AH48: =SUM(AF48:AG48) -> 19972 | AK48: =SUM(AI48:AJ48) -> 0
A49: 16108. Innov.és Techn.Min - autómentes nap 2018-2019. | Y49: 918 | Z49: =SUM(X49:Y49) -> 918 | AA49: 1125 | AB49: =SUM(Z49:AA49) -> 2043 | AD49: =SUM(AB49:AC49) -> 2043 | AF49: =SUM(AD49:AE49) -> 2043 | AH49: =SUM(AF49:AG49) -> 2043 | AI49: 1121 | AK49: =SUM(AI49:AJ49) -> 1121
A50: 163. Köztemetésre önkormányzatoktól térítés | C50: =SUM(B50:B50) -> 0 | E50: =SUM(C50:D50) -> 0 | G50: =SUM(E50:F50) -> 0 | I50: =SUM(G50:H50) -> 0 | K50: =SUM(I50:J50) -> 0 | M50: =SUM(K50:L50) -> 0 | O50: =SUM(M50:N50) -> 0 | P50: 500 | R50: =SUM(P50:Q50) -> 500 | T50: =SUM(R50:S50) -> 500 | V50: =SUM(T50:U50) -> 500 | X50: =SUM(V50:W50) -> 500 | Z50: =SUM(X50:Y50) -> 500 | AB50: =SUM(Z50:AA50) -> 500 | AD50: =SUM(AB50:AC50) -> 500 | AF50: =SUM(AD50:AE50) -> 500 | AH50: =SUM(AF50:AG50) -> 500 | AI50: 500 | AK50: =SUM(AI50:AJ50) -> 500
A51: 164. Tám. ért. mc. bev. önkormányzaton belül (intézményektől) | S51: 30000 | T51: =SUM(R51:S51) -> 30000 | V51: =SUM(T51:U51) -> 30000 | X51: =SUM(V51:W51) -> 30000 | Z51: =SUM(X51:Y51) -> 30000 | AB51: =SUM(Z51:AA51) -> 30000 | AD51: =SUM(AB51:AC51) -> 30000 | AF51: =SUM(AD51:AE51) -> 30000 | AH51: =SUM(AF51:AG51) -> 30000 | AK51: =SUM(AI51:AJ51) -> 0
A52: 165. NEAK-tól átvett pe.: gyermek- iskola- és fogorvosi feladatokra | AC52: =2950+2200 -> 5150 | AD52: =SUM(AB52:AC52) -> 5150 | AF52: =SUM(AD52:AE52) -> 5150 | AH52: =SUM(AF52:AG52) -> 5150 | AI52: 10300 | AK52: =SUM(AI52:AJ52) -> 10300
A53: 2. Felhalmozási célú támogatások áht-n belülről | B53: =B54+B57 -> #REF! | C53: =C54+C57 -> #REF! | D53: =D54+D57 -> #REF! | E53: =E54+E57 -> #REF! | F53: =F54+F57 -> #REF! | G53: =G54+G57 -> #REF! | H53: =H54+H57 -> #REF! | I53: =I54+I57 -> #REF! | ... AK53: =AK54+AK57 -> 712720
A54: 21. Felhalmozási célú önkormányzati támogatások | B54: =B55 -> 0 | C54: =C55 -> 0 | D54: =D55 -> 0 | E54: =E55 -> 0 | F54: =F55 -> 0 | G54: =G55 -> 0 | H54: =H55 -> 0 | I54: =I55 -> 0 | ... AD54: =AD55 -> 0 | AE54: =AE55+AE56 -> 4245 | AF54: =AF55+AF56 -> 4245 | AG54: =AG55+AG56 -> 0 | AH54: =AH55+AH56 -> 4245 | AI54: =AI55+AI56 -> 0 | AJ54: =AJ55+AJ56 -> 0 | AK54: =SUM(AI54:AJ54) -> 0 | AL54: 6. Beruházási kiadások | AM54: 4865747 | AN54: =#REF! -> #REF! | AO54: =#REF! -> #REF! | AP54: =#REF! -> #REF! | AQ54: =#REF! -> #REF! | AR54: =#REF! -> #REF! | AS54: =SUM(AQ54:AR54) -> #REF! | AT54: =#REF! -> #REF! | AU54: 5066230 | AV54: =#REF! -> #REF! | AW54: =SUM(AU54:AV54) -> #REF! | AX54: =#REF! -> #REF! | AY54: =SUM(AW54:AX54) -> #REF! | AZ54: =#REF! -> #REF! | BA54: =SUM(AY54:AZ54) -> #REF! | BB54: =#REF! -> #REF! | BC54: =SUM(BA54:BB54) -> #REF! | BD54: =#REF! -> #REF! | BE54: 5213235 | BF54: =Beruházás!D49 -> 2905673 | BG54: =Beruházás!E49 -> 60148 | BH54: =SUM(BF54:BG54) -> 2965821
A55: 211. Közművelődési érdekeltségnövelő támogatás | C55: 0 | G55: =SUM(E55:F55) -> 0 | I55: =SUM(G55:H55) -> 0 | J55: 429 | K55: =SUM(I55:J55) -> 429 | M55: =SUM(K55:L55) -> 429 | O55: =SUM(M55:N55) -> 429 | R55: =SUM(P55:Q55) -> 0 | T55: =SUM(R55:S55) -> 0 | X55: =SUM(V55:W55) -> 0 | Z55: =SUM(X55:Y55) -> 0 | AB55: =SUM(Z55:AA55) -> 0 | AD55: =SUM(AB55:AC55) -> 0 | AE55: 445 | AF55: =SUM(AD55:AE55) -> 445 | AH55: =SUM(AF55:AG55) -> 445 | AK55: =SUM(AI55:AJ55) -> 0 | AL55: 7. Felújítási kiadások | AM55: 440016 | AN55: =#REF! -> #REF! | AO55: =#REF! -> #REF! | AP55: =#REF! -> #REF! | AQ55: =#REF! -> #REF! | AS55: =#REF! -> #REF! | AT55: =#REF! -> #REF! | AU55: =SUM(AS55:AT55) -> #REF! | AV55: =#REF! -> #REF! | AW55: =#REF! -> #REF! | AY55: =SUM(AW55:AX55) -> #REF! | BA55: =SUM(AY55:AZ55) -> #REF! | BB55: =#REF! -> #REF! | BC55: =SUM(BA55:BB55) -> #REF! | BD55: =#REF! -> #REF! | BE55: 517952 | BF55: =Felújítás!D25 -> 614693 | BG55: =Felújítás!E25 -> 0 | BH55: =SUM(BF55:BG55) -> 614693
A56: 212. Járásszékhely múzeumok szakmai támogatása | AE56: 3800 | AF56: =SUM(AD56:AE56) -> 3800 | AH56: =SUM(AF56:AG56) -> 3800 | AK56: =SUM(AI56:AJ56) -> 0 | AL56: 8. Egyéb felhalmozási célú kiadások | AM56: =AM57+AM58+AM59 -> 47399 | AN56: =AN57+AN58+AN59 -> 0 | AO56: =AO57+AO58+AO59 -> 25071 | AP56: =AP57+AP58+AP59 -> 0 | AQ56: =AQ57+AQ58+AQ59 -> 25071 | AR56: =AR57+AR58+AR59 -> 490 | AS56: =AS57+AS58+AS59 -> 25561 | AT56: =AT57+AT58+AT59 -> -900 | ... BH56: =BH57+BH58+BH59 -> 321260
A57: 25. Egyéb felhalm. célú tám. bevételei áht-n belülről | B57: =B58 -> #REF! | C57: =C58 -> #REF! | D57: =D58 -> #REF! | E57: =E58 -> #REF! | F57: =F58 -> #REF! | G57: =G58 -> #REF! | H57: =H58 -> #REF! | I57: =I58 -> #REF! | ... AK57: =AK58 -> 712720 | AL57: 84. Egyéb felhalmozási célú támogatások államháztartáson belülre | AM57: ='Pe.átad., Kölcsönök'!C52 -> 0 | AN57: ='Pe.átad., Kölcsönök'!D52 -> 0 | AO57: ='Pe.átad., Kölcsönök'!E52 -> 0 | AR57: ='Pe.átad., Kölcsönök'!H52 -> 490 | AS57: =SUM(AQ57:AR57) -> 490 | AT57: ='Pe.átad., Kölcsönök'!J52 -> 0 | AU57: =SUM(AS57:AT57) -> 490 | AV57: ='Pe.átad., Kölcsönök'!L52 -> 0 | AW57: =SUM(AU57:AV57) -> 490 | AY57: =SUM(AW57:AX57) -> 490 | AZ57: ='Pe.átad., Kölcsönök'!P52 -> 0 | BA57: =SUM(AY57:AZ57) -> 490 | BC57: =SUM(BA57:BB57) -> 490 | BD57: ='Pe.átad., Kölcsönök'!T52 -> 0 | BE57: 540 | BF57: ='Pe.átad., Kölcsönök'!V52 -> 0 | BG57: ='Pe.átad., Kölcsönök'!W52 -> 0 | BH57: =SUM(BF57:BG57) -> 0
A58: 251. Egyéb fejezeti kezelésű előirányzatoktól | B58: =#REF!+#REF!+#REF!+#REF!+#REF!+#REF!+#REF!+#REF!+#REF!+#REF! -> #REF! | C58: =#REF!+#REF!+#REF!+#REF!+#REF!+#REF!+#REF!+#REF!+#REF!+#REF! -> #REF! | D58: =#REF!+#REF!+#REF!+#REF!+#REF!+#REF!+#REF!+#REF!+#REF!+#REF!+#REF!+#REF!+#REF!+D59 -> #REF! | E58: =#REF!+#REF!+#REF!+#REF!+#REF!+#REF!+#REF!+#REF!+#REF!+#REF!+#REF!+#REF!+#REF!+E59 -> #REF! | F58: =#REF!+#REF!+#REF!+#REF!+#REF!+#REF!+#REF!+#REF!+#REF!+#REF!+#REF!+#REF!+#REF!+F59 -> #REF! | G58: =#REF!+#REF!+#REF!+#REF!+#REF!+#REF!+#REF!+#REF!+#REF!+#REF!+#REF!+#REF!+#REF!+G59+G60 -> #REF! | H58: =#REF!+#REF!+#REF!+#REF!+#REF!+#REF!+#REF!+#REF!+#REF!+#REF!+#REF!+#REF!+#REF!+H59+H60+H61 -> #REF! | I58: =#REF!+#REF!+#REF!+#REF!+#REF!+#REF!+#REF!+#REF!+#REF!+#REF!+#REF!+#REF!+#REF!+I59+I60+I61 -> #REF! | J58: =#REF!+#REF!+#REF!+#REF!+#REF!+#REF!+#REF!+#REF!+#REF!+#REF!+#REF!+#REF!+#REF!+J59+J60+J61 -> #REF! | K58: =#REF!+#REF!+#REF!+#REF!+#REF!+#REF!+#REF!+#REF!+#REF!+#REF!+#REF!+#REF!+#REF!+K59+K60+K61 -> #REF! | L58: =#REF!+#REF!+#REF!+#REF!+#REF!+#REF!+#REF!+#REF!+#REF!+#REF!+#REF!+#REF!+#REF!+L59+L60+L61+#REF! -> #REF! | M58: =#REF!+#REF!+#REF!+#REF!+#REF!+#REF!+#REF!+#REF!+#REF!+#REF!+#REF!+#REF!+#REF!+M59+M60+M61+#REF! -> #REF! | N58: =#REF!+#REF!+#REF!+#REF!+#REF!+#REF!+#REF!+#REF!+#REF!+#REF!+#REF!+#REF!+#REF!+N59+N60+N61+#REF! -> #REF! | O58: =#REF!+#REF!+#REF!+#REF!+#REF!+#REF!+#REF!+#REF!+#REF!+#REF!+#REF!+#REF!+#REF!+O59+O60+O61+#REF!+O62 -> #REF! | P58: =SUM(P59:P67) -> 1614774 | Q58: =SUM(Q59:Q67) -> 0 | R58: =SUM(R59:R67) -> 1614774 | S58: =SUM(S59:S67) -> 0 | T58: =SUM(T59:T67) -> 1614774 | U58: =SUM(U59:U67) -> 0 | V58: =SUM(V59:V67) -> 1614774 | W58: =SUM(W59:W67) -> 140000 | ... AK58: =SUM(AK59:AK67) -> 712720 | AL58: 86. Felhalmozási célú visszatérítendő tám. kölcsönök áht-n kívülre | AM58: ='Pe.átad., Kölcsönök'!C56 -> 7017 | AN58: ='Pe.átad., Kölcsönök'!D56 -> 0 | AO58: ='Pe.átad., Kölcsönök'!E56 -> 7017 | AP58: ='Pe.átad., Kölcsönök'!F56 -> 0 | AQ58: ='Pe.átad., Kölcsönök'!G56 -> 7017 | AR58: ='Pe.átad., Kölcsönök'!H56 -> 0 | AS58: =SUM(AQ58:AR58) -> 7017 | AT58: ='Pe.átad., Kölcsönök'!J56 -> -900 | AU58: 7103 | AV58: ='Pe.átad., Kölcsönök'!L56 -> -850 | AW58: =SUM(AU58:AV58) -> 6253 | AY58: =SUM(AW58:AX58) -> 6253 | AZ58: ='Pe.átad., Kölcsönök'!P56 -> 0 | BA58: =SUM(AY58:AZ58) -> 6253 | BC58: =SUM(BA58:BB58) -> 6253 | BD58: ='Pe.átad., Kölcsönök'!T56 -> -400 | BE58: 5853 | BF58: ='Pe.átad., Kölcsönök'!V56 -> 8167 | BG58: ='Pe.átad., Kölcsönök'!W56 -> 0 | BH58: =SUM(BF58:BG58) -> 8167
A59: 2512. NFM - Asztalitenisz terem felújítása | D59: 8078 | E59: =SUM(C59:D59) -> 8078 | G59: =SUM(E59:F59) -> 8078 | I59: =SUM(G59:H59) -> 8078 | K59: =SUM(I59:J59) -> 8078 | M59: =SUM(K59:L59) -> 8078 | O59: =SUM(M59:N59) -> 8078 | P59: 8078 | R59: =SUM(P59:Q59) -> 8078 | T59: =SUM(R59:S59) -> 8078 | V59: =SUM(T59:U59) -> 8078 | X59: =SUM(V59:W59) -> 8078 | Z59: =SUM(X59:Y59) -> 8078 | AB59: =SUM(Z59:AA59) -> 8078 | AD59: =SUM(AB59:AC59) -> 8078 | AF59: =SUM(AD59:AE59) -> 8078 | AH59: =SUM(AF59:AG59) -> 8078 | AI59: 8078 | AK59: =SUM(AI59:AJ59) -> 8078 | AL59: 89. Egyéb felhalmozási célú támogatások áht-n kívülre | AM59: 40382 | AN59: ='Pe.átad., Kölcsönök'!D49 -> 0 | AO59: ='Pe.átad., Kölcsönök'!E49 -> 18054 | AP59: ='Pe.átad., Kölcsönök'!F49 -> 0 | AQ59: ='Pe.átad., Kölcsönök'!G49 -> 18054 | AR59: ='Pe.átad., Kölcsönök'!H49 -> 0 | AS59: =SUM(AQ59:AR59) -> 18054 | AT59: ='Pe.átad., Kölcsönök'!J49 -> 0 | AU59: =SUM(AS59:AT59) -> 18054 | AV59: ='Pe.átad., Kölcsönök'!L49 -> 0 | AW59: =SUM(AU59:AV59) -> 18054 | AX59: ='Pe.átad., Kölcsönök'!N49 -> 0 | AY59: =SUM(AW59:AX59) -> 18054 | AZ59: ='Pe.átad., Kölcsönök'!P49 -> 0 | BA59: =SUM(AY59:AZ59) -> 18054 | BC59: =SUM(BA59:BB59) -> 18054 | BD59: ='Pe.átad., Kölcsönök'!T49 -> -15534 | BE59: 40021 | BF59: ='Pe.átad., Kölcsönök'!V49 -> 312943 | BG59: ='Pe.átad., Kölcsönök'!W49 -> 150 | BH59: =SUM(BF59:BG59) -> 313093
A60: 2513. NFA közfoglalkoztatás felhalmozási célú tám. | H60: 2452 | I60: =SUM(G60:H60) -> 2452 | K60: =SUM(I60:J60) -> 2452 | M60: =SUM(K60:L60) -> 2452 | O60: =SUM(M60:N60) -> 2452 | P60: 6630 | R60: =SUM(P60:Q60) -> 6630 | T60: =SUM(R60:S60) -> 6630 | V60: =SUM(T60:U60) -> 6630 | X60: =SUM(V60:W60) -> 6630 | Z60: =SUM(X60:Y60) -> 6630 | AB60: =SUM(Z60:AA60) -> 6630 | AD60: =SUM(AB60:AC60) -> 6630 | AF60: =SUM(AD60:AE60) -> 6630 | AH60: =SUM(AF60:AG60) -> 6630 | AI60: 3733 | AK60: =SUM(AI60:AJ60) -> 3733
A61: 2514. Ipari Park fejlesztése TOP-1.1.1-16-BK1-2017-00003 pály. | H61: 1400000 | I61: =SUM(G61:H61) -> 1400000 | K61: =SUM(I61:J61) -> 1400000 | M61: =SUM(K61:L61) -> 1400000 | O61: =SUM(M61:N61) -> 1400000 | P61: 1293066 | R61: =SUM(P61:Q61) -> 1293066 | T61: =SUM(R61:S61) -> 1293066 | V61: =SUM(T61:U61) -> 1293066 | X61: =SUM(V61:W61) -> 1293066 | Z61: =SUM(X61:Y61) -> 1293066 | AB61: =SUM(Z61:AA61) -> 1293066 | AD61: =SUM(AB61:AC61) -> 1293066 | AF61: =SUM(AD61:AE61) -> 1293066 | AH61: =SUM(AF61:AG61) -> 1293066 | AI61: 237033 | AK61: =SUM(AI61:AJ61) -> 237033
A62: 2515. Leromlott Városi területek rehabilitációja TOP-4.3.1-15-BK1-2016-00001 | P62: 307000 | R62: =SUM(P62:Q62) -> 307000 | T62: =SUM(R62:S62) -> 307000 | V62: =SUM(T62:U62) -> 307000 | X62: =SUM(V62:W62) -> 307000 | Z62: =SUM(X62:Y62) -> 307000 | AB62: =SUM(Z62:AA62) -> 307000 | AD62: =SUM(AB62:AC62) -> 307000 | AF62: =SUM(AD62:AE62) -> 307000 | AH62: =SUM(AF62:AG62) -> 307000 | AI62: 0 | AK62: =SUM(AI62:AJ62) -> 0
A63: 2516. TOP-7.1.1-16-H-ERFA-2019-00157 „Városrészek megújulnak” pályázat | W63: 140000 | X63: =SUM(V63:W63) -> 140000 | Z63: =SUM(X63:Y63) -> 140000 | AB63: =SUM(Z63:AA63) -> 140000 | AD63: =SUM(AB63:AC63) -> 140000 | AF63: =SUM(AD63:AE63) -> 140000 | AH63: =SUM(AF63:AG63) -> 140000 | AI63: 0 | AK63: =SUM(AI63:AJ63) -> 0
A64: 2517. TP-1-2018. pályázat - Nagyszőlő Úti Gazdakör tanyasi közösségi terének kialakítása | Y64: 8000 | Z64: =SUM(X64:Y64) -> 8000 | AB64: =SUM(Z64:AA64) -> 8000 | AD64: =SUM(AB64:AC64) -> 8000 | AF64: =SUM(AD64:AE64) -> 8000 | AH64: =SUM(AF64:AG64) -> 8000 | AK64: =SUM(AI64:AJ64) -> 0
A65: 2518. 20/2017. FM. Rend. Tanyafejl.prg. Tanyás térség megőrzése | Y65: 500 | Z65: =SUM(X65:Y65) -> 500 | AB65: =SUM(Z65:AA65) -> 500 | AD65: =SUM(AB65:AC65) -> 500 | AF65: =SUM(AD65:AE65) -> 500 | AH65: =SUM(AF65:AG65) -> 500 | AK65: =SUM(AI65:AJ65) -> 0
A66: 2516. Csólyosi út fejlesztése és gépbeszerzés - VP6-7.2.1.7.4.1.2-16. pályázat | Y66: 108387 | Z66: =SUM(X66:Y66) -> 108387 | AB66: =SUM(Z66:AA66) -> 108387 | AD66: =SUM(AB66:AC66) -> 108387 | AF66: =SUM(AD66:AE66) -> 108387 | AH66: =SUM(AF66:AG66) -> 108387 | AI66: 108387 | AJ66: 511 | AK66: =SUM(AI66:AJ66) -> 108898
A67: 2517. TOP-1.4.1-19. Móravárosi kétcsop.bölcsöde építése | AC67: 369000 | AD67: =SUM(AB67:AC67) -> 369000 | AF67: =SUM(AD67:AE67) -> 369000 | AH67: =SUM(AF67:AG67) -> 369000 | AI67: 354978 | AK67: =SUM(AI67:AJ67) -> 354978
A68: 3. Közhatalmi bevételek | B68: =B69+B72+B74+B81 -> 0 | C68: =C69+C72+C74+C81 -> 0 | D68: =D69+D72+D74+D81 -> 0 | E68: =E69+E72+E74+E81 -> 0 | F68: =F69+F72+F74+F81 -> 0 | G68: =G69+G72+G74+G81 -> 0 | H68: =H69+H72+H74+H81 -> 0 | I68: =I69+I72+I74+I81 -> 0 | ... AK68: =AK69+AK72+AK74+AK81 -> 2124850
A69: 31. Jövedelemadó | B69: =B70 -> 0 | C69: =C70 -> 0 | D69: =D70 -> 0 | E69: =E70 -> 0 | F69: =F70 -> 0 | G69: =G70 -> 0 | H69: =H70 -> 0 | I69: =I70 -> 0 | ... AK69: =AK70 -> 30
A70: 311. Magánszemélyek jövedelemadói | B70: =B71 -> 0 | C70: =C71 -> 0 | D70: =D71 -> 0 | E70: =E71 -> 0 | F70: =F71 -> 0 | G70: =G71 -> 0 | H70: =H71 -> 0 | I70: =I71 -> 0 | ... AK70: =AK71 -> 30
A71: 3111. Termőföld bérbeadásából származó jöv.utáni SZJA | C71: =SUM(B71:B71) -> 0 | E71: =SUM(C71:D71) -> 0 | G71: =SUM(E71:F71) -> 0 | I71: =SUM(G71:H71) -> 0 | K71: =SUM(I71:J71) -> 0 | M71: =SUM(K71:L71) -> 0 | O71: =SUM(M71:N71) -> 0 | P71: 30 | R71: =SUM(P71:Q71) -> 30 | T71: =SUM(R71:S71) -> 30 | V71: =SUM(T71:U71) -> 30 | X71: =SUM(V71:W71) -> 30 | Z71: =SUM(X71:Y71) -> 30 | AB71: =SUM(Z71:AA71) -> 30 | AD71: =SUM(AB71:AC71) -> 30 | AF71: =SUM(AD71:AE71) -> 30 | AH71: =SUM(AF71:AG71) -> 30 | AI71: 30 | AK71: =SUM(AI71:AJ71) -> 30
A72: 34. Vagyon típusú adók | B72: =B73 -> 0 | C72: =C73 -> 0 | D72: =D73 -> 0 | E72: =E73 -> 0 | F72: =F73 -> 0 | G72: =G73 -> 0 | H72: =H73 -> 0 | I72: =I73 -> 0 | ... AK72: =AK73 -> 275000
A73: 341. Építményadó | C73: =SUM(B73:B73) -> 0 | E73: =SUM(C73:D73) -> 0 | G73: =SUM(E73:F73) -> 0 | I73: =SUM(G73:H73) -> 0 | K73: =SUM(I73:J73) -> 0 | M73: =SUM(K73:L73) -> 0 | O73: =SUM(M73:N73) -> 0 | P73: 250000 | R73: =SUM(P73:Q73) -> 250000 | T73: =SUM(R73:S73) -> 250000 | V73: =SUM(T73:U73) -> 250000 | X73: =SUM(V73:W73) -> 250000 | Z73: =SUM(X73:Y73) -> 250000 | AB73: =SUM(Z73:AA73) -> 250000 | AD73: =SUM(AB73:AC73) -> 250000 | AF73: =SUM(AD73:AE73) -> 250000 | AG73: 27044 | AH73: =SUM(AF73:AG73) -> 277044 | AI73: =245000+20000+10000 -> 275000 | AK73: =SUM(AI73:AJ73) -> 275000
A74: 35. Termékek és szolgáltatások adója | B74: =B75+B78+B79 -> 0 | C74: =C75+C78+C79 -> 0 | D74: =D75+D78+D79 -> 0 | E74: =E75+E78+E79 -> 0 | F74: =F75+F78+F79 -> 0 | G74: =G75+G78+G79 -> 0 | H74: =H75+H78+H79 -> 0 | I74: =I75+I78+I79 -> 0 | ... AK74: =AK75+AK78+AK79 -> 1846000
A75: 351. Értékesítési és forgalmi adók | B75: =B76+B77 -> 0 | C75: =C76+C77 -> 0 | D75: =D76+D77 -> 0 | E75: =E76+E77 -> 0 | F75: =F76+F77 -> 0 | G75: =G76+G77 -> 0 | H75: =H76+H77 -> 0 | I75: =I76+I77 -> 0 | ... N75: =N76+N77 -> 101101 | O75: 1659166 | P75: =P76+P77 -> 1700000 | Q75: =Q76+Q77 -> 0 | R75: =R76+R77 -> 1700000 | S75: =S76+S77 -> 0 | T75: =T76+T77 -> 1700000 | U75: =U76+U77 -> 0 | V75: =V76+V77 -> 1700000 | W75: =W76+W77 -> 0 | ... AI75: =AI76+AI77 -> 1750000 | AK75: =SUM(AI75:AJ75) -> 1750000
A76: 3511. Állandó jelleggel végzett iparűzési tevékenység után fizetett adó | C76: =SUM(B76:B76) -> 0 | E76: =SUM(C76:D76) -> 0 | G76: =SUM(E76:F76) -> 0 | I76: =SUM(G76:H76) -> 0 | K76: =SUM(I76:J76) -> 0 | M76: =SUM(K76:L76) -> 0 | N76: 101101 | O76: =SUM(M76:N76) -> 101101 | P76: 1700000 | R76: =SUM(P76:Q76) -> 1700000 | T76: =SUM(R76:S76) -> 1700000 | V76: =SUM(T76:U76) -> 1700000 | X76: =SUM(V76:W76) -> 1700000 | Z76: =SUM(X76:Y76) -> 1700000 | AB76: =SUM(Z76:AA76) -> 1700000 | AD76: =SUM(AB76:AC76) -> 1700000 | AF76: =SUM(AD76:AE76) -> 1700000 | AH76: =SUM(AF76:AG76) -> 1700000 | AI76: =1551000+149000+50000 -> 1750000 | AK76: =SUM(AI76:AJ76) -> 1750000
A77: 3512. Ideiglenes jelleggel végzett iparűzési tevékenység után fizetett adó | C77: =SUM(B77:B77) -> 0 | E77: =SUM(C77:D77) -> 0 | G77: =SUM(E77:F77) -> 0 | I77: =SUM(G77:H77) -> 0 | K77: =SUM(I77:J77) -> 0 | M77: =SUM(K77:L77) -> 0 | O77: =SUM(M77:N77) -> 0 | R77: =SUM(P77:Q77) -> 0 | T77: =SUM(R77:S77) -> 0 | V77: =SUM(T77:U77) -> 0 | X77: =SUM(V77:W77) -> 0 | Z77: =SUM(X77:Y77) -> 0 | AB77: =SUM(Z77:AA77) -> 0 | AD77: =SUM(AB77:AC77) -> 0 | AF77: =SUM(AD77:AE77) -> 0 | AH77: =SUM(AF77:AG77) -> 0 | AK77: =SUM(AI77:AJ77) -> 0
A78: 354. Gépjárműadó önkormányzatot megillető része | C78: =SUM(B78:B78) -> 0 | E78: =SUM(C78:D78) -> 0 | G78: =SUM(E78:F78) -> 0 | I78: =SUM(G78:H78) -> 0 | K78: =SUM(I78:J78) -> 0 | M78: =SUM(K78:L78) -> 0 | O78: =SUM(M78:N78) -> 0 | P78: 95600 | R78: =SUM(P78:Q78) -> 95600 | T78: =SUM(R78:S78) -> 95600 | V78: =SUM(T78:U78) -> 95600 | X78: =SUM(V78:W78) -> 95600 | Z78: =SUM(X78:Y78) -> 95600 | AB78: =SUM(Z78:AA78) -> 95600 | AD78: =SUM(AB78:AC78) -> 95600 | AF78: =SUM(AD78:AE78) -> 95600 | AH78: =SUM(AF78:AG78) -> 95600 | AI78: =90600+5000 -> 95600 | AK78: =SUM(AI78:AJ78) -> 95600
A79: 355. Egyéb áruhasználati és szolgáltatási adók | B79: =B80 -> 0 | C79: =C80 -> 0 | D79: =D80 -> 0 | E79: =E80 -> 0 | F79: =F80 -> 0 | G79: =G80 -> 0 | H79: =H80 -> 0 | I79: =I80 -> 0 | ... AI79: =AI80 -> 400 | AK79: =SUM(AI79:AJ79) -> 400
A80: 3551. Idegenforgalmi adó tartózkodás után | C80: =SUM(B80:B80) -> 0 | E80: =SUM(C80:D80) -> 0 | G80: =SUM(E80:F80) -> 0 | I80: =SUM(G80:H80) -> 0 | K80: =SUM(I80:J80) -> 0 | M80: =SUM(K80:L80) -> 0 | O80: =SUM(M80:N80) -> 0 | P80: 520 | R80: =SUM(P80:Q80) -> 520 | T80: =SUM(R80:S80) -> 520 | V80: =SUM(T80:U80) -> 520 | X80: =SUM(V80:W80) -> 520 | Z80: =SUM(X80:Y80) -> 520 | AB80: =SUM(Z80:AA80) -> 520 | AD80: =SUM(AB80:AC80) -> 520 | AF80: =SUM(AD80:AE80) -> 520 | AH80: =SUM(AF80:AG80) -> 520 | AI80: 400 | AK80: =SUM(AI80:AJ80) -> 400
A81: 36. Egyéb közhatalmi bevételek | B81: =+B82+B83+B84 -> 0 | C81: =+C82+C83+C84 -> 0 | D81: =+D82+D83+D84 -> 0 | E81: =+E82+E83+E84 -> 0 | F81: =+F82+F83+F84 -> 0 | G81: =+G82+G83+G84 -> 0 | H81: =+H82+H83+H84 -> 0 | I81: =+I82+I83+I84 -> 0 | ... AK81: =+AK82+AK83+AK84 -> 3820
A82: 361. Szabálysértési, egyéb bírság | C82: =SUM(B82:B82) -> 0 | E82: =SUM(C82:D82) -> 0 | G82: =SUM(E82:F82) -> 0 | I82: =SUM(G82:H82) -> 0 | K82: =SUM(I82:J82) -> 0 | M82: =SUM(K82:L82) -> 0 | O82: =SUM(M82:N82) -> 0 | P82: =350+200 -> 550 | R82: =SUM(P82:Q82) -> 550 | T82: =SUM(R82:S82) -> 550 | V82: =SUM(T82:U82) -> 550 | X82: =SUM(V82:W82) -> 550 | Z82: =SUM(X82:Y82) -> 550 | AB82: =SUM(Z82:AA82) -> 550 | AD82: =SUM(AB82:AC82) -> 550 | AF82: =SUM(AD82:AE82) -> 550 | AH82: =SUM(AF82:AG82) -> 550 | AI82: =350 -> 350 | AK82: =SUM(AI82:AJ82) -> 350
A83: 362. Adópótlék, késedelmi, önellenőrzési pótlék | C83: =SUM(B83:B83) -> 0 | E83: =SUM(C83:D83) -> 0 | G83: =SUM(E83:F83) -> 0 | I83: =SUM(G83:H83) -> 0 | K83: =SUM(I83:J83) -> 0 | M83: =SUM(K83:L83) -> 0 | O83: =SUM(M83:N83) -> 0 | P83: =1615 -> 1615 | R83: =SUM(P83:Q83) -> 1615 | T83: =SUM(R83:S83) -> 1615 | V83: =SUM(T83:U83) -> 1615 | X83: =SUM(V83:W83) -> 1615 | Z83: =SUM(X83:Y83) -> 1615 | AB83: =SUM(Z83:AA83) -> 1615 | AD83: =SUM(AB83:AC83) -> 1615 | AF83: =SUM(AD83:AE83) -> 1615 | AG83: 4656 | AH83: =SUM(AF83:AG83) -> 6271 | AI83: =1700 -> 1700 | AK83: =SUM(AI83:AJ83) -> 1700
A84: 363. Talajterhelési díj | C84: =SUM(B84:B84) -> 0 | E84: =SUM(C84:D84) -> 0 | G84: =SUM(E84:F84) -> 0 | I84: =SUM(G84:H84) -> 0 | K84: =SUM(I84:J84) -> 0 | M84: =SUM(K84:L84) -> 0 | O84: =SUM(M84:N84) -> 0 | P84: 2100 | R84: =SUM(P84:Q84) -> 2100 | T84: =SUM(R84:S84) -> 2100 | V84: =SUM(T84:U84) -> 2100 | X84: =SUM(V84:W84) -> 2100 | Z84: =SUM(X84:Y84) -> 2100 | AB84: =SUM(Z84:AA84) -> 2100 | AD84: =SUM(AB84:AC84) -> 2100 | AF84: =SUM(AD84:AE84) -> 2100 | AH84: =SUM(AF84:AG84) -> 2100 | AI84: 1770 | AK84: =SUM(AI84:AJ84) -> 1770
A85: 4. Működési bevételek | B85: =B86+B87+B90+B91+B94+B95+#REF!+B96 -> #REF! | C85: =C86+C87+C90+C91+C94+C95+#REF!+C96 -> #REF! | D85: =D86+D87+D90+D91+D94+D95+#REF!+D96 -> #REF! | E85: =E86+E87+E90+E91+E94+E95+#REF!+E96 -> #REF! | F85: =F86+F87+F90+F91+F94+F95+#REF!+F96 -> #REF! | G85: =G86+G87+G90+G91+G94+G95+#REF!+G96 -> #REF! | H85: =H86+H87+H90+H91+H94+H95+#REF!+H96 -> #REF! | I85: =I86+I87+I90+I91+I94+I95+#REF!+I96 -> #REF! | ... O85: =O86+O87+O90+O91+O94+O95+#REF!+O96 -> #REF! | P85: =P86+P87+P90+P91+P94+P95+P96 -> 566509.99 | Q85: =Q86+Q87+Q90+Q91+Q94+Q95+Q96 -> 0 | R85: =R86+R87+R90+R91+R94+R95+R96 -> 566509.99 | S85: =S86+S87+S90+S91+S94+S95+S96 -> 806 | T85: =T86+T87+T90+T91+T94+T95+T96 -> 567315.99 | U85: =U86+U87+U90+U91+U94+U95+U96 -> 3017 | V85: =V86+V87+V90+V91+V94+V95+V96 -> 570332.99 | W85: =W86+W87+W90+W91+W94+W95+W96 -> 4281 | ... AH85: =AH86+AH87+AH90+AH91+AH94+AH95+AH96 -> 578079.99 | AI85: =AI86+AI87+AI90+AI91+AI94+AI96 -> 357115 | AJ85: =AJ86+AJ87+AJ90+AJ91+AJ94+AJ96 -> 0 | AK85: =AK86+AK87+AK90+AK91+AK94+AK96 -> 357115
A86: 401. Áru és készletértékesítés | C86: =SUM(B86:B86) -> 0 | E86: =SUM(C86:D86) -> 0 | G86: =SUM(E86:F86) -> 0 | I86: =SUM(G86:H86) -> 0 | K86: =SUM(I86:J86) -> 0 | M86: =SUM(K86:L86) -> 0 | O86: =SUM(M86:N86) -> 0 | P86: 929 | R86: =SUM(P86:Q86) -> 929 | S86: 49 | T86: =SUM(R86:S86) -> 978 | V86: =SUM(T86:U86) -> 978 | X86: =SUM(V86:W86) -> 978 | Z86: =SUM(X86:Y86) -> 978 | AB86: =SUM(Z86:AA86) -> 978 | AD86: =SUM(AB86:AC86) -> 978 | AF86: =SUM(AD86:AE86) -> 978 | AH86: =SUM(AF86:AG86) -> 978 | AI86: 400 | AK86: =SUM(AI86:AJ86) -> 400
A87: 402. Szolgáltatások ellenértéke | B87: =B88+B89 -> 0 | C87: =C88+C89 -> 0 | D87: =D88+D89 -> 0 | E87: =E88+E89 -> 0 | F87: =F88+F89 -> 0 | G87: =G88+G89 -> 0 | H87: =H88+H89 -> 0 | I87: =I88+I89 -> 0 | ... AK87: =AK88+AK89 -> 2100
A88: 4021. Jelzőrendsz.házi s.ny. , üdülő bérbeadása | C88: =SUM(B88:B88) -> 0 | E88: =SUM(C88:D88) -> 0 | G88: =SUM(E88:F88) -> 0 | I88: =SUM(G88:H88) -> 0 | K88: =SUM(I88:J88) -> 0 | L88: 787 | M88: =SUM(K88:L88) -> 787 | O88: 1387 | P88: =100 -> 100 | R88: =SUM(P88:Q88) -> 100 | T88: =SUM(R88:S88) -> 100 | V88: =SUM(T88:U88) -> 100 | X88: =SUM(V88:W88) -> 100 | Z88: =SUM(X88:Y88) -> 100 | AA88: 2345 | AB88: =SUM(Z88:AA88) -> 2445 | AD88: =SUM(AB88:AC88) -> 2445 | AF88: =SUM(AD88:AE88) -> 2445 | AH88: =SUM(AF88:AG88) -> 2445 | AI88: 100 | AK88: =SUM(AI88:AJ88) -> 100
A89: 4022. Egyéb szolgáltatás (rendezvények, viziközmű érd.) | C89: =SUM(B89:B89) -> 0 | E89: =SUM(C89:D89) -> 0 | G89: =SUM(E89:F89) -> 0 | I89: =SUM(G89:H89) -> 0 | K89: =SUM(I89:J89) -> 0 | M89: =SUM(K89:L89) -> 0 | O89: =SUM(M89:N89) -> 0 | P89: 3000 | R89: =SUM(P89:Q89) -> 3000 | T89: =SUM(R89:S89) -> 3000 | V89: =SUM(T89:U89) -> 3000 | X89: =SUM(V89:W89) -> 3000 | Z89: =SUM(X89:Y89) -> 3000 | AB89: =SUM(Z89:AA89) -> 3000 | AD89: =SUM(AB89:AC89) -> 3000 | AF89: =SUM(AD89:AE89) -> 3000 | AH89: =SUM(AF89:AG89) -> 3000 | AI89: 2000 | AK89: =SUM(AI89:AJ89) -> 2000
A90: 403. Közvetített szolgáltatások áht-n kívül (bérlakások közös ktg, Ipari park) | C90: =SUM(B90:B90) -> 0 | E90: =SUM(C90:D90) -> 0 | G90: =SUM(E90:F90) -> 0 | I90: =SUM(G90:H90) -> 0 | K90: =SUM(I90:J90) -> 0 | M90: =SUM(K90:L90) -> 0 | O90: =SUM(M90:N90) -> 0 | P90: =20000+3000 -> 23000 | R90: =SUM(P90:Q90) -> 23000 | T90: =SUM(R90:S90) -> 23000 | V90: =SUM(T90:U90) -> 23000 | X90: =SUM(V90:W90) -> 23000 | Z90: =SUM(X90:Y90) -> 23000 | AB90: =SUM(Z90:AA90) -> 23000 | AD90: =SUM(AB90:AC90) -> 23000 | AF90: =SUM(AD90:AE90) -> 23000 | AH90: =SUM(AF90:AG90) -> 23000 | AI90: 23000 | AK90: =SUM(AI90:AJ90) -> 23000
A91: 404. Tulajdonosi bevételek | B91: =B92+#REF! -> #REF! | C91: =C92+#REF! -> #REF! | D91: =D92+D93 -> 1890 | E91: =E92+E93 -> 1890 | F91: =F92+F93 -> 0 | G91: =G92+G93 -> 1890 | H91: =H92+H93 -> 0 | I91: =I92+I93 -> 1890 | J91: =J92+J93 -> 0 | K91: =K92+K93 -> 1890 | ... AK91: =AK92+AK93 -> 234771
A92: 4041. Önkormányzati vagyon üzemeltetésbe adásából származó bev. | C92: =SUM(B92:B92) -> 0 | D92: =800-5200 -> -4400 | E92: =SUM(C92:D92) -> -4400 | G92: =SUM(E92:F92) -> -4400 | I92: =SUM(G92:H92) -> -4400 | K92: =SUM(I92:J92) -> -4400 | M92: =SUM(K92:L92) -> -4400 | O92: =SUM(M92:N92) -> -4400 | P92: =248308+5000 -> 253308 | R92: =SUM(P92:Q92) -> 253308 | T92: =SUM(R92:S92) -> 253308 | V92: =SUM(T92:U92) -> 253308 | W92: 2693 | X92: =SUM(V92:W92) -> 256001 | Z92: =SUM(X92:Y92) -> 256001 | AB92: =SUM(Z92:AA92) -> 256001 | AD92: =SUM(AB92:AC92) -> 256001 | AF92: =SUM(AD92:AE92) -> 256001 | AH92: =SUM(AF92:AG92) -> 256001 | AI92: 234771 | AK92: =SUM(AI92:AJ92) -> 234771
A93: 4042. Osztalék bevétel | D93: 6290 | E93: =SUM(C93:D93) -> 6290 | G93: =SUM(E93:F93) -> 6290 | I93: =SUM(G93:H93) -> 6290 | K93: =SUM(I93:J93) -> 6290 | M93: =SUM(K93:L93) -> 6290 | O93: =SUM(M93:N93) -> 6290 | P93: 6290 | R93: =SUM(P93:Q93) -> 6290 | T93: =SUM(R93:S93) -> 6290 | V93: =SUM(T93:U93) -> 6290 | X93: =SUM(V93:W93) -> 6290 | Z93: =SUM(X93:Y93) -> 6290 | AB93: =SUM(Z93:AA93) -> 6290 | AC93: 1121 | AD93: =SUM(AB93:AC93) -> 7411 | AF93: =SUM(AD93:AE93) -> 7411 | AH93: =SUM(AF93:AG93) -> 7411 | AI93: 0 | AK93: =SUM(AI93:AJ93) -> 0
A94: 406. Kiszámlázott termékek ÁFA-ja | C94: =SUM(B94:B94) -> 0 | D94: =216+1404 -> 1620 | E94: =SUM(C94:D94) -> 1620 | G94: =SUM(E94:F94) -> 1620 | I94: =SUM(G94:H94) -> 1620 | K94: =SUM(I94:J94) -> 1620 | M94: =SUM(K94:L94) -> 1620 | O94: 71458 | P94: =(P86+P90+P92+P87)*0.27 -> 75690.99 | R94: =SUM(P94:Q94) -> 75690.99 | T94: =SUM(R94:S94) -> 75690.99 | V94: =SUM(T94:U94) -> 75690.99 | X94: =SUM(V94:W94) -> 75690.99 | Z94: =SUM(X94:Y94) -> 75690.99 | AB94: =SUM(Z94:AA94) -> 75690.99 | AD94: =SUM(AB94:AC94) -> 75690.99 | AF94: =SUM(AD94:AE94) -> 75690.99 | AH94: =SUM(AF94:AG94) -> 75690.99 | AI94: =33197+69733-6714 -> 96216 | AK94: =SUM(AI94:AJ94) -> 96216
A95: 407. ÁFA visszatérülések | C95: =SUM(B95:B95) -> 0 | D95: =8640-216-1404 -> 7020 | E95: =SUM(C95:D95) -> 7020 | G95: =SUM(E95:F95) -> 7020 | I95: =SUM(G95:H95) -> 7020 | J95: 21600 | K95: =SUM(I95:J95) -> 28620 | M95: =SUM(K95:L95) -> 28620 | O95: 95981 | P95: 203692 | R95: =SUM(P95:Q95) -> 203692 | S95: 757 | T95: =SUM(R95:S95) -> 204449 | U95: 3017 | V95: =SUM(T95:U95) -> 207466 | X95: =SUM(V95:W95) -> 207466 | Z95: =SUM(X95:Y95) -> 207466 | AB95: =SUM(Z95:AA95) -> 207466 | AD95: =SUM(AB95:AC95) -> 207466 | AF95: =SUM(AD95:AE95) -> 207466 | AH95: 207466 | AI95: 0 | AK95: =SUM(AI95:AJ95) -> 0
A96: 407.Egyéb működési bevételek (Viziközmű Társulattól átvett fea. - közműfejl.hj.törlesztő) | C96: =SUM(B96:B96) -> 0 | E96: =SUM(C96:D96) -> 0 | F96: 40000 | G96: =SUM(E96:F96) -> 40000 | I96: =SUM(G96:H96) -> 40000 | K96: =SUM(I96:J96) -> 40000 | M96: =SUM(K96:L96) -> 40000 | O96: =SUM(M96:N96) -> 40000 | P96: 500 | R96: =SUM(P96:Q96) -> 500 | T96: =SUM(R96:S96) -> 500 | V96: =SUM(T96:U96) -> 500 | W96: 1588 | X96: =SUM(V96:W96) -> 2088 | Z96: =SUM(X96:Y96) -> 2088 | AB96: =SUM(Z96:AA96) -> 2088 | AD96: =SUM(AB96:AC96) -> 2088 | AF96: =SUM(AD96:AE96) -> 2088 | AH96: =SUM(AF96:AG96) -> 2088 | AI96: 628 | AK96: =SUM(AI96:AJ96) -> 628
A97: 5. Felhalmozási bevételek | B97: =B98+#REF!+#REF! -> #REF! | C97: =C98+#REF!+#REF! -> #REF! | D97: =D98+#REF!+#REF! -> #REF! | E97: =E98+#REF!+#REF! -> #REF! | F97: =F98+#REF!+#REF! -> #REF! | G97: =G98+#REF!+#REF! -> #REF! | H97: =H98+#REF!+#REF! -> #REF! | I97: =I98+#REF!+#REF! -> #REF! | ... O97: =O98+#REF!+#REF! -> #REF! | P97: =P98 -> 150000 | Q97: =Q98 -> 0 | R97: =R98 -> 150000 | S97: =S98 -> 0 | T97: =T98 -> 150000 | U97: =U98 -> 0 | V97: =V98 -> 150000 | W97: =W98 -> 0 | ... AK97: =AK98 -> 172952
A98: 51. Ingatlanok értékesítése | B98: =B99 -> 0 | C98: =C99 -> 0 | D98: =D99 -> 0 | E98: =E99 -> 0 | F98: =F99 -> 0 | G98: =G99 -> 0 | H98: =H99 -> 0 | I98: =I99 -> 0 | ... N98: =N99 -> 0 | O98: =O99+#REF! -> #REF! | P98: =P99 -> 150000 | Q98: =Q99 -> 0 | R98: =R99 -> 150000 | S98: =S99 -> 0 | T98: =T99 -> 150000 | U98: =U99 -> 0 | V98: =V99 -> 150000 | W98: =W99 -> 0 | ... AK98: =AK99 -> 172952
A99: 511. Ingatlanértékesítés | C99: =SUM(B99:B99) -> 0 | E99: =SUM(C99:D99) -> 0 | G99: =SUM(E99:F99) -> 0 | I99: =SUM(G99:H99) -> 0 | K99: =SUM(I99:J99) -> 0 | M99: =SUM(K99:L99) -> 0 | O99: =SUM(M99:N99) -> 0 | P99: 150000 | R99: =SUM(P99:Q99) -> 150000 | T99: =SUM(R99:S99) -> 150000 | V99: =SUM(T99:U99) -> 150000 | X99: =SUM(V99:W99) -> 150000 | Z99: =SUM(X99:Y99) -> 150000 | AB99: =SUM(Z99:AA99) -> 150000 | AD99: =SUM(AB99:AC99) -> 150000 | AF99: =SUM(AD99:AE99) -> 150000 | AH99: =SUM(AF99:AG99) -> 150000 | AI99: =122952+50000 -> 172952 | AK99: =SUM(AI99:AJ99) -> 172952
A100: 6. Működési célú átvett pénzeszközök | B100: =B105 -> 0 | C100: =C105 -> 0 | D100: =D105 -> 0 | E100: =E105 -> 0 | F100: =F105 -> 0 | G100: =G105 -> 0 | H100: =H105 -> 0 | I100: =I105 -> 0 | ... M100: =M105 -> 0 | O100: =SUM(M100:N100) -> 0 | P100: =P101+P105 -> 0 | Q100: =Q101+Q105 -> 3381 | R100: =R101+R105 -> 3381 | S100: =S101+S105 -> 13851 | T100: =T101+T105 -> 17232 | U100: =U101+U105 -> 2811 | V100: =V101+V105 -> 20043 | W100: =W101+W105 -> 595 | ... AK100: =AK101+AK105 -> 36544
...

Sheet Köt.nem köt.
K1: 2/a. melléklet
A2: Önkormányzati feladatellátás megbontása kötelező, nem kötelező feladatokra
A3: INTÉZMÉNY | B3: Kötelező feladatok | N3: INTÉZMÉNY | O3: Önként vállalt feladatok | AA3: MINDÖSZ-SZESEN
B4: bevételek összetétele | I4: kiadások összetétele | O4: bevételek összetétele | V4: kiadások összetétele
B5: mc.tám.áht-n belülről | C5: pályázati forrás, átvett pe., egyéb | D5: NEAK | E5: saját bevétel | F5: önk. saját erő | G5: pénzma-radvány | H5: Bevételek összesen | I5: szem.j. | J5: m.adó | K5: dologi + egyéb | L5: felhalm. | M5: Kiadások összesen | O5: közp.kvi tám. | P5: pályázati forrás, átvett pe., v.ig.ÁFA | Q5: NEAK | R5: intézmény saját bevétel | S5: önk. saját erő | T5: pénzma-radvány | U5: Bevételek összesen | V5: szem.j. | W5: m.adó | X5: dologi + egyéb | Y5: felhalm. | Z5: Kiadások összesen
A6: Kiskunfélegyházi Napköziotthonos Óvoda | B6: 526172 | E6: 1075 | F6: 8485 | H6: =SUM(B6:F6) -> 535732 | I6: 439337 | J6: 86895 | K6: 9000 | L6: 500 | M6: =SUM(I6:L6) -> 535732 | N6: Kiskunfélegyházi Napköziotthonos Óvoda | U6: =SUM(O6:S6) -> 0 | AA6: =M6+Z6 -> 535732 | AB6: 0
A7: Petőfi S. Városi Könyvtár | B7: 18862 | E7: 1700 | F7: 44226 | H7: =SUM(B7:F7) -> 64788 | I7: 46676 | J7: 8224 | K7: 9888 | M7: =SUM(I7:L7) -> 64788 | N7: Petőfi S. Városi Könyvtár | U7: =SUM(O7:S7) -> 0 | Z7: =SUM(V7:Y7) -> 0 | AA7: =M7+Z7 -> 64788
A8: Móra Ferenc Művelődési Központ | B8: 18862 | E8: 11771 | F8: 26113 | H8: =SUM(B8:F8) -> 56746 | I8: 39955 | J8: 7061 | K8: 9602 | L8: 128 | M8: =SUM(I8:L8) -> 56746 | N8: Móra F. Művelődési Ház | U8: =SUM(O8:S8) -> 0 | Z8: =SUM(V8:Y8) -> 0 | AA8: =M8+Z8 -> 56746
A9: Kapocs Szoc. és Gyerrmekvéd. Intézmény | B9: 362618 | E9: 6000 | F9: 19230 | H9: =SUM(B9:F9) -> 387848 | I9: 302344 | J9: 57516 | K9: 25468 | L9: 2520 | M9: =SUM(I9:L9) -> 387848 | N9: Kapocs Szoc. és Gyerrmekvéd. Intézmény | Z9: =SUM(V9:Y9) -> 0 | AA9: =M9+Z9 -> 387848 | AB9: 0
A10: Szivárvány Szem. G. Ny. Int. | B10: 67168 | E10: 60782 | F10: 1200 | G10: =G11+G12+G13 -> 0 | H10: =SUM(B10:F10) -> 129150 | I10: 100710 | J10: 8314 | K10: 19512 | L10: 614 | M10: =SUM(I10:L10) -> 129150 | N10: Szivárvány Szem. G. Ny. Int. | O10: =O11+O12+O13 -> 278507 | P10: =P11+P12+P13 -> 0 | Q10: =Q11+Q12+Q13 -> 0 | R10: =R11+R12+R13 -> 190199 | S10: =S11+S12+S13 -> 61077 | T10: =T11+T12+T13 -> 0 | U10: =SUM(O10:S10) -> 529783 | V10: =V11+V12+V13 -> 297635 | W10: =W11+W12+W13 -> 60137 | X10: =X11+X12+X13 -> 172011 | Y10: =Y11+Y12+Y13 -> 0 | Z10: =SUM(V10:Y10) -> 529783 | AA10: =M10+Z10 -> 658933
H11: =SUM(B11:G11) -> 0 | M11: =SUM(I11:L11) -> 0 | N11: időskorúak tartós bentlakásos szoc.ell. | O11: 261507 | R11: 189500 | S11: 56469 | U11: =SUM(O11:S11) -> 507476 | V11: 283710 | W11: 57316 | X11: 166450 | Z11: =SUM(V11:Y11) -> 507476
N12: tanyagondnoki szolgálat | O12: 17000 | S12: 51 | U12: =SUM(O12:S12) -> 17051 | V12: 10116 | W12: 2075 | X12: 4860 | Z12: =SUM(V12:Y12) -> 17051
N13: jelzőrendszeres házi segítségnyújtás | R13: 699 | S13: =4453+104 -> 4557 | U13: =SUM(O13:S13) -> 5256 | V13: 3809 | W13: 746 | X13: 701 | Z13: =SUM(V13:Y13) -> 5256
A14: Védőnői Szolgálat | D14: 126905 | H14: =SUM(B14:F14) -> 126905 | I14: 102455 | J14: 17918 | K14: 6432 | L14: 100 | M14: =SUM(I14:L14) -> 126905 | N14: Védőnői Szolgálat | AA14: =M14+Z14 -> 126905
A15: Kiskun Múzeum | B15: 20757 | E15: 1300 | F15: 16711 | H15: =SUM(B15:F15) -> 38768 | I15: 29934 | J15: 5285 | K15: 3168 | L15: 381 | M15: =SUM(I15:L15) -> 38768 | N15: Kiskun Múzeum | U15: =SUM(O15:S15) -> 0 | Z15: =SUM(V15:Y15) -> 0 | AA15: =M15+Z15 -> 38768
A16: Polgármesteri Hivatal | B16: 476608 | E16: 164599 | F16: 393812 | H16: =SUM(B16:F16) -> 1035019 | I16: 531375 | J16: 94479 | K16: 404774 | L16: 4391 | M16: =SUM(I16:L16) -> 1035019 | N16: Polgármesteri Hivatal | O16: =O17 -> 0 | P16: =P17 -> 5400 | Q16: =Q17 -> 0 | R16: =R17 -> 0 | S16: =S17 -> 18768 | T16: =T17 -> 0 | U16: =SUM(O16:S16) -> 24168 | V16: =V17 -> 19871 | W16: =W17 -> 2467 | X16: =X17 -> 1830 | Y16: =Y17 -> 0 | Z16: =SUM(V16:Y16) -> 24168 | AA16: =M16+Z16 -> 1059187 | AB16: 0
N17: Mezei Őrszolgálat | P17: 5400 | S17: 18768 | U17: =SUM(O17:S17) -> 24168 | V17: 19871 | W17: 2467 | X17: 1830 | Z17: =SUM(V17:Y17) -> 24168 | AA17: =SUM(Z17) -> 24168
A18: Önkormányzat | B18: 5986 | C18: 986452 | E18: =1447177+60493+6131 -> 1513801 | G18: =1214839+6027+104-6131 -> 1214839 | H18: =SUM(B18:G18) -> 3721078 | I18: 288260 | J18: 40753 | K18: =836653+6131 -> 842784 | L18: 2549281 | M18: =SUM(I18:L18) -> 3721078 | N18: Önkormányzat | O18: =SUM(O19:O26) -> 0 | P18: =SUM(P19:P26) -> 0 | Q18: =SUM(Q19:Q26) -> 0 | R18: =SUM(R19:R26) -> 12700 | S18: =SUM(S19:S26) -> 538194 | T18: =SUM(T19:T26) -> 1302161 | U18: =SUM(U19:U26) -> 1853055 | V18: =SUM(V19:V26) -> 14000 | ... Z18: =SUM(Z19:Z26) -> 1853055 | AA18: =M18+Z18 -> 5574133 | AB18: 0
M19: =SUM(I19:L19) -> 0 | N19: Pénzeszköz átadások | S19: =488512-6131 -> 482381 | U19: =SUM(O19:T19) -> 482381 | X19: =488512-6131 -> 482381 | Z19: =SUM(V19:Y19) -> 482381 | AA19: =M19+Z19 -> 482381
M20: =SUM(I20:L20) -> 0 | N20: Tourinform Iroda | S20: 3300 | U20: =SUM(O20:T20) -> 3300 | X20: 3300 | Z20: =SUM(V20:Y20) -> 3300 | AA20: =M20+Z20 -> 3300
M21: =SUM(I21:L21) -> 0 | N21: GYIÖK működtetése | S21: 700 | U21: =SUM(O21:T21) -> 700 | X21: 700 | Z21: =SUM(V21:Y21) -> 700 | AA21: =M21+Z21 -> 700
M22: =SUM(I22:L22) -> 0 | N22: KEF pályázat, rendezvények | S22: 47015 | U22: =SUM(O22:T22) -> 47015 | V22: 14000 | X22: 33015 | Z22: =SUM(V22:Y22) -> 47015 | AA22: =M22+Z22 -> 47015
M23: =SUM(I23:L23) -> 0 | N23: Üdülő, szálláshely | S23: 988 | U23: =SUM(O23:T23) -> 988 | X23: 988 | Z23: =SUM(V23:Y23) -> 988 | AA23: =M23+Z23 -> 988
M24: =SUM(I24:L24) -> 0 | N24: Ipari park. | R24: 12700 | S24: 3810 | U24: =SUM(O24:T24) -> 16510 | X24: 16510 | Z24: =SUM(V24:Y24) -> 16510 | AA24: =M24+Z24 -> 16510
M25: =SUM(I25:L25) -> 0 | N25: Felhalmozási kiadások önk. saját erő | T25: =1302161-104+6131-6027 -> 1302161 | U25: =SUM(O25:T25) -> 1302161 | Y25: =839749+462412 -> 1302161 | Z25: =SUM(V25:Y25) -> 1302161 | AA25: =M25+Z25 -> 1302161
M26: =SUM(I26:L26) -> 0 | U26: =SUM(O26:T26) -> 0 | Z26: =SUM(V26:Y26) -> 0 | AA26: =M26+Z26 -> 0
A27: MINDÖSSZESEN | B27: =B6+B7+B8+B9+B10+B14+B15+B16+B18 -> 1497033 | C27: =C6+C7+C8+C9+C10+C14+C15+C16+C18 -> 986452 | D27: =D6+D7+D8+D9+D10+D14+D15+D16+D18 -> 126905 | E27: =E6+E7+E8+E9+E10+E14+E15+E16+E18 -> 1761028 | F27: =F6+F7+F8+F9+F10+F14+F15+F16+F18 -> 509777 | G27: =G6+G7+G8+G9+G10+G14+G15+G16+G18 -> 1214839 | H27: =H6+H7+H8+H9+H10+H14+H15+H16+H18 -> 6096034 | I27: =I6+I7+I8+I9+I10+I14+I15+I16+I18 -> 1881046 | ... M27: =M6+M7+M8+M9+M10+M14+M15+M16+M18 -> 6096034 | N27: MINDÖSSZESEN | O27: =O6+O7+O8+O9+O10+O14+O15+O16+O18 -> 278507 | P27: =P6+P7+P8+P9+P10+P14+P15+P16+P18 -> 5400 | Q27: =Q6+Q7+Q8+Q9+Q10+Q14+Q15+Q16+Q18 -> 0 | R27: =R6+R7+R8+R9+R10+R14+R15+R16+R18 -> 202899 | S27: =S6+S7+S8+S9+S10+S14+S15+S16+S18 -> 618039 | T27: =T6+T7+T8+T9+T10+T14+T15+T16+T18 -> 1302161 | U27: =U6+U7+U8+U9+U10+U14+U15+U16+U18 -> 2407006 | V27: =V6+V7+V8+V9+V10+V14+V15+V16+V18 -> 331506 | ... AA27: =AA6+AA7+AA8+AA9+AA10+AA14+AA15+AA16+AA18 -> 8503040
B29: =B27+O27 -> 1775540 | C29: =C27+P27 -> 991852 | D29: =D27+Q27 -> 126905 | E29: =E27+R27 -> 1963927 | F29: =F27+S27 -> 1127816 | G29: =G27+T27 -> 2517000 | H29: =H27+U27 -> 8503040 | I29: =I27+V27 -> 2212552 | ... M29: =M27+Z27 -> 8503040

Sheet Szem.dologi
AQ1: 3. melléklet
A2: Az önkormányzat személyi és dologi kiadásainak részletezése főbb feladatonként 2020. évben
AQ3: me: ezer Ft
A4: MEGNEVEZÉS | B4: Személyi juttatás | X4: Munkaadót terhelő járulék | AF4: Dologi kiadások | AO4: Ö s s z e s e n
B5: 2019. eredeti ei. | C5: Vált. | D5: Mód.ei. | E5: Vált. | F5: várható | G5: Eredeti ei. | H5: 2019. eredeti ei. | I5: Vált. | J5: Mód.ei. | K5: Vált. | L5: várható | M5: 2020 terv | N5: Vált. | O5: Mód.ei. | P5: Mód.ei. | Q5: 2019. eredeti ei. | R5: Vált. | S5: Vált. | T5: várható | U5: Mód.ei. | V5: Vált. | W5: Változás | X5: Eredeti ei. | Y5: 2019. eredeti ei. | Z5: Vált. | AA5: Mód.ei. | AB5: Vált. | AC5: várható | AD5: 2020 terv | AE5: Vált. | AF5: Eredeti | AG5: Mód.ei. | AH5: 2019. eredeti ei. | AI5: Vált. | AJ5: Vált. | AK5: várható | AL5: Mód.ei. | AM5: Vált. | AN5: Változás | AO5: Eredeti ei. | AP5: Változás | AQ5: Módos. Ei.
A6: Önkormányzati igazgatás | B6: =SUM(B7:B28) -> 57103 | C6: =SUM(C7:C28) -> 0 | D6: =SUM(D7:D28) -> 57103 | E6: =SUM(E7:E28) -> 0 | F6: =SUM(F7:F28) -> 62173 | G6: =SUM(G7:G28) -> 63268 | H6: =SUM(H7:H28) -> 11530 | I6: =SUM(I7:I28) -> 0 | ... AQ6: =SUM(AQ7:AQ28) -> 221017
A7: Önkormányzati általános igazgatás (munkavédelem 380, kiadványok 3 millió, esélyegyenl.képzés 50) | Q7: =3430+7000 -> 10430 | U7: =SUM(Q7:R7) -> 10430 | Z7: =SUM(U7:V7) -> 10430 | AB7: =SUM(Z7:AA7) -> 10430 | AD7: 10430 | AF7: =-7000+10430 -> 3430 | AG7: =B7+H7+Q7 -> 10430 | AH7: =C7+I7+R7 -> 0 | AI7: =D7+L7+U7 -> 10430 | AJ7: =E7+M7+V7 -> 0 | AK7: =F7+P7+Z7 -> 10430 | AL7: =J7+S7+AA7 -> 0 | AM7: =F7+T7+AD7 -> 10430 | AO7: =G7+X7+AF7 -> 3430 | AP7: =W7+AE7+AN7 -> 0 | AQ7: =SUM(AO7:AP7) -> 3430
A8: ÁFA befizetés | AF8: 66493 | AO8: =AF8 -> 66493 | AP8: =W8+AE8+AN8 -> 0 | AQ8: =SUM(AO8:AP8) -> 66493
A9: Önkormányzat jogi képviselete | Q9: =3810+4191 -> 8001 | U9: =SUM(Q9:R9) -> 8001 | Z9: =SUM(U9:V9) -> 8001 | AB9: =SUM(Z9:AA9) -> 8001 | AD9: 8001 | AF9: =3810+4191-2540 -> 5461 | AG9: =B9+H9+Q9 -> 8001 | AH9: =C9+I9+R9 -> 0 | AI9: =D9+L9+U9 -> 8001 | AJ9: =E9+M9+V9 -> 0 | AK9: =F9+P9+Z9 -> 8001 | AL9: =J9+S9+AA9 -> 0 | AM9: =F9+T9+AD9 -> 8001 | AO9: =G9+X9+AF9 -> 5461 | AP9: =W9+AE9+AN9 -> 0 | AQ9: =SUM(AO9:AP9) -> 5461
A10: Közbeszerzési kiadások, egyéb felh.kiad.összefüggő dologi kiadások | Q10: 31200 | U10: =SUM(Q10:R10) -> 31200 | Z10: =SUM(U10:V10) -> 31200 | AA10: -750 | AB10: 31200 | AD10: 27711 | AF10: =25000-15000 -> 10000 | AG10: =B10+H10+Q10 -> 31200 | AH10: =C10+I10+R10 -> 0 | AI10: =D10+L10+U10 -> 31200 | AJ10: =E10+M10+V10 -> 0 | AK10: =F10+P10+Z10 -> 31200 | AL10: =J10+S10+AA10 -> -750 | AM10: =F10+T10+AD10 -> 27711 | AO10: =G10+X10+AF10 -> 10000 | AP10: =W10+AE10+AN10 -> 0 | AQ10: =SUM(AO10:AP10) -> 10000
A11: Pénzügyi műveletek kiadásai (bankszámlavezetés, posta) | Q11: =14000-1641 -> 12359 | U11: =SUM(Q11:R11) -> 12359 | Z11: =SUM(U11:V11) -> 12359 | AB11: =SUM(Z11:AA11) -> 12359 | AD11: 12359 | AF11: 12500 | AG11: =B11+H11+Q11 -> 12359 | AH11: =C11+I11+R11 -> 0 | AI11: =D11+L11+U11 -> 12359 | AJ11: =E11+M11+V11 -> 0 | AK11: =F11+P11+Z11 -> 12359 | AL11: =J11+S11+AA11 -> 0 | AM11: =F11+T11+AD11 -> 12359 | AO11: =G11+X11+AF11 -> 12500 | AP11: =W11+AE11+AN11 -> 0 | AQ11: =SUM(AO11:AP11) -> 12500
A12: Egyéb: Tagdíjak (Kun Összefogás Konz.31. Homokhátsági Hull. Konz. 2.499, KÖSZ: 152) | Q12: 4057 | U12: =SUM(Q12:R12) -> 4057 | Z12: =SUM(U12:V12) -> 4057 | AB12: =SUM(Z12:AA12) -> 4057 | AD12: 4057 | AF12: 2682 | AG12: =B12+H12+Q12 -> 4057 | AH12: =C12+I12+R12 -> 0 | AI12: =D12+L12+U12 -> 4057 | AJ12: =E12+M12+V12 -> 0 | AK12: =F12+P12+Z12 -> 4057 | AL12: =J12+S12+AA12 -> 0 | AM12: =F12+T12+AD12 -> 4057 | AO12: =G12+X12+AF12 -> 2682 | AP12: =W12+AE12+AN12 -> 0 | AQ12: =SUM(AO12:AP12) -> 2682
A13: Önkormányzati jogalkotói tevékenység (polgármester, alpolgármester, képviselők, biz.tagok) | B13: =25869+11009+8808+4404+2553+400 -> 53043 | D13: =SUM(B13:C13) -> 53043 | F13: 58513 | G13: 60241 | H13: 10266 | K13: 58513 | L13: =SUM(H13:I13) -> 10266 | O13: =K13+N13 -> 58513 | P13: =SUM(L13:M13) -> 10266 | T13: 11011 | U13: =SUM(Q13:R13) -> 0 | X13: 10610 | Y13: =T13+X13 -> 21621 | Z13: =SUM(U13:V13) -> 0 | AB13: =SUM(Z13:AA13) -> 0 | AD13: 0 | AG13: =B13+H13+Q13 -> 63309 | AH13: =C13+I13+R13 -> 0 | AI13: =D13+L13+U13 -> 63309 | AJ13: =E13+M13+V13 -> 0 | AK13: =F13+P13+Z13 -> 68779 | AL13: =J13+S13+AA13 -> 0 | AM13: =F13+T13+AD13 -> 69524 | AO13: =G13+X13+AF13 -> 70851 | AP13: =W13+AE13+AN13 -> 0 | AQ13: =SUM(AO13:AP13) -> 70851
A14: Háziorvosi ügyeleti ellátás díja- Pe.átadáson tervezve | Q14: 16639 | U14: =SUM(Q14:R14) -> 16639 | V14: -6000 | Z14: =SUM(U14:V14) -> 10639 | AB14: 16639 | AD14: 10639 | AF14: 0 | AG14: =B14+H14+Q14 -> 16639 | AH14: =C14+I14+R14 -> 0 | AI14: =D14+L14+U14 -> 16639 | AJ14: =E14+M14+V14 -> -6000 | AK14: =F14+P14+Z14 -> 10639 | AL14: =J14+S14+AA14 -> 0 | AM14: =F14+T14+AD14 -> 10639 | AO14: =G14+X14+AF14 -> 0 | AP14: =W14+AE14+AN14 -> 0 | AQ14: =SUM(AO14:AP14) -> 0
A15: Külkapcsolatok kiadásai | B15: 2600 | D15: =SUM(B15:C15) -> 2600 | F15: 2600 | G15: 1875 | H15: 1058 | K15: =F15+J15 -> 2600 | L15: =SUM(H15:I15) -> 1058 | O15: =K15+N15 -> 2600 | P15: =SUM(L15:M15) -> 1058 | Q15: =900-558 -> 342 | T15: =P15+S15 -> 1058 | U15: =SUM(Q15:R15) -> 342 | X15: 763 | Y15: =T15+X15 -> 1821 | Z15: =SUM(U15:V15) -> 342 | AB15: 342 | AD15: 482 | AF15: 362 | AG15: =B15+H15+Q15 -> 4000 | AH15: =C15+I15+R15 -> 0 | AI15: =D15+L15+U15 -> 4000 | AJ15: =E15+M15+V15 -> 0 | AK15: =F15+P15+Z15 -> 4000 | AL15: =J15+S15+AA15 -> 0 | AM15: =F15+T15+AD15 -> 4140 | AO15: =G15+X15+AF15 -> 3000 | AP15: =W15+AE15+AN15 -> 0 | AQ15: =SUM(AO15:AP15) -> 3000
A16: GDPR megfelelőségi átvilágítás (Eu adatvéd. - Önk.szervei) 158/2018.öh. - Bolevácz és Vörös Ügyvédi Iroda - 2019-ben nincs számlázva | Q16: 10160 | U16: =SUM(Q16:R16) -> 10160 | Z16: =SUM(U16:V16) -> 10160 | AB16: =SUM(Z16:AA16) -> 10160 | AD16: 10160 | AF16: 10160 | AG16: =B16+H16+Q16 -> 10160 | AH16: =C16+I16+R16 -> 0 | AI16: =D16+L16+U16 -> 10160 | AJ16: =E16+M16+V16 -> 0 | AK16: =F16+P16+Z16 -> 10160 | AL16: =J16+S16+AA16 -> 0 | AM16: =F16+T16+AD16 -> 10160 | AO16: =G16+X16+AF16 -> 10160 | AP16: =W16+AE16+AN16 -> 0 | AQ16: =SUM(AO16:AP16) -> 10160
A17: NISZ Zrt időbélyegzés szolg. | AF17: 12 | AO17: =G17+X17+AF17 -> 12 | AP17: =W17+AE17+AN17 -> 0 | AQ17: =SUM(AO17:AP17) -> 12
A18: Szemünk fénye program | Q18: 8500 | U18: =SUM(Q18:R18) -> 8500 | Z18: =SUM(U18:V18) -> 8500 | AB18: =SUM(Z18:AA18) -> 8500 | AD18: 8500 | AF18: 8500 | AG18: =B18+H18+Q18 -> 8500 | AH18: =C18+I18+R18 -> 0 | AI18: =D18+L18+U18 -> 8500 | AJ18: =E18+M18+V18 -> 0 | AK18: =F18+P18+Z18 -> 8500 | AL18: =J18+S18+AA18 -> 0 | AM18: =F18+T18+AD18 -> 8500 | AO18: =G18+X18+AF18 -> 8500 | AP18: =W18+AE18+AN18 -> 0 | AQ18: =SUM(AO18:AP18) -> 8500
A19: Könyvvizsgálói megbízás | Q19: 914 | U19: =SUM(Q19:R19) -> 914 | Z19: =SUM(U19:V19) -> 914 | AA19: 900 | AB19: 914 | AD19: 1814 | AF19: 1800 | AG19: =B19+H19+Q19 -> 914 | AH19: =C19+I19+R19 -> 0 | AI19: =D19+L19+U19 -> 914 | AJ19: =E19+M19+V19 -> 0 | AK19: =F19+P19+Z19 -> 914 | AL19: =J19+S19+AA19 -> 900 | AM19: =F19+T19+AD19 -> 1814 | AO19: =G19+X19+AF19 -> 1800 | AP19: =W19+AE19+AN19 -> 0 | AQ19: =SUM(AO19:AP19) -> 1800
A20: Foglalkozás-egészségügyi alapellátás (734 fő) | Q20: 2616 | U20: =SUM(Q20:R20) -> 2616 | Z20: =SUM(U20:V20) -> 2616 | AB20: =SUM(Z20:AA20) -> 2616 | AD20: 2616 | AF20: 3009 | AG20: =B20+H20+Q20 -> 2616 | AH20: =C20+I20+R20 -> 0 | AI20: =D20+L20+U20 -> 2616 | AJ20: =E20+M20+V20 -> 0 | AK20: =F20+P20+Z20 -> 2616 | AL20: =J20+S20+AA20 -> 0 | AM20: =F20+T20+AD20 -> 2616 | AO20: =G20+X20+AF20 -> 3009 | AP20: =W20+AE20+AN20 -> 0 | AQ20: =SUM(AO20:AP20) -> 3009
A21: Sportorvosi feladatok ellátása 306/2019.(XII.17) öh. Dr. Szabó Ildikó | Q21: 2200 | U21: =SUM(Q21:R21) -> 2200 | Z21: =SUM(U21:V21) -> 2200 | AA21: 2200 | AB21: 2200 | AD21: 4400 | AF21: 4920 | AG21: =B21+H21+Q21 -> 2200 | AH21: =C21+I21+R21 -> 0 | AI21: =D21+L21+U21 -> 2200 | AJ21: =E21+M21+V21 -> 0 | AK21: =F21+P21+Z21 -> 2200 | AL21: =J21+S21+AA21 -> 2200 | AM21: =F21+T21+AD21 -> 4400 | AO21: =G21+X21+AF21 -> 4920 | AP21: =W21+AE21+AN21 -> 0 | AQ21: =SUM(AO21:AP21) -> 4920
A22: Nappali tagozaton tanuló orvostanhallgatók és rezidensek részére ösztöndíj biztosítása (225/2018. - 400 e/Ft, és 260/2018. öh. 1266 e/Ft) | B22: =(1266+400)-206 -> 1460 | D22: =SUM(B22:C22) -> 1460 | F22: 1060 | G22: 1152 | H22: 206 | K22: 1060 | L22: =SUM(H22:I22) -> 206 | O22: =K22+N22 -> 1060 | P22: =SUM(L22:M22) -> 206 | T22: =P22+S22 -> 206 | U22: =SUM(Q22:R22) -> 0 | X22: 202 | Y22: =T22+X22 -> 408 | Z22: =SUM(U22:V22) -> 0 | AB22: =SUM(Z22:AA22) -> 0 | AD22: 0 | AG22: =B22+H22+Q22 -> 1666 | AH22: =C22+I22+R22 -> 0 | AI22: =D22+L22+U22 -> 1666 | AJ22: =E22+M22+V22 -> 0 | AK22: =F22+P22+Z22 -> 1266 | AL22: =J22+S22+AA22 -> 0 | AM22: =F22+T22+AD22 -> 1266 | AO22: =G22+X22+AF22 -> 1354 | AP22: =W22+AE22+AN22 -> 0 | AQ22: =SUM(AO22:AP22) -> 1354
A23: SOS Gyermekfalu 291/2015. önk.hat. (2016-ban pe. átadáson tervezve) | Q23: 5250 | U23: =SUM(Q23:R23) -> 5250 | Z23: =SUM(U23:V23) -> 5250 | AB23: =SUM(Z23:AA23) -> 5250 | AD23: 5250 | AF23: 5250 | AG23: =B23+H23+Q23 -> 5250 | AH23: =C23+I23+R23 -> 0 | AI23: =D23+L23+U23 -> 5250 | AJ23: =E23+M23+V23 -> 0 | AK23: =F23+P23+Z23 -> 5250 | AL23: =J23+S23+AA23 -> 0 | AM23: =F23+T23+AD23 -> 5250 | AO23: =G23+X23+AF23 -> 5250 | AP23: =W23+AE23+AN23 -> 0 | AQ23: =SUM(AO23:AP23) -> 5250
A24: Kültéri Wifi hálózat szolgáltatás - Polgármesteri Hivatal épületétől a Kossuth utca Dózsa György utcáig terjedő szakaszán | Q24: 1496 | U24: =SUM(Q24:R24) -> 1496 | Z24: =SUM(U24:V24) -> 1496 | AB24: =SUM(Z24:AA24) -> 1496 | AD24: 1496 | AF24: 1496 | AG24: =B24+H24+Q24 -> 1496 | AH24: =C24+I24+R24 -> 0 | AI24: =D24+L24+U24 -> 1496 | AJ24: =E24+M24+V24 -> 0 | AK24: =F24+P24+Z24 -> 1496 | AL24: =J24+S24+AA24 -> 0 | AM24: =F24+T24+AD24 -> 1496 | AO24: =G24+X24+AF24 -> 1496 | AP24: =W24+AE24+AN24 -> 0 | AQ24: =SUM(AO24:AP24) -> 1496
A25: Települési Arculati Kézikönyv és földhivatali adat, térkép éves használati díja, 1956-as 50 db könyv | Q25: 1924 | U25: =SUM(Q25:R25) -> 1924 | Z25: =SUM(U25:V25) -> 1924 | AB25: =SUM(Z25:AA25) -> 1924 | AD25: 1924 | AF25: 1924 | AG25: =B25+H25+Q25 -> 1924 | AH25: =C25+I25+R25 -> 0 | AI25: =D25+L25+U25 -> 1924 | AJ25: =E25+M25+V25 -> 0 | AK25: =F25+P25+Z25 -> 1924 | AL25: =J25+S25+AA25 -> 0 | AM25: =F25+T25+AD25 -> 1924 | AO25: =G25+X25+AF25 -> 1924 | AP25: =W25+AE25+AN25 -> 0 | AQ25: =SUM(AO25:AP25) -> 1924
A26: Buszjárat Kecskemét Kórházhoz - szolg.szerződés - 2020. február 29-ig | Q26: 4500 | R26: 2160 | U26: =SUM(Q26:R26) -> 6660 | Z26: =SUM(U26:V26) -> 6660 | AB26: 4500 | AD26: 6660 | AF26: 6660 | AG26: =B26+H26+Q26 -> 4500 | AH26: =C26+I26+R26 -> 2160 | AI26: =D26+L26+U26 -> 6660 | AJ26: =E26+M26+V26 -> 0 | AK26: =F26+P26+Z26 -> 6660 | AL26: =J26+S26+AA26 -> 0 | AM26: =F26+T26+AD26 -> 6660 | AO26: =G26+X26+AF26 -> 6660 | AP26: =W26+AE26+AN26 -> 0 | AQ26: =SUM(AO26:AP26) -> 6660
A27: Viziközmű Társulattól átvett feladatok (érd.hj.vfiz) | Q27: 245 | U27: =SUM(Q27:R27) -> 245 | Z27: =SUM(U27:V27) -> 245 | AB27: =SUM(Z27:AA27) -> 245 | AD27: 245 | AF27: 245 | AG27: =B27+H27+Q27 -> 245 | AH27: =C27+I27+R27 -> 0 | AI27: =D27+L27+U27 -> 245 | AJ27: =E27+M27+V27 -> 0 | AK27: =F27+P27+Z27 -> 245 | AL27: =J27+S27+AA27 -> 0 | AM27: =F27+T27+AD27 -> 245 | AO27: =G27+X27+AF27 -> 245 | AP27: =W27+AE27+AN27 -> 0 | AQ27: =SUM(AO27:AP27) -> 245
A28: Petőfi Népe - Médiaworks Hungary Zrt. | Q28: 2540 | U28: =SUM(Q28:R28) -> 2540 | Z28: =SUM(U28:V28) -> 2540 | AB28: =SUM(Z28:AA28) -> 2540 | AD28: =AB28+AC28 -> 2540 | AF28: 1270 | AG28: =B28+H28+Q28 -> 2540 | AH28: =C28+I28+R28 -> 0 | AI28: =D28+L28+U28 -> 2540 | AJ28: =E28+M28+V28 -> 0 | AK28: =F28+P28+Z28 -> 2540 | AL28: =J28+S28+AA28 -> 0 | AM28: =F28+T28+AD28 -> 2540 | AO28: =G28+X28+AF28 -> 1270 | AP28: =W28+AE28+AN28 -> 0 | AQ28: =SUM(AO28:AP28) -> 1270
A29: Közfoglalkoztatással és egyéb foglalkoztatással összefüggő kiadások | B29: =B30+B31+B32+B33+#REF! -> #REF! | C29: =C30+C31+C32+C33+#REF! -> #REF! | D29: =D30+D31+D32+D33+#REF! -> #REF! | E29: =E30+E31+E32+E33+#REF! -> #REF! | F29: =F30+F31+F32+F33+#REF! -> #REF! | G29: =G30+G31+G32+G33 -> 156993 | H29: =H30+H31+H32+H33 -> #REF! | I29: =I30+I31+I32+I33 -> #REF! | J29: =J30+J31+J32+J33 -> 0 | K29: =K30+K31+K32+K33 -> 192870 | L29: =L30+L31+L32+L33 -> #REF! | M29: =M30+M31+M32+M33 -> 0 | N29: =N30+N31+N32+N33 -> 0 | ... AQ29: =AQ30+AQ31+AQ32+AQ33 -> 188760
A30: Start munkaprogram | B30: =#REF! -> #REF! | C30: =#REF! -> #REF! | D30: =#REF! -> #REF! | F30: 60157 | G30: ='Szoc.rász.'!D24 -> 57506 | H30: =#REF! -> #REF! | I30: =#REF! -> #REF! | K30: =F30+J30 -> 60157 | L30: =#REF! -> #REF! | O30: =K30+N30 -> 60157 | P30: =SUM(L30:M30) -> #REF! | Q30: =#REF! -> #REF! | R30: =#REF! -> #REF! | T30: =P30+S30 -> #REF! | U30: =#REF! -> #REF! | X30: ='Szoc.rász.'!F24 -> 5032 | Y30: =T30+X30 -> #REF! | Z30: =SUM(U30:V30) -> #REF! | AB30: =Z30+AA30 -> #REF! | AD30: 9731 | AF30: ='Szoc.rász.'!L24 -> 11470 | AG30: =B30+H30+Q30 -> #REF! | AH30: =C30+I30+R30 -> #REF! | AI30: =D30+L30+U30 -> #REF! | AJ30: =E30+M30+V30 -> 0 | AK30: =F30+P30+Z30 -> #REF! | AL30: =J30+S30+AA30 -> 0 | AM30: =F30+T30+AD30 -> #REF! | AO30: =G30+X30+AF30 -> 74008 | AP30: =W30+AE30+AN30 -> 0 | AQ30: =SUM(AO30:AP30) -> 74008
A31: Hosszabb időtartamú közfoglalkoztatás | B31: =#REF! -> #REF! | C31: =#REF! -> #REF! | D31: =#REF! -> #REF! | F31: 113000 | G31: ='Szoc.rász.'!D23 -> 80000 | H31: =#REF! -> #REF! | I31: =#REF! -> #REF! | K31: =F31+J31 -> 113000 | L31: =#REF! -> #REF! | O31: =K31+N31 -> 113000 | P31: =SUM(L31:M31) -> #REF! | Q31: =#REF! -> #REF! | R31: =#REF! -> #REF! | T31: =P31+S31 -> #REF! | U31: =#REF! -> #REF! | X31: ='Szoc.rász.'!F23 -> 7000 | Y31: =T31+X31 -> #REF! | Z31: =SUM(U31:V31) -> #REF! | AB31: =Z31+AA31 -> #REF! | AD31: 5000 | AF31: ='Szoc.rász.'!L23 -> 3040 | AG31: =B31+H31+Q31 -> #REF! | AH31: =C31+I31+R31 -> #REF! | AI31: =D31+L31+U31 -> #REF! | AJ31: =E31+M31+V31 -> 0 | AK31: =F31+P31+Z31 -> #REF! | AL31: =J31+S31+AA31 -> 0 | AM31: =F31+T31+AD31 -> #REF! | AO31: =G31+X31+AF31 -> 90040 | AP31: =W31+AE31+AN31 -> 0 | AQ31: =SUM(AO31:AP31) -> 90040
A32: Közfoglalkoztatás - Országos program | B32: =#REF! -> #REF! | C32: =#REF! -> #REF! | D32: =#REF! -> #REF! | F32: 12041 | G32: ='Szoc.rász.'!D22 -> 11815 | H32: =#REF! -> #REF! | I32: =#REF! -> #REF! | K32: =F32+J32 -> 12041 | L32: =#REF! -> #REF! | O32: =K32+N32 -> 12041 | P32: =SUM(L32:M32) -> #REF! | Q32: =#REF! -> #REF! | R32: =#REF! -> #REF! | T32: =P32+S32 -> #REF! | U32: =#REF! -> #REF! | X32: ='Szoc.rász.'!F22 -> 1034 | Y32: =T32+X32 -> #REF! | Z32: =SUM(U32:V32) -> #REF! | AB32: =Z32+AA32 -> #REF! | AD32: 2383 | AF32: ='Szoc.rász.'!L22 -> 3520 | AG32: =B32+H32+Q32 -> #REF! | AH32: =C32+I32+R32 -> #REF! | AI32: =D32+L32+U32 -> #REF! | AJ32: =E32+M32+V32 -> 0 | AK32: =F32+P32+Z32 -> #REF! | AL32: =J32+S32+AA32 -> 0 | AM32: =F32+T32+AD32 -> #REF! | AO32: =G32+X32+AF32 -> 16369 | AP32: =W32+AE32+AN32 -> 0 | AQ32: =SUM(AO32:AP32) -> 16369
A33: Diákmunka | B33: =#REF! -> #REF! | C33: =#REF! -> #REF! | D33: =#REF! -> #REF! | F33: 7672 | G33: ='Szoc.rász.'!D33 -> 7672 | H33: =#REF! -> #REF! | I33: =#REF! -> #REF! | K33: =F33+J33 -> 7672 | L33: =#REF! -> #REF! | O33: =K33+N33 -> 7672 | P33: =SUM(L33:M33) -> #REF! | T33: =P33+S33 -> #REF! | X33: ='Szoc.rász.'!F33 -> 671 | Y33: =T33+X33 -> #REF! | AD33: 0 | AG33: =B33+H33+Q33 -> #REF! | AH33: =C33+I33+R33 -> #REF! | AI33: =D33+L33+U33 -> #REF! | AJ33: =E33+M33+V33 -> 0 | AK33: =F33+P33+Z33 -> #REF! | AL33: =J33+S33+AA33 -> 0 | AM33: =F33+T33+AD33 -> #REF! | AO33: =G33+X33+AF33 -> 8343 | AP33: =W33+AE33+AN33 -> 0 | AQ33: =SUM(AO33:AP33) -> 8343
A34: Városüzemeltetési feladat kiadásai | B34: =B35+B36+B37+B38+B39+B40+B41+B42+B43 -> 5495 | C34: =C35+C36+C37+C38+C39+C40+C41+C42+C43 -> 0 | D34: =D35+D36+D37+D38+D39+D40+D41+D42+D43 -> 5495 | E34: =E35+E36+E37+E38+E39+E40+E41+E42+E43 -> 0 | F34: =F35+F36+F37+F38+F39+F40+F41+F42+F43 -> 5495 | G34: =G35+G36+G37+G38+G39+G40+G41+G42+G43 -> 5383 | H34: =H35+H36+H37+H38+H39+H40+H41+H42+H43 -> 1087 | I34: =I35+I36+I37+I38+I39+I40+I41+I42+I43 -> 0 | ... AQ34: =AQ35+AQ36+AQ37+AQ38+AQ39+AQ40+AQ41+AQ42+AQ43 -> 160000
A35: Városgazdálkodás kiadásai | Q35: 34300 | U35: =SUM(Q35:R35) -> 34300 | Z35: =SUM(U35:V35) -> 34300 | AB35: 34300 | AD35: 36597 | AF35: 29300 | AG35: =B35+H35+Q35 -> 34300 | AH35: =C35+I35+R35 -> 0 | AI35: =D35+L35+U35 -> 34300 | AJ35: =E35+M35+V35 -> 0 | AK35: =F35+P35+Z35 -> 34300 | AL35: =J35+S35+AA35 -> 0 | AM35: =F35+T35+AD35 -> 36597 | AO35: =G35+X35+AF35 -> 29300 | AP35: =W35+AE35+AN35 -> 0 | AQ35: =SUM(AO35:AP35) -> 29300
A36: Út, járda, kerékpárutak üzemeltetés feladatai | Q36: =45000-17782 -> 27218 | U36: =SUM(Q36:R36) -> 27218 | Z36: =SUM(U36:V36) -> 27218 | AB36: 27218 | AD36: 27218 | AF36: 27218 | AG36: =B36+H36+Q36 -> 27218 | AH36: =C36+I36+R36 -> 0 | AI36: =SUM(AG36:AH36) -> 27218 | AJ36: =E36+M36+V36 -> 0 | AK36: =F36+P36+Z36 -> 27218 | AL36: =J36+S36+AA36 -> 0 | AM36: =F36+T36+AD36 -> 27218 | AO36: =G36+X36+AF36 -> 27218 | AP36: =W36+AE36+AN36 -> 0 | AQ36: =SUM(AO36:AP36) -> 27218
A37: Csapadékvíz elvezetés, csatornák üzemeltetése | Q37: 25000 | U37: =SUM(Q37:R37) -> 25000 | Z37: =SUM(U37:V37) -> 25000 | AB37: =Z37+AA37 -> 25000 | AD37: 25000 | AF37: 20000 | AG37: =B37+H37+Q37 -> 25000 | AH37: =C37+I37+R37 -> 0 | AI37: =SUM(AG37:AH37) -> 25000 | AJ37: =E37+M37+V37 -> 0 | AK37: =F37+P37+Z37 -> 25000 | AL37: =J37+S37+AA37 -> 0 | AM37: =F37+T37+AD37 -> 25000 | AO37: =G37+X37+AF37 -> 20000 | AP37: =W37+AE37+AN37 -> 0 | AQ37: =SUM(AO37:AP37) -> 20000
A38: Parkfenntárs, zöldfelület kezelés | Q38: 18850 | U38: =SUM(Q38:R38) -> 18850 | Z38: =SUM(U38:V38) -> 18850 | AB38: =Z38+AA38 -> 18850 | AD38: 18850 | AF38: =AC38+AD38 -> 18850 | AG38: =B38+H38+Q38 -> 18850 | AH38: =C38+I38+R38 -> 0 | AI38: =SUM(AG38:AH38) -> 18850 | AJ38: =E38+M38+V38 -> 0 | AK38: =F38+P38+Z38 -> 18850 | AL38: =J38+S38+AA38 -> 0 | AM38: =F38+T38+AD38 -> 18850 | AO38: =G38+X38+AF38 -> 18850 | AP38: =W38+AE38+AN38 -> 0 | AQ38: =SUM(AO38:AP38) -> 18850
A39: Települési vízellátás, közkifolyók | Q39: 1900 | U39: =SUM(Q39:R39) -> 1900 | Z39: =SUM(U39:V39) -> 1900 | AB39: =Z39+AA39 -> 1900 | AD39: 1900 | AF39: =AC39+AD39 -> 1900 | AG39: =B39+H39+Q39 -> 1900 | AH39: =C39+I39+R39 -> 0 | AI39: =SUM(AG39:AH39) -> 1900 | AJ39: =E39+M39+V39 -> 0 | AK39: =F39+P39+Z39 -> 1900 | AL39: =J39+S39+AA39 -> 0 | AM39: =F39+T39+AD39 -> 1900 | AO39: =G39+X39+AF39 -> 1900 | AP39: =W39+AE39+AN39 -> 0 | AQ39: =SUM(AO39:AP39) -> 1900
A40: Termőföld bérbeadás | Q40: 2650 | U40: =SUM(Q40:R40) -> 2650 | Z40: =SUM(U40:V40) -> 2650 | AB40: =Z40+AA40 -> 2650 | AD40: 2650 | AF40: =AC40+AD40 -> 2650 | AG40: =B40+H40+Q40 -> 2650 | AH40: =C40+I40+R40 -> 0 | AI40: =SUM(AG40:AH40) -> 2650 | AJ40: =E40+M40+V40 -> 0 | AK40: =F40+P40+Z40 -> 2650 | AL40: =J40+S40+AA40 -> 0 | AM40: =F40+T40+AD40 -> 2650 | AO40: =G40+X40+AF40 -> 2650 | AP40: =W40+AE40+AN40 -> 0 | AQ40: =SUM(AO40:AP40) -> 2650
A41: Közvilágítás | Q41: 58500 | U41: =SUM(Q41:R41) -> 58500 | Z41: =SUM(U41:V41) -> 58500 | AB41: 58500 | AD41: 52000 | AF41: 48737 | AG41: =B41+H41+Q41 -> 58500 | AH41: =C41+I41+R41 -> 0 | AI41: =SUM(AG41:AH41) -> 58500 | AJ41: =E41+M41+V41 -> 0 | AK41: =F41+P41+Z41 -> 58500 | AL41: =J41+S41+AA41 -> 0 | AM41: =F41+T41+AD41 -> 52000 | AO41: =G41+X41+AF41 -> 48737 | AP41: =W41+AE41+AN41 -> 0 | AQ41: =SUM(AO41:AP41) -> 48737
A42: Parkolóőrök | B42: =3215+2280 -> 5495 | D42: =SUM(B42:C42) -> 5495 | F42: 5495 | G42: 5383 | H42: 1087 | K42: =F42+J42 -> 5495 | L42: =SUM(H42:I42) -> 1087 | O42: =K42+N42 -> 5495 | P42: =SUM(L42:M42) -> 1087 | T42: =P42+S42 -> 1087 | U42: =SUM(Q42:R42) -> 0 | X42: 962 | Y42: =T42+X42 -> 2049 | Z42: =SUM(U42:V42) -> 0 | AB42: =Z42+AA42 -> 0 | AD42: 0 | AF42: =AC42+AD42 -> 0 | AG42: =B42+H42+Q42 -> 6582 | AH42: =C42+I42+R42 -> 0 | AI42: =SUM(AG42:AH42) -> 6582 | AJ42: =E42+M42+V42 -> 0 | AK42: =F42+P42+Z42 -> 6582 | AL42: =J42+S42+AA42 -> 0 | AM42: =F42+T42+AD42 -> 6582 | AO42: =G42+X42+AF42 -> 6345 | AP42: =W42+AE42+AN42 -> 0 | AQ42: =SUM(AO42:AP42) -> 6345
A43: Városgazdálkodás tartaléka, előre nem látható feladatok | Q43: 5000 | U43: =SUM(Q43:R43) -> 5000 | Z43: =SUM(U43:V43) -> 5000 | AB43: 5000 | AD43: 4412 | AF43: 5000 | AG43: =B43+H43+Q43 -> 5000 | AH43: =C43+I43+R43 -> 0 | AI43: =SUM(AG43:AH43) -> 5000 | AJ43: =E43+M43+V43 -> 0 | AK43: =F43+P43+Z43 -> 5000 | AL43: =J43+S43+AA43 -> 0 | AM43: =F43+T43+AD43 -> 4412 | AO43: =G43+X43+AF43 -> 5000 | AP43: =W43+AE43+AN43 -> 0 | AQ43: =SUM(AO43:AP43) -> 5000
A44: Intézménygazdálkodás - részjogkörrel összefüggő kiadásai | B44: =B45+B46+B47+B48+#REF! -> #REF! | C44: =C45+C46+C47+C48+#REF! -> #REF! | D44: =D45+D46+D47+D48+#REF! -> #REF! | E44: =E45+E46+E47+E48+#REF! -> #REF! | F44: 0 | G44: =G45+G46+G47+G48 -> 0 | H44: =H45+H46+H47+H48 -> 0 | I44: =I45+I46+I47+I48 -> 0 | J44: =J45+J46+J47+J48 -> 0 | K44: =K45+K46+K47+K48 -> 0 | L44: =L45+L46+L47+L48 -> 0 | M44: =M45+M46+M47+M48 -> 0 | N44: =N45+N46+N47+N48 -> 0 | ... AQ44: =AQ45+AQ46+AQ47+AQ48 -> 74397
A45: KÖNYVTÁRI szolgáltatások | Q45: =12884-1000 -> 11884 | U45: =SUM(Q45:R45) -> 11884 | Z45: =SUM(U45:V45) -> 11884 | AB45: =Z45+AA45 -> 11884 | AD45: 11884 | AF45: 11884 | AG45: =B45+H45+Q45 -> 11884 | AH45: =C45+I45+R45 -> 0 | AI45: =D45+L45+U45 -> 11884 | AJ45: =E45+M45+V45 -> 0 | AK45: =F45+P45+Z45 -> 11884 | AL45: =J45+S45+AA45 -> 0 | AM45: =F45+T45+AD45 -> 11884 | AO45: =G45+X45+AF45 -> 11884 | AP45: =W45+AE45+AN45 -> 0 | AQ45: =SUM(AO45:AP45) -> 11884
A46: MÚZEUM gyűjteményi tevékenységek | Q46: =10058-1000 -> 9058 | U46: =SUM(Q46:R46) -> 9058 | Z46: =SUM(U46:V46) -> 9058 | AB46: =Z46+AA46 -> 9058 | AD46: 9058 | AF46: 9058 | AG46: =B46+H46+Q46 -> 9058 | AH46: =C46+I46+R46 -> 0 | AI46: =D46+L46+U46 -> 9058 | AJ46: =E46+M46+V46 -> 0 | AK46: =F46+P46+Z46 -> 9058 | AL46: =J46+S46+AA46 -> 0 | AM46: =F46+T46+AD46 -> 9058 | AO46: =G46+X46+AF46 -> 9058 | AP46: =W46+AE46+AN46 -> 0 | AQ46: =SUM(AO46:AP46) -> 9058
A47: MŰVELŐDÉSI KÖZPONT szolgáltatásai | Q47: =15391-1000 -> 14391 | U47: =SUM(Q47:R47) -> 14391 | Z47: =SUM(U47:V47) -> 14391 | AB47: =Z47+AA47 -> 14391 | AD47: 14391 | AF47: 11580 | AG47: =B47+H47+Q47 -> 14391 | AH47: =C47+I47+R47 -> 0 | AI47: =D47+L47+U47 -> 14391 | AJ47: =E47+M47+V47 -> 0 | AK47: =F47+P47+Z47 -> 14391 | AL47: =J47+S47+AA47 -> 0 | AM47: =F47+T47+AD47 -> 14391 | AO47: =G47+X47+AF47 -> 11580 | AP47: =W47+AE47+AN47 -> 0 | AQ47: =SUM(AO47:AP47) -> 11580
A48: Óvodai nevelés, ellátás működtetési feladatai | Q48: =48875-7000 -> 41875 | U48: =SUM(Q48:R48) -> 41875 | Z48: =SUM(U48:V48) -> 41875 | AB48: =Z48+AA48 -> 41875 | AD48: 41875 | AF48: 41875 | AG48: =B48+H48+Q48 -> 41875 | AH48: =C48+I48+R48 -> 0 | AI48: =D48+L48+U48 -> 41875 | AJ48: =E48+M48+V48 -> 0 | AK48: =F48+P48+Z48 -> 41875 | AL48: =J48+S48+AA48 -> 0 | AM48: =F48+T48+AD48 -> 41875 | AO48: =G48+X48+AF48 -> 41875 | AP48: =W48+AE48+AN48 -> 0 | AQ48: =SUM(AO48:AP48) -> 41875
A49: Ingatlan vagyongazdálkodás | B49: =SUM(B50:B63) -> 1837 | C49: =SUM(C50:C63) -> 3 | D49: =SUM(D50:D63) -> 1840 | E49: =SUM(E50:E63) -> 1 | F49: =SUM(F50:F63) -> 4181 | G49: =SUM(G50:G63) -> 1980 | H49: =SUM(H50:H63) -> 367 | I49: =SUM(I50:I63) -> 0 | ... AQ49: =SUM(AQ50:AQ63) -> 54756
A50: volt Kommendáns Hivatal üzemeltetési kiadásai, Aranyhegyi iskola karb.anyag | Q50: 2540 | U50: =SUM(Q50:R50) -> 2540 | Z50: =SUM(U50:V50) -> 2540 | AB50: =SUM(Z50:AA50) -> 2540 | AD50: 2540 | AF50: 1679 | AG50: =B50+H50+Q50 -> 2540 | AH50: =C50+I50+R50 -> 0 | AI50: =D50+L50+U50 -> 2540 | AJ50: =E50+M50+V50 -> 0 | AK50: =F50+P50+Z50 -> 2540 | AL50: =J50+S50+AA50 -> 0 | AM50: =F50+T50+AD50 -> 2540 | AO50: =G50+X50+AF50 -> 1679 | AP50: =W50+AE50+AN50 -> 0 | AQ50: =SUM(AO50:AP50) -> 1679
A51: volt honvédségi ingatlanok közüzemi díjak, közvetített szolg. - Izsáki 1/c, Kossuth 12, Kossuth 35. | Q51: 1500 | U51: =SUM(Q51:R51) -> 1500 | Z51: =SUM(U51:V51) -> 1500 | AB51: =SUM(Z51:AA51) -> 1500 | AD51: 1500 | AF51: 1500 | AG51: =B51+H51+Q51 -> 1500 | AH51: =C51+I51+R51 -> 0 | AI51: =D51+L51+U51 -> 1500 | AJ51: =E51+M51+V51 -> 0 | AK51: =F51+P51+Z51 -> 1500 | AL51: =J51+S51+AA51 -> 0 | AM51: =F51+T51+AD51 -> 1500 | AO51: =G51+X51+AF51 -> 1500 | AP51: =W51+AE51+AN51 -> 0 | AQ51: =SUM(AO51:AP51) -> 1500
A52: Közvetített szolgáltatás: önkorm.bérlakások közös ktg. | Q52: 5000 | U52: =SUM(Q52:R52) -> 5000 | Z52: =SUM(U52:V52) -> 5000 | AB52: =SUM(Z52:AA52) -> 5000 | AD52: 5000 | AF52: 5000 | AG52: =B52+H52+Q52 -> 5000 | AH52: =C52+I52+R52 -> 0 | AI52: =D52+L52+U52 -> 5000 | AJ52: =E52+M52+V52 -> 0 | AK52: =F52+P52+Z52 -> 5000 | AL52: =J52+S52+AA52 -> 0 | AM52: =F52+T52+AD52 -> 5000 | AO52: =G52+X52+AF52 -> 5000 | AP52: =W52+AE52+AN52 -> 0 | AQ52: =SUM(AO52:AP52) -> 5000
A53: Közvetített szolgáltatás nem lakás célú helyiségek | Q53: 10000 | U53: =SUM(Q53:R53) -> 10000 | Z53: =SUM(U53:V53) -> 10000 | AB53: =SUM(Z53:AA53) -> 10000 | AD53: 10000 | AF53: 10000 | AG53: =B53+H53+Q53 -> 10000 | AH53: =C53+I53+R53 -> 0 | AI53: =D53+L53+U53 -> 10000 | AJ53: =E53+M53+V53 -> 0 | AK53: =F53+P53+Z53 -> 10000 | AL53: =J53+S53+AA53 -> 0 | AM53: =F53+T53+AD53 -> 10000 | AO53: =G53+X53+AF53 -> 10000 | AP53: =W53+AE53+AN53 -> 0 | AQ53: =SUM(AO53:AP53) -> 10000
A54: Asztalitenisz SI üzemeltetési kiadásai | Q54: 500 | U54: =SUM(Q54:R54) -> 500 | Z54: =SUM(U54:V54) -> 500 | AB54: =SUM(Z54:AA54) -> 500 | AD54: 500 | AF54: 500 | AG54: =B54+H54+Q54 -> 500 | AH54: =C54+I54+R54 -> 0 | AI54: =D54+L54+U54 -> 500 | AJ54: =E54+M54+V54 -> 0 | AK54: =F54+P54+Z54 -> 500 | AL54: =J54+S54+AA54 -> 0 | AM54: =F54+T54+AD54 -> 500 | AO54: =G54+X54+AF54 -> 500 | AP54: =W54+AE54+AN54 -> 0 | AQ54: =SUM(AO54:AP54) -> 500
A55: Takarító bére és járulékai | B55: 1837 | C55: 3 | D55: =SUM(B55:C55) -> 1840 | E55: 1 | F55: 1851 | G55: 1980 | H55: 367 | J55: 2 | K55: 1850 | L55: =SUM(H55:I55) -> 367 | N55: 1 | O55: =K55+N55 -> 1851 | P55: =SUM(L55:M55) -> 367 | S55: 1 | T55: 369 | U55: =SUM(Q55:R55) -> 0 | W55: 1 | X55: 355 | Y55: =T55+X55 -> 724 | Z55: =SUM(U55:V55) -> 0 | AB55: =SUM(Z55:AA55) -> 0 | AD55: 0 | AG55: =B55+H55+Q55 -> 2204 | AH55: =C55+I55+R55 -> 3 | AI55: =D55+L55+U55 -> 2207 | AJ55: =E55+M55+V55 -> 1 | AK55: =F55+P55+Z55 -> 2218 | AL55: =J55+S55+AA55 -> 3 | AM55: =F55+T55+AD55 -> 2220 | AO55: =G55+X55+AF55 -> 2335 | AP55: =W55+AE55+AN55 -> 1 | AQ55: =SUM(AO55:AP55) -> 2336
A56: Karbantartási kiadások: nem lakás célú helyiségek | Q56: 6700 | U56: =SUM(Q56:R56) -> 6700 | Z56: =SUM(U56:V56) -> 6700 | AB56: =SUM(Z56:AA56) -> 6700 | AD56: 6700 | AF56: 6700 | AG56: =B56+H56+Q56 -> 6700 | AH56: =C56+I56+R56 -> 0 | AI56: =D56+L56+U56 -> 6700 | AJ56: =E56+M56+V56 -> 0 | AK56: =F56+P56+Z56 -> 6700 | AL56: =J56+S56+AA56 -> 0 | AM56: =F56+T56+AD56 -> 6700 | AO56: =G56+X56+AF56 -> 6700 | AP56: =W56+AE56+AN56 -> 0 | AQ56: =SUM(AO56:AP56) -> 6700
A57: Karbantartási kiadások: bérlakások | Q57: =18000-9000 -> 9000 | U57: =SUM(Q57:R57) -> 9000 | Z57: =SUM(U57:V57) -> 9000 | AB57: =SUM(Z57:AA57) -> 9000 | AD57: 9000 | AF57: 9000 | AG57: =B57+H57+Q57 -> 9000 | AH57: =C57+I57+R57 -> 0 | AI57: =D57+L57+U57 -> 9000 | AJ57: =E57+M57+V57 -> 0 | AK57: =F57+P57+Z57 -> 9000 | AL57: =J57+S57+AA57 -> 0 | AM57: =F57+T57+AD57 -> 9000 | AO57: =G57+X57+AF57 -> 9000 | AP57: =W57+AE57+AN57 -> 0 | AQ57: =SUM(AO57:AP57) -> 9000
A58: Karbantartási kiadások: 2*23 bérlakás | Q58: 1270 | U58: =SUM(Q58:R58) -> 1270 | Z58: =SUM(U58:V58) -> 1270 | AB58: =SUM(Z58:AA58) -> 1270 | AD58: 1270 | AF58: 2000 | AG58: =B58+H58+Q58 -> 1270 | AH58: =C58+I58+R58 -> 0 | AI58: =D58+L58+U58 -> 1270 | AJ58: =E58+M58+V58 -> 0 | AK58: =F58+P58+Z58 -> 1270 | AL58: =J58+S58+AA58 -> 0 | AM58: =F58+T58+AD58 -> 1270 | AO58: =G58+X58+AF58 -> 2000 | AP58: =W58+AE58+AN58 -> 0 | AQ58: =SUM(AO58:AP58) -> 2000
A59: Közzétételi díjak, árverési hirdetmények, pályázati felhívások | Q59: 1000 | U59: =SUM(Q59:R59) -> 1000 | Z59: =SUM(U59:V59) -> 1000 | AB59: =SUM(Z59:AA59) -> 1000 | AD59: 1000 | AF59: 1000 | AG59: =B59+H59+Q59 -> 1000 | AH59: =C59+I59+R59 -> 0 | AI59: =D59+L59+U59 -> 1000 | AJ59: =E59+M59+V59 -> 0 | AK59: =F59+P59+Z59 -> 1000 | AL59: =J59+S59+AA59 -> 0 | AM59: =F59+T59+AD59 -> 1000 | AO59: =G59+X59+AF59 -> 1000 | AP59: =W59+AE59+AN59 -> 0 | AQ59: =SUM(AO59:AP59) -> 1000
A60: Szakértői díjak, értékbecslések | Q60: 3810 | U60: =SUM(Q60:R60) -> 3810 | Z60: =SUM(U60:V60) -> 3810 | AB60: =SUM(Z60:AA60) -> 3810 | AD60: 3810 | AF60: 3810 | AG60: =B60+H60+Q60 -> 3810 | AH60: =C60+I60+R60 -> 0 | AI60: =D60+L60+U60 -> 3810 | AJ60: =E60+M60+V60 -> 0 | AK60: =F60+P60+Z60 -> 3810 | AL60: =J60+S60+AA60 -> 0 | AM60: =F60+T60+AD60 -> 3810 | AO60: =G60+X60+AF60 -> 3810 | AP60: =W60+AE60+AN60 -> 0 | AQ60: =SUM(AO60:AP60) -> 3810
A61: Tulajdoni lapok, vázrajzok, telekmegosztás, főépítész településrend.tervek, térkép éves haszn. díj | F61: 2330 | K61: 2330 | O61: =SUM(K61:N61) -> 2330 | Q61: 2750 | T61: 409 | U61: =SUM(Q61:R61) -> 2750 | Y61: =T61+X61 -> 409 | Z61: =SUM(U61:V61) -> 2750 | AB61: =SUM(Z61:AA61) -> 2750 | AD61: 2750 | AF61: 2750 | AG61: =B61+H61+Q61 -> 2750 | AH61: =C61+I61+R61 -> 0 | AI61: =D61+L61+U61 -> 2750 | AJ61: =E61+M61+V61 -> 0 | AK61: =F61+P61+Z61 -> 5080 | AL61: =J61+S61+AA61 -> 0 | AM61: =F61+T61+AD61 -> 5489 | AO61: =G61+X61+AF61 -> 2750 | AP61: =W61+AE61+AN61 -> 0 | AQ61: =SUM(AO61:AP61) -> 2750
A62: Repülőtér földterület bérlet (MNV Zrt) | Q62: 481 | U62: =SUM(Q62:R62) -> 481 | Z62: =SUM(U62:V62) -> 481 | AB62: =SUM(Z62:AA62) -> 481 | AD62: 481 | AF62: 481 | AG62: =B62+H62+Q62 -> 481 | AH62: =C62+I62+R62 -> 0 | AI62: =D62+L62+U62 -> 481 | AJ62: =E62+M62+V62 -> 0 | AK62: =F62+P62+Z62 -> 481 | AL62: =J62+S62+AA62 -> 0 | AM62: =F62+T62+AD62 -> 481 | AO62: =G62+X62+AF62 -> 481 | AP62: =W62+AE62+AN62 -> 0 | AQ62: =SUM(AO62:AP62) -> 481
A63: Biztosítás (vagyon kötelező biztosítás) | Q63: 8000 | U63: =SUM(Q63:R63) -> 8000 | Z63: =SUM(U63:V63) -> 8000 | AB63: =SUM(Z63:AA63) -> 8000 | AD63: 8000 | AF63: 8000 | AG63: =B63+H63+Q63 -> 8000 | AH63: =C63+I63+R63 -> 0 | AI63: =D63+L63+U63 -> 8000 | AJ63: =E63+M63+V63 -> 0 | AK63: =F63+P63+Z63 -> 8000 | AL63: =J63+S63+AA63 -> 0 | AM63: =F63+T63+AD63 -> 8000 | AO63: =G63+X63+AF63 -> 8000 | AP63: =W63+AE63+AN63 -> 0 | AQ63: =SUM(AO63:AP63) -> 8000
A64: Tiszaalpári és Kemencei üdülők | Q64: 1269 | U64: =SUM(Q64:R64) -> 1269 | Z64: =SUM(U64:V64) -> 1269 | AB64: =SUM(Z64:AA64) -> 1269 | AD64: 1269 | AF64: 988 | AG64: =B64+H64+Q64 -> 1269 | AH64: =C64+I64+R64 -> 0 | AI64: =D64+L64+U64 -> 1269 | AJ64: =E64+M64+V64 -> 0 | AK64: =F64+P64+Z64 -> 1269 | AL64: =J64+S64+AA64 -> 0 | AM64: =F64+T64+AD64 -> 1269 | AO64: =G64+X64+AF64 -> 988 | AP64: =W64+AE64+AN64 -> 0 | AQ64: =SUM(AO64:AP64) -> 988
A65: Ipari Park | Q65: 16000 | U65: =SUM(Q65:R65) -> 16000 | Z65: =SUM(U65:V65) -> 16000 | AB65: =SUM(Z65:AA65) -> 16000 | AD65: 16000 | AF65: 16510 | AG65: =B65+H65+Q65 -> 16000 | AH65: =C65+I65+R65 -> 0 | AI65: =D65+L65+U65 -> 16000 | AJ65: =E65+M65+V65 -> 0 | AK65: =F65+P65+Z65 -> 16000 | AL65: =J65+S65+AA65 -> 0 | AM65: =F65+T65+AD65 -> 16000 | AO65: =G65+X65+AF65 -> 16510 | AP65: =W65+AE65+AN65 -> 0 | AQ65: =SUM(AO65:AP65) -> 16510
A66: Csillag Szolg.pont (Komplex telep prg) üzemeltetése - 280/2018. önk.hat. | B66: 1380 | D66: =SUM(B66:C66) -> 1380 | F66: 1380 | G66: 1380 | H66: 250 | K66: =F66+J66 -> 1380 | L66: =SUM(H66:I66) -> 250 | O66: =K66+N66 -> 1380 | P66: =SUM(L66:M66) -> 250 | Q66: 1370 | T66: =P66+S66 -> 250 | U66: =SUM(Q66:R66) -> 1370 | V66: -90 | X66: 218 | Y66: =T66+X66 -> 468 | Z66: =SUM(U66:V66) -> 1280 | AB66: 1370 | AD66: 1280 | AF66: 1302 | AG66: =B66+H66+Q66 -> 3000 | AH66: =C66+I66+R66 -> 0 | AI66: =D66+L66+U66 -> 3000 | AJ66: =E66+M66+V66 -> -90 | AK66: =F66+P66+Z66 -> 2910 | AL66: =J66+S66+AA66 -> 0 | AM66: =F66+T66+AD66 -> 2910 | AO66: =G66+X66+AF66 -> 2900 | AP66: =W66+AE66+AN66 -> 0 | AQ66: =SUM(AO66:AP66) -> 2900
A67: Haleszi orvosi rendelő üzemeltetése | D67: =SUM(B67:C67) -> 0 | F67: 0 | K67: =F67+J67 -> 0 | L67: =SUM(H67:I67) -> 0 | O67: =K67+N67 -> 0 | P67: =SUM(L67:M67) -> 0 | Q67: 626 | T67: =P67+S67 -> 0 | U67: =SUM(Q67:R67) -> 626 | Y67: =T67+X67 -> 0 | Z67: =SUM(U67:V67) -> 626 | AB67: =SUM(Z67:AA67) -> 626 | AD67: 626 | AF67: 587 | AG67: =B67+H67+Q67 -> 626 | AH67: =C67+I67+R67 -> 0 | AI67: =D67+L67+U67 -> 626 | AJ67: =E67+M67+V67 -> 0 | AK67: =F67+P67+Z67 -> 626 | AL67: =J67+S67+AA67 -> 0 | AM67: =F67+T67+AD67 -> 626 | AO67: =G67+X67+AF67 -> 587 | AP67: =W67+AE67+AN67 -> 0 | AQ67: =SUM(AO67:AP67) -> 587
A68: Tourinform Iroda működtetése | C68: 55 | D68: =SUM(B68:C68) -> 55 | F68: 55 | I68: 10 | K68: =F68+J68 -> 55 | L68: =SUM(H68:I68) -> 10 | O68: =K68+N68 -> 55 | P68: =SUM(L68:M68) -> 10 | Q68: =4050-750 -> 3300 | R68: -65 | T68: =P68+S68 -> 10 | U68: =SUM(Q68:R68) -> 3235 | Y68: =T68+X68 -> 10 | Z68: =SUM(U68:V68) -> 3235 | AB68: 3300 | AD68: 3235 | AF68: 3000 | AG68: =B68+H68+Q68 -> 3300 | AH68: =C68+I68+R68 -> 0 | AI68: =D68+L68+U68 -> 3300 | AJ68: =E68+M68+V68 -> 0 | AK68: =F68+P68+Z68 -> 3300 | AL68: =J68+S68+AA68 -> 0 | AM68: =F68+T68+AD68 -> 3300 | AN68: 70 | AO68: =G68+X68+AF68 -> 3000 | AP68: =W68+AE68+AN68 -> 70 | AQ68: =SUM(AO68:AP68) -> 3070
A69: GYIÖK működtetési költségei | F69: 0 | K69: =F69+J69 -> 0 | O69: =K69+N69 -> 0 | P69: =SUM(L69:M69) -> 0 | Q69: =1000-300 -> 700 | T69: =P69+S69 -> 0 | U69: =SUM(Q69:R69) -> 700 | Y69: =T69+X69 -> 0 | Z69: =SUM(U69:V69) -> 700 | AB69: =SUM(Z69:AA69) -> 700 | AD69: 700 | AF69: 700 | AG69: =B69+H69+Q69 -> 700 | AH69: =C69+I69+R69 -> 0 | AI69: =D69+L69+U69 -> 700 | AJ69: =E69+M69+V69 -> 0 | AK69: =F69+P69+Z69 -> 700 | AL69: =J69+S69+AA69 -> 0 | AM69: =F69+T69+AD69 -> 700 | AO69: =G69+X69+AF69 -> 700 | AP69: =W69+AE69+AN69 -> 0 | AQ69: =SUM(AO69:AP69) -> 700
A70: KEF feladataira | F70: 0 | K70: =F70+J70 -> 0 | O70: =K70+N70 -> 0 | P70: =SUM(L70:M70) -> 0 | Q70: =1000-900 -> 100 | T70: =P70+S70 -> 0 | U70: =SUM(Q70:R70) -> 100 | Y70: =T70+X70 -> 0 | Z70: =SUM(U70:V70) -> 100 | AB70: =SUM(Z70:AA70) -> 100 | AD70: 100 | AF70: 100 | AG70: =B70+H70+Q70 -> 100 | AH70: =C70+I70+R70 -> 0 | AI70: =D70+L70+U70 -> 100 | AJ70: =E70+M70+V70 -> 0 | AK70: =F70+P70+Z70 -> 100 | AL70: =J70+S70+AA70 -> 0 | AM70: =F70+T70+AD70 -> 100 | AO70: =G70+X70+AF70 -> 100 | AP70: =W70+AE70+AN70 -> 0 | AQ70: =SUM(AO70:AP70) -> 100
A71: Kiemelt városi rendezvények | B71: 12034 | D71: =SUM(B71:C71) -> 12034 | F71: 13162 | G71: 14000 | J71: 453 | K71: 12682 | N71: 480 | O71: =K71+N71 -> 13162 | P71: =SUM(L71:M71) -> 0 | Q71: 24900 | R71: 14 | T71: =P71+S71 -> 0 | U71: =SUM(Q71:R71) -> 24914 | Y71: =T71+X71 -> 0 | Z71: =SUM(U71:V71) -> 24914 | AA71: 220 | AB71: 24900 | AC71: =-338+30 -> -308 | AD71: 30870 | AF71: =32915+6131 -> 39046 | AG71: =B71+H71+Q71 -> 36934 | AH71: =C71+I71+R71 -> 14 | AI71: =D71+L71+U71 -> 36948 | AJ71: =E71+M71+V71 -> 0 | AK71: =F71+P71+Z71 -> 38076 | AL71: =J71+S71+AA71 -> 673 | AM71: =F71+T71+AD71 -> 44032 | AN71: -40000 | AO71: =G71+X71+AF71 -> 53046 | AP71: =W71+AE71+AN71 -> -40000 | AQ71: =SUM(AO71:AP71) -> 13046
A72: Részösszesen | B72: =B6+B29+B34+B44+B49+B64+B65+B66+B67+B68+B69+B70+B71 -> #REF! | C72: =C6+C29+C34+C44+C49+C64+C65+C66+C67+C68+C69+C70+C71 -> #REF! | D72: =D6+D29+D34+D44+D49+D64+D65+D66+D67+D68+D69+D70+D71 -> #REF! | E72: =E6+E29+E34+E44+E49+E64+E65+E66+E67+E68+E69+E70+E71 -> #REF! | F72: =F6+F29+F34+F44+F49+F64+F65+F66+F67+F68+F69+F70+F71 -> #REF! | G72: =G6+G29+G34+G44+G49+G64+G65+G66+G67+G68+G69+G70+G71 -> 243004 | H72: =H6+H29+H34+H44+H49+H64+H65+H66+H67+H68+H69+H70+H71 -> #REF! | I72: =I6+I29+I34+I44+I49+I64+I65+I66+I67+I68+I69+I70+I71 -> #REF! | ... AQ72: =AQ6+AQ29+AQ34+AQ44+AQ49+AQ64+AQ65+AQ66+AQ67+AQ68+AQ69+AQ70+AQ71 -> 736831
A73: TOP 5.2.1-15-BK1-2016-00002. Új csillag születik prg. | B73: 15010 | D73: =SUM(B73:C73) -> 15010 | F73: 15010 | G73: 9705 | H73: 3648 | K73: =F73+J73 -> 15010 | L73: =SUM(H73:I73) -> 3648 | O73: =K73+N73 -> 15010 | P73: =SUM(L73:M73) -> 3648 | Q73: 5769 | T73: =P73+S73 -> 3648 | U73: =SUM(Q73:R73) -> 5769 | X73: 5145 | Y73: =T73+X73 -> 8793 | Z73: =SUM(U73:V73) -> 5769 | AB73: =SUM(Z73:AA73) -> 5769 | AD73: 5769 | AF73: 8557 | AG73: =B73+H73+Q73 -> 24427 | AH73: =C73+I73+R73 -> 0 | AI73: =D73+L73+U73 -> 24427 | AJ73: =E73+M73+V73 -> 0 | AK73: =F73+P73+Z73 -> 24427 | AL73: =J73+S73+AA73 -> 0 | AM73: =F73+T73+AD73 -> 24427 | AO73: =G73+X73+AF73 -> 23407 | AP73: =W73+AE73+AN73 -> 0 | AQ73: =SUM(AO73:AP73) -> 23407
A74: TOP 1.4.1-15-BK1-2016-0010 - Móra utcai óvoda fejl. | B74: 1398 | D74: =SUM(B74:C74) -> 1398 | F74: 1398 | H74: 270 | K74: =F74+J74 -> 1398 | L74: =SUM(H74:I74) -> 270 | O74: =K74+N74 -> 1398 | P74: =SUM(L74:M74) -> 270 | Q74: 202 | T74: =P74+S74 -> 270 | U74: =SUM(Q74:R74) -> 202 | Y74: =T74+X74 -> 270 | Z74: =SUM(U74:V74) -> 202 | AB74: =SUM(Z74:AA74) -> 202 | AD74: 202 | AF74: 126 | AG74: =B74+H74+Q74 -> 1870 | AH74: =C74+I74+R74 -> 0 | AI74: =D74+L74+U74 -> 1870 | AJ74: =E74+M74+V74 -> 0 | AK74: =F74+P74+Z74 -> 1870 | AL74: =J74+S74+AA74 -> 0 | AM74: =F74+T74+AD74 -> 1870 | AO74: =G74+X74+AF74 -> 126 | AP74: =W74+AE74+AN74 -> 0 | AQ74: =SUM(AO74:AP74) -> 126
A75: TOP-2.1.2-12-BK1-2016-00004 -"Félegyháza Újjáépül"-Zöldváros kialakítása | B75: 9292 | D75: =SUM(B75:C75) -> 9292 | F75: 9292 | G75: 4865 | H75: 1631 | K75: =F75+J75 -> 9292 | L75: =SUM(H75:I75) -> 1631 | O75: =K75+N75 -> 9292 | P75: =SUM(L75:M75) -> 1631 | Q75: 5340 | T75: =P75+S75 -> 1631 | U75: =SUM(Q75:R75) -> 5340 | X75: 854 | Y75: =T75+X75 -> 2485 | Z75: =SUM(U75:V75) -> 5340 | AB75: 5340 | AC75: 95083 | AD75: 253399 | AF75: 3380 | AG75: =B75+H75+Q75 -> 16263 | AH75: =C75+I75+R75 -> 0 | AI75: =D75+L75+U75 -> 16263 | AJ75: =E75+M75+V75 -> 0 | AK75: =F75+P75+Z75 -> 16263 | AL75: =J75+S75+AA75 -> 0 | AM75: =F75+T75+AD75 -> 264322 | AO75: =G75+X75+AF75 -> 9099 | AP75: =W75+AE75+AN75 -> 0 | AQ75: =SUM(AO75:AP75) -> 9099
A76: TOP-5.1.216-BKI-2017-00007 - Kiskunfélegyházi és Kiskunmajsai járási Foglalkoztatási Paktum pályázat | B76: 11140 | D76: =SUM(B76:C76) -> 11140 | F76: 11140 | G76: 7931 | H76: 2088 | K76: =F76+J76 -> 11140 | L76: =SUM(H76:I76) -> 2088 | O76: =K76+N76 -> 11140 | P76: =SUM(L76:M76) -> 2088 | Q76: 4198 | T76: =P76+S76 -> 2088 | U76: =SUM(Q76:R76) -> 4198 | X76: 1603 | Y76: =T76+X76 -> 3691 | Z76: =SUM(U76:V76) -> 4198 | AB76: =SUM(Z76:AA76) -> 4198 | AD76: 4198 | AF76: 1486 | AG76: =B76+H76+Q76 -> 17426 | AH76: =C76+I76+R76 -> 0 | AI76: =D76+L76+U76 -> 17426 | AJ76: =E76+M76+V76 -> 0 | AK76: =F76+P76+Z76 -> 17426 | AL76: =J76+S76+AA76 -> 0 | AM76: =F76+T76+AD76 -> 17426 | AO76: =G76+X76+AF76 -> 11020 | AP76: =W76+AE76+AN76 -> 0 | AQ76: =SUM(AO76:AP76) -> 11020
A77: EFOP-1.8.19-17-2017-00006 "EFI iroda létrehozása a Kiskunfélegyházi járásban" pályázat | B77: 20849 | D77: =SUM(B77:C77) -> 20849 | F77: 20849 | G77: 15951 | H77: 3988 | K77: =F77+J77 -> 20849 | L77: =SUM(H77:I77) -> 3988 | O77: =K77+N77 -> 20849 | P77: =SUM(L77:M77) -> 3988 | Q77: 14637 | T77: =P77+S77 -> 3988 | U77: =SUM(Q77:R77) -> 14637 | X77: 2653 | Y77: =T77+X77 -> 6641 | Z77: =SUM(U77:V77) -> 14637 | AB77: =SUM(Z77:AA77) -> 14637 | AD77: 14637 | AF77: 14098 | AG77: =B77+H77+Q77 -> 39474 | AH77: =C77+I77+R77 -> 0 | AI77: =D77+L77+U77 -> 39474 | AJ77: =E77+M77+V77 -> 0 | AK77: =F77+P77+Z77 -> 39474 | AL77: =J77+S77+AA77 -> 0 | AM77: =F77+T77+AD77 -> 39474 | AO77: =G77+X77+AF77 -> 32702 | AP77: =W77+AE77+AN77 -> 0 | AQ77: =SUM(AO77:AP77) -> 32702
A78: EFI Iroda működési fenntartása (IX-XII. hó) 181/2018.önk.hat. szerint | G78: =6620-3404 -> 3216 | X78: =1085-685 -> 400 | AF78: 1384 | AO78: =G78+X78+AF78 -> 5000 | AP78: =W78+AE78+AN78 -> 0 | AQ78: =SUM(AO78:AP78) -> 5000
A79: TOP-3.2.1-16-BK1-2017-00069 Kiskunfélegyháza oktatási intézményeinek energetikai korszerűsítése megújuló energia hasznosításával | B79: 1234 | D79: =SUM(B79:C79) -> 1234 | F79: 1234 | G79: 265 | H79: 603 | K79: =F79+J79 -> 1234 | L79: =SUM(H79:I79) -> 603 | O79: =K79+N79 -> 1234 | P79: =SUM(L79:M79) -> 603 | Q79: 717 | T79: =P79+S79 -> 603 | U79: =SUM(Q79:R79) -> 717 | X79: 42 | Y79: =T79+X79 -> 645 | Z79: =SUM(U79:V79) -> 717 | AB79: =SUM(Z79:AA79) -> 717 | AD79: 717 | AF79: 3360 | AG79: =B79+H79+Q79 -> 2554 | AH79: =C79+I79+R79 -> 0 | AI79: =D79+L79+U79 -> 2554 | AJ79: =E79+M79+V79 -> 0 | AK79: =F79+P79+Z79 -> 2554 | AL79: =J79+S79+AA79 -> 0 | AM79: =F79+T79+AD79 -> 2554 | AO79: =G79+X79+AF79 -> 3667 | AP79: =W79+AE79+AN79 -> 0 | AQ79: =SUM(AO79:AP79) -> 3667
A80: TOP-3.2.1-16-BK1-2017-00070 Kiskunfélegyháza óvodáinak és bölcsődéinek energetikai korszerűsítése megújuló energia hasznosításával | B80: 373 | D80: =SUM(B80:C80) -> 373 | F80: 373 | G80: 75 | H80: 170 | K80: =F80+J80 -> 373 | L80: =SUM(H80:I80) -> 170 | O80: =K80+N80 -> 373 | P80: =SUM(L80:M80) -> 170 | Q80: 387 | T80: =P80+S80 -> 170 | U80: =SUM(Q80:R80) -> 387 | X80: 12 | Y80: =T80+X80 -> 182 | Z80: =SUM(U80:V80) -> 387 | AB80: 387 | AD80: 559 | AF80: 460 | AG80: =B80+H80+Q80 -> 930 | AH80: =C80+I80+R80 -> 0 | AI80: =D80+L80+U80 -> 930 | AJ80: =E80+M80+V80 -> 0 | AK80: =F80+P80+Z80 -> 930 | AL80: =J80+S80+AA80 -> 0 | AM80: =F80+T80+AD80 -> 1102 | AO80: =G80+X80+AF80 -> 547 | AP80: =W80+AE80+AN80 -> 0 | AQ80: =SUM(AO80:AP80) -> 547
A81: TOP-3.2.1-16-BK1-2017-00073 Kiskunfélegyháza közintézményeinek energetikai korszerűsítése megújuló energia hasznosításával | B81: 935 | D81: =SUM(B81:C81) -> 935 | F81: 935 | G81: 189 | H81: 429 | K81: =F81+J81 -> 935 | L81: =SUM(H81:I81) -> 429 | O81: =K81+N81 -> 935 | P81: =SUM(L81:M81) -> 429 | Q81: 523 | T81: =P81+S81 -> 429 | U81: =SUM(Q81:R81) -> 523 | X81: 30 | Y81: =T81+X81 -> 459 | Z81: =SUM(U81:V81) -> 523 | AB81: =SUM(Z81:AA81) -> 523 | AD81: 523 | AF81: 528 | AG81: =B81+H81+Q81 -> 1887 | AH81: =C81+I81+R81 -> 0 | AI81: =D81+L81+U81 -> 1887 | AJ81: =E81+M81+V81 -> 0 | AK81: =F81+P81+Z81 -> 1887 | AL81: =J81+S81+AA81 -> 0 | AM81: =F81+T81+AD81 -> 1887 | AO81: =G81+X81+AF81 -> 747 | AP81: =W81+AE81+AN81 -> 0 | AQ81: =SUM(AO81:AP81) -> 747
A82: TOP 1.1.1-16-BK1-2017-00003. Ipari Park fejlesztése | B82: 14887 | D82: =SUM(B82:C82) -> 14887 | F82: 14887 | G82: 10336 | H82: 2613 | K82: =F82+J82 -> 14887 | L82: =SUM(H82:I82) -> 2613 | O82: =K82+N82 -> 14887 | P82: =SUM(L82:M82) -> 2613 | Q82: 33979 | T82: =P82+S82 -> 2613 | U82: =SUM(Q82:R82) -> 33979 | X82: 1766 | Y82: =T82+X82 -> 4379 | Z82: =SUM(U82:V82) -> 33979 | AB82: =SUM(Z82:AA82) -> 33979 | AD82: 33979 | AF82: 8004 | AG82: =B82+H82+Q82 -> 51479 | AH82: =C82+I82+R82 -> 0 | AI82: =D82+L82+U82 -> 51479 | AJ82: =E82+M82+V82 -> 0 | AK82: =F82+P82+Z82 -> 51479 | AL82: =J82+S82+AA82 -> 0 | AM82: =F82+T82+AD82 -> 51479 | AO82: =G82+X82+AF82 -> 20106 | AP82: =W82+AE82+AN82 -> 0 | AQ82: =SUM(AO82:AP82) -> 20106
A83: TOP 1.1.1-16-BK1-2017-00003. Ipari Park fejlesztése-próbafeltárás | AF83: 1347 | AO83: =G83+X83+AF83 -> 1347 | AP83: =W83+AE83+AN83 -> 0 | AQ83: =SUM(AO83:AP83) -> 1347
A84: TOP-4.3.1-15-BK1-2016-00001. - Leromlott Városi területek rehabilitációja | B84: 5592 | D84: =SUM(B84:C84) -> 5592 | F84: 5592 | G84: 1582 | H84: 981 | K84: =F84+J84 -> 5592 | L84: =SUM(H84:I84) -> 981 | O84: =K84+N84 -> 5592 | P84: =SUM(L84:M84) -> 981 | Q84: 3453 | T84: =P84+S84 -> 981 | U84: =SUM(Q84:R84) -> 3453 | X84: 761 | Y84: =T84+X84 -> 1742 | Z84: =SUM(U84:V84) -> 3453 | AB84: =SUM(Z84:AA84) -> 3453 | AD84: 3453 | AF84: 405 | AG84: =B84+H84+Q84 -> 10026 | AH84: =C84+I84+R84 -> 0 | AI84: =D84+L84+U84 -> 10026 | AJ84: =E84+M84+V84 -> 0 | AK84: =F84+P84+Z84 -> 10026 | AL84: =J84+S84+AA84 -> 0 | AM84: =F84+T84+AD84 -> 10026 | AO84: =G84+X84+AF84 -> 2748 | AP84: =W84+AE84+AN84 -> 0 | AQ84: =SUM(AO84:AP84) -> 2748
A85: VP6-19.2.1.-50-4-17 - 2019. évi Aratófesztivál | F85: 0 | O85: =K85+N85 -> 0 | Y85: =T85+X85 -> 0 | AA85: 2353 | AD85: 2353 | AL85: =J85+S85+AA85 -> 2353 | AM85: =F85+T85+AD85 -> 2353 | AO85: =G85+X85+AF85 -> 0 | AP85: =W85+AE85+AN85 -> 0 | AQ85: =SUM(AO85:AP85) -> 0
A86: TOP-1.4.1-19 Móraváros kétcsop.bölcsőde építése pályázat | F86: 0 | O86: =K86+N86 -> 0 | Y86: =T86+X86 -> 0 | AA86: 750 | AD86: 750 | AF86: 3402 | AL86: =J86+S86+AA86 -> 750 | AM86: =F86+T86+AD86 -> 750 | AO86: =G86+X86+AF86 -> 3402 | AP86: =W86+AE86+AN86 -> 0 | AQ86: =SUM(AO86:AP86) -> 3402
A87: TOP-7.1.1-16-H-ESZA-2019-00207 „Élményekkel teli Félegyháza” pályázat | F87: 432 | K87: 432 | O87: =K87+N87 -> 432 | Y87: =T87+X87 -> 0 | AD87: 19540 | AF87: 656 | AM87: =F87+T87+AD87 -> 19972 | AO87: =G87+X87+AF87 -> 656 | AP87: =W87+AE87+AN87 -> 0 | AQ87: =SUM(AO87:AP87) -> 656
A88: 6. számú házi gyermekorvosi körzet feladatellátása | F88: 662 | G88: =1324+330 -> 1654 | K88: 662 | O88: =K88+N88 -> 662 | T88: 116 | X88: =232+58 -> 290 | Y88: =T88+X88 -> 406 | AD88: 2172 | AF88: =4344+989 -> 5333 | AM88: =F88+T88+AD88 -> 2950 | AO88: =G88+X88+AF88 -> 7277 | AP88: =W88+AE88+AN88 -> 0 | AQ88: =SUM(AO88:AP88) -> 7277
A89: 2. számú fogorvosi körzet feladatellátása | F89: 390 | G89: =780+1500 -> 2280 | K89: 390 | O89: =K89+N89 -> 390 | T89: 69 | X89: 138 | Y89: =T89+X89 -> 207 | AD89: 1741 | AF89: =3482+376 -> 3858 | AM89: =F89+T89+AD89 -> 2200 | AO89: =G89+X89+AF89 -> 6276 | AP89: =W89+AE89+AN89 -> 0 | AQ89: =SUM(AO89:AP89) -> 6276
A90: TOP-7.1.1-16-H-ERFA-2019-00157 „Városrészek megújulnak” pályázat műszaki ellenőrzés | AF90: 1870 | AO90: =G90+X90+AF90 -> 1870 | AP90: =W90+AE90+AN90 -> 0 | AQ90: =SUM(AO90:AP90) -> 1870
A91: VP6-7.2.1.7.4.1.2-16. - Csólyosi út fejlesztése | B91: 0 | G91: 1207 | X91: 212 | AF91: 1372 | AO91: =G91+X91+AF91 -> 2791 | AP91: =W91+AE91+AN91 -> 0 | AQ91: =SUM(AO91:AP91) -> 2791
A92: ÖSSZESEN | B92: =SUM(B72:B91) -> #REF! | C92: =SUM(C72:C91) -> #REF! | D92: =SUM(D72:D91) -> #REF! | E92: =SUM(E72:E91) -> #REF! | F92: =SUM(F72:F91) -> #REF! | G92: =SUM(G72:G91) -> 302260 | H92: =SUM(H72:H91) -> #REF! | I92: =SUM(I72:I91) -> #REF! | ... AQ92: =SUM(AQ72:AQ91) -> 869619

Sheet Szoc.rász.
N1: 4/a melléklet
A2: Szociális rászorultságtól függő ellátások
O3: me: ezer Ft
A4: Megnevezés | D4: Személyi juttatás | F4: M.adót terh.jár. | H4: Ellátottak pénzbeli juttatásai | J4: Kis értékű eszközök | K4: Nagy értékű eszközök | L4: Dologi kiadás | M4: Összesen
C5: Tám.( %) | D5: eredeti ei. | E5: Változás | F5: eredeti ei. | G5: Változás | H5: eredeti ei. | I5: Változás | J5: eredeti ei. | M5: eredeti ei. | N5: változás | O5: módos. ei.
A6: Egyéb, nem intézményi ellátások
A7: 1 | B7: Köztemetés (Szoctv. 48. §) | C7: 0 | H7: 1700 | M7: =SUM(D7:L7) -> 1700 | N7: =E7+G7+I7 -> 0 | O7: =SUM(M7:N7) -> 1700
A8: Települési támogatások: (Szoctv. 45.§) | C8: 0
A9: 2 | B9: Élelmiszer utalvány | H9: 2100 | M9: =SUM(D9:L9) -> 2100 | N9: =E9+G9+I9 -> 0 | O9: =SUM(M9:N9) -> 2100
A10: 3 | B10: Gyógyszer támogatás | H10: 430 | M10: =SUM(D10:L10) -> 430 | N10: =E10+G10+I10 -> 0 | O10: =SUM(M10:N10) -> 430
A11: 4 | B11: Nagycsaládosok támogatása | H11: 250 | M11: =SUM(D11:L11) -> 250 | N11: =E11+G11+I11 -> 0 | O11: =SUM(M11:N11) -> 250
A12: 5 | B12: Újszülöttek támogatása | H12: 1900 | M12: =SUM(D12:L12) -> 1900 | N12: =E12+G12+I12 -> 0 | O12: =SUM(M12:N12) -> 1900
A13: 6 | B13: Lakásfenntartási támogatás | H13: 22300 | M13: =SUM(D13:L13) -> 22300 | N13: =E13+G13+I13 -> 0 | O13: =SUM(M13:N13) -> 22300
A14: 7 | B14: Kedvezményes belépőjegy | H14: 330 | M14: =SUM(D14:L14) -> 330 | N14: =E14+G14+I14 -> 0 | O14: =SUM(M14:N14) -> 330
A15: 8 | B15: Hátrányos helyzetű gyermekek reggeli étkeztetése | H15: 450 | M15: =SUM(D15:L15) -> 450 | N15: =E15+G15+I15 -> 0 | O15: =SUM(M15:N15) -> 450
A16: 9 | B16: Pénzbeli önkormányzati segélyek: Kórházi ellátásra, temetésre, elemi kárra, várandós anya megsegítésére, gyermek fogadásának előkészítéséhez, nevelésbe vett gyermek kapcsolattartásához, gyermek családba való visszakerülésének elősegítéséhez stb. | H16: 1000 | M16: =SUM(D16:L16) -> 1000 | N16: =E16+G16+I16 -> 0 | O16: =SUM(M16:N16) -> 1000
A17: 10 | B17: Szociális tűzifa támogatás | H17: 700 | M17: =SUM(D17:L17) -> 700 | N17: =E17+G17+I17 -> 0 | O17: =SUM(M17:N17) -> 700
A18: 11 | B18: Házi szennyvízhálózat kiépítésének szociális támogatása | H18: 800 | M18: =SUM(D18:L18) -> 800 | N18: =E18+G18+I18 -> 0 | O18: =SUM(M18:N18) -> 800
A19: Nem intézményi ellátások összesen | D19: =SUM(D6:D18) -> 0 | F19: =SUM(F6:F18) -> 0 | H19: =SUM(H6:H18) -> 31960 | J19: =SUM(J6:J18) -> 0 | K19: =SUM(K6:K18) -> 0 | L19: =SUM(L6:L18) -> 0 | M19: =SUM(M6:M18) -> 31960 | N19: =E19+G19+I19 -> 0 | O19: =SUM(M19:N19) -> 31960
N20: 4/b melléklet
A21: Közfoglalkoztatás és a nyári diákmunkához kapcsolódó kiadások
A22: 12 | B22: Közfoglalkoztatás (országos hajléktalan) | C22: 1 | D22: 11815 | F22: 1034 | J22: 107 | L22: 3520 | M22: =SUM(D22:L22) -> 16476 | N22: =E22+G22+I22 -> 0 | O22: =SUM(M22:N22) -> 16476
A23: 13 | B23: Közfoglalkoztatás (hosszú idejű) | C23: 0.8 | D23: 80000 | F23: 7000 | J23: 3000 | L23: 3040 | M23: =SUM(D23:L23) -> 93040 | N23: =E23+G23+I23 -> 0 | O23: =SUM(M23:N23) -> 93040
A24: 14 | B24: Közfoglalkoztatás (Startmunka) | D24: =D31+D32 -> 57506 | F24: =F31+F32 -> 5032 | J24: =J31+J32 -> 626 | L24: =L31+L32 -> 11470 | M24: =M31+M32 -> 74634 | N24: =E24+G24+I24 -> 0 | O24: =SUM(M24:N24) -> 74634
B25: Belvízelvezetés | N25: =E25+G25+I25 -> 0 | O25: =SUM(M25:N25) -> 0
B26: Bio- és megújuló energia felhasználása | N26: =E26+G26+I26 -> 0 | O26: =SUM(M26:N26) -> 0
B27: Mezőgazdasági földutak karbantartása | N27: =E27+G27+I27 -> 0 | O27: =SUM(M27:N27) -> 0
B28: Helyi sajátosságokra épülő közfoglalkoztatás | N28: =E28+G28+I28 -> 0 | O28: =SUM(M28:N28) -> 0
B29: Illegális hulladéklerakó helyek felszámolása | N29: =E29+G29+I29 -> 0 | O29: =SUM(M29:N29) -> 0
B30: Belterületi közutak karbantartása | N30: =E30+G30+I30 -> 0 | O30: =SUM(M30:N30) -> 0
B31: ** Szociális jellegű | C31: 90-100% | D31: 45017 | F31: 3939 | J31: 626 | L31: 9580 | M31: =SUM(D31:L31) -> 59162 | N31: =E31+G31+I31 -> 0 | O31: =SUM(M31:N31) -> 59162
B32: ** Helyi sajátosságok | C32: 1 | D32: 12489 | F32: 1093 | J32: 0 | L32: 1890 | M32: =SUM(D32:L32) -> 15472 | N32: =E32+G32+I32 -> 0 | O32: =SUM(M32:N32) -> 15472
A33: 15 | B33: Nyári diákmunka | C33: 1 | D33: 7672 | F33: 671 | M33: =SUM(D33:L33) -> 8343 | N33: =E33+G33+I33 -> 0 | O33: =SUM(M33:N33) -> 8343
A34: Közfoglalkoztatási és diákmunka kiadások összesen | D34: =D22+D23+D24+D33 -> 156993 | E34: =E22+E23+E24+E33 -> 0 | F34: =F22+F23+F24+F33 -> 13737 | G34: =G22+G23+G24+G33 -> 0 | H34: =H22+H23+H24+H33 -> 0 | I34: =I22+I23+I24+I33 -> 0 | J34: =J22+J23+J24+J33 -> 3733 | K34: =K22+K23+K24+K33 -> 0 | ... O34: =O22+O23+O24+O33 -> 192493
A35: MINDÖSSZESEN: | D35: =D19+D34 -> 156993 | E35: =E19+E34 -> 0 | F35: =F19+F34 -> 13737 | G35: =G19+G34 -> 0 | H35: =H19+H34 -> 31960 | I35: =I19+I34 -> 0 | J35: =J19+J34 -> 3733 | K35: =K19+K34 -> 0 | ... O35: =O19+O34 -> 224453

Sheet Beruházás
E1: 4. melléklet
A2: Felhalmozási kiadások
A3: B e r u h á z á s o k
A4: (2.sz.melléklet 6. sor részletezése)
F5: me: ezer Ft
A6: Ssz. | B6: M e g n e v e z é s | C6: Megjegyzés | D6: 2020. eredeti ei. | E6: Változás | F6: Módos.ei.
A7: I. 2019-ről áthúzódó beruházások
A8: 1 | B8: "Félegyháza Újjáépül" - Zöld város kialakítása projekt megvalósítása | C8: TOP-2.1.2-15-BK1-2016-00004, 186/2018. (VIII.30.) önk.hat. | D8: 198438 | F8: =SUM(D8:E8) -> 198438
A9: 2 | B9: Pótmunka I. (Templom előtti szökőkút és Hősök parkja) | C9: 255/2019. (X.31.) önk.hat. | D9: 60187 | F9: =SUM(D9:E9) -> 60187
A10: 3 | B10: Pótmunka II. | C10: 300/2019. (XII.17.) önk.hat. | D10: 188734 | F10: =SUM(D10:E10) -> 188734
A11: 4 | B11: Egyéb projekthez kapcsolódó feladatok: Tervezői művezetés | C11: 230/2018. (X.25.) önk.hat. | D11: 1969 | F11: =SUM(D11:E11) -> 1969
A12: 5 | B12: Kiskunfélegyházi Ipari Park fejlesztése II. ütem megnevezésű projekt megvalósítása | C12: TOP 1.1.1-16-BK1-2017-00003 | D12: 1246096 | F12: =SUM(D12:E12) -> 1246096
A13: 6 | B13: Ipari Park II. ütem területén régészeti munkálatok | C13: 301/2019. (XII.17.) önk.hat. | D13: 17780 | F13: =SUM(D13:E13) -> 17780
A14: 7 | B14: Leromlott városi területek rehabilitációja - Kiskunfélegyháza-Bankfalu újjászületik projekt tervezési és megvalósítási munkái | C14: TOP-4.3.1-15-BK1-2016-00001 | D14: 277297 | F14: =SUM(D14:E14) -> 277297
A15: 8 | B15: Új csillag születik - Komplex környezet- és egészségfejlesztési program Kiskunfélegyházán. | C15: TOP-5.2.1-15-BK1-2016-00002 | D15: 453 | F15: =SUM(D15:E15) -> 453
A16: 9 | B16: "EFI Iroda létrehozása Kiskunfélegyháza járásban" projekt eszközbeszerzése | C16: EFOP-1.8.19-17-2017-00006 | D16: 4794 | F16: =SUM(D16:E16) -> 4794
A17: 10 | B17: "Városrészek megújulnak"- Petőfi lakótelep és Kaffka M. u. játszótér | C17: TOP-7.1.1-16-H-ERFA-2019-00157 | D17: 162896 | F17: =SUM(D17:E17) -> 162896
A18: 11 | B18: Csólyosi út útépítés és gépbeszerzés | C18: 195/2019. (VIII.29.) önk.hat., VP6-7.2.1.7.4.1.2-16 | D18: 125607 | E18: 60148 | F18: =SUM(D18:E18) -> 185755
A19: 12 | B19: Kiskunfélegyházi Nagyszőlő úti Gazdakör közösségi terének kialakítása | C19: 838-8/2019/HERMAN | D19: 9880 | F19: =SUM(D19:E19) -> 9880
A20: 13 | B20: Közterületi feladatok tervezése | C20: 187/2017. (IX.28.) öh. | D20: 1017 | F20: =SUM(D20:E20) -> 1017
A21: 14 | B21: Közterületi és egyéb fejlesztési feladatok | C21: 24/2019. (II.6.) önk.hat. | D21: 143666 | F21: =SUM(D21:E21) -> 143666
A22: 15 | B22: Közvilágítás fejlesztés | C22: megrendelő | D22: 11056 | F22: =SUM(D22:E22) -> 11056
A23: 16 | B23: Volt SZTK épület korszerűsítése, rekonstrukciója I. ütem pótmunkák | C23: 138/2019. (V.30.) önk. hat. | D23: 72634 | F23: =SUM(D23:E23) -> 72634
A24: 17 | B24: Kiskunfélegyháza, 5406.hrsz.-ú ingatlan megvásárlása | C24: 169/2018. (VI.28.) önk.hat. | D24: 66000 | F24: =SUM(D24:E24) -> 66000
A25: 18 | B25: Birkózó edzőterem létesítése a Honvéd Sporttelepen - tervezés | C25: 191/2017. (IX.28.) és 266/2018. (XII.13.) | D25: 2101 | F25: =SUM(D25:E25) -> 2101
A26: 19 | B26: Móravárosi kétcsoportos bölcsőde építése Kiskunfélegyházán | C26: 139/2019.(V.30.) önk.hat., TOP-1.4.1-19-BK1-2019-00011 | D26: 236309 | F26: =SUM(D26:E26) -> 236309
A27: 20 | B27: Félegyházi Termál Parkfürdő területén hideg vizes kút fúrása | C27: 174/2019. (VI.27.) önk.hat. | D27: 31115 | F27: =SUM(D27:E27) -> 31115
A28: 21 | B28: Illésházy u. 10. ingatlan 3/8-as tulajdoni hányad megvásárlása | C28: 107/2018. (IV.26.) önk.hat. | D28: 650 | F28: =SUM(D28:E28) -> 650
A29: 22 | B29: Rét u. 10. szám alatti ingatlan 160/960-ad tulajdoni hányad megvásárlása | C29: 256/2019. (X.31.) önk.hat. | D29: 750 | F29: =SUM(D29:E29) -> 750
B30: Áthúzódó összesen: | D30: =SUM(D8:D29) -> 2859429 | E30: =SUM(E8:E29) -> 60148 | F30: =SUM(F8:F29) -> 2919577
A31: II. Új induló beruházások
A32: 1. | B32: Kisértékű eszközök beszerzése-Intézménygazdálkodás | C32: intézménygazd. igénye | D32: 2731 | F32: =SUM(D32:E32) -> 2731
A33: 2. | B33: Kisértékű eszközök beszerzése (közfoglalkoztatáshoz) | C33: közfoglalkoztatás | D33: 3733 | F33: =SUM(D33:E33) -> 3733
A34: 3. | B34: Csillag Szolgáltató Központ - kisértékű eszközbeszerzés | C34: Komplex telep program fenntartása | D34: 100 | F34: =SUM(D34:E34) -> 100
A35: 4. | B35: Városüzemeltetés kisértékű eszközei: KRESZ táblák, közterületi padok, szemesetek pótlása, térfigyelő kamerák hálózatra csatlakozásának és méréseinek kiépítése | C35: Városüzemeltetés igénye | D35: 5000 | F35: =SUM(D35:E35) -> 5000
A36: 5. | B36: Közterületi kamerák (belterület) és rendszám felismerő kamera rendszer | C36: Városüzemeltetés igénye | D36: 10000 | F36: =SUM(D36:E36) -> 10000
A37: 6. | B37: Projektek előkészítéséhez és befejezéséhez saját erő | C37: fejlesztési csoport | D37: 9000 | F37: =SUM(D37:E37) -> 9000
A38: 7. | B38: Intézmények részére vírusírtó liszensz beszerzése | C38: informatika | D38: 800 | F38: =SUM(D38:E38) -> 800
A39: 8. | B39: Intézmények részére mail security liszensz beszerzése | C39: informatika | D39: 120 | F39: =SUM(D39:E39) -> 120
A40: 9. | B40: Veeam Backup szoftver | C40: informatika | D40: 3524 | F40: =SUM(D40:E40) -> 3524
A41: 10. | B41: Önkormányzati ingatlanok beruházásai | C41: Vagyongazdálkodási osztály | D41: 1190 | F41: =SUM(D41:E41) -> 1190
A42: 11. | B42: VP6-7.2.1.4-17 tanyák háztartási léptékű villamos energia fejlesztése tervezés | C42: nyertes pályázat esetén elszámolható költség | D42: 1016 | F42: =SUM(D42:E42) -> 1016
A43: 12. | B43: VP6-7.2.1.4-17 tanyák háztartási léptékű villamos energia fejlesztése közbeszerzés | C43: nyertes pályázat esetén elszámolható költség | D43: 500 | F43: =SUM(D43:E43) -> 500
A44: 13. | B44: Ipari park II. ütem régészeti munkákkal összefüggő többlet földmunkák | D44: 5000 | F44: =SUM(D44:E44) -> 5000
A45: 14. | B45: Ipari park II. ütem lőszermentesítés | D45: 2000 | F45: =SUM(D45:E45) -> 2000
A46: 15. | B46: Fenntartási kézikönyv (zöldváros) | D46: 800 | F46: =SUM(D46:E46) -> 800
A47: 16. | B47: Zöldváros fedvény tervek | D47: 730 | F47: =SUM(D47:E47) -> 730
B48: Ö s s z e s e n : | D48: =SUM(D32:D47) -> 46244 | E48: =SUM(E32:E47) -> 0 | F48: =SUM(F32:F47) -> 46244
A49: Beruházások ÖSSZESEN | D49: =D30+D48 -> 2905673 | E49: =E30+E48 -> 60148 | F49: =F30+F48 -> 2965821

Sheet Felújítás
E1: 6. melléklet
A2: Felhalmozási kiadások
A3: F e l ú j í t á s o k
A4: (2.sz.melléklet 7. sor részletezése)
F5: me: ezer Ft
A6: Ssz. | B6: M e g n e v e z é s | C6: Megjegyzés | D6: 2020. eredeti ei. | E6: Változás | F6: Módos.ei.
A7: I. 2019-ről áthúzódó felújítások
A8: 1. | B8: Asztalitenisz terem felújítása | C8: 118/2018. (IV.26.) önk.hat., NVM-től átvett pe. | D8: 8078 | F8: =SUM(D8:E8) -> 8078
A9: 2. | B9: Önkormányzati bérlakások felújítása | C9: vagyongazdálkodás | D9: 6348 | F9: =SUM(D9:E9) -> 6348
A10: 3. | B10: Nem lakás célú helyiségek felújítása (Szegedi úti Óvoda tervezés) | C10: vagyongazdálkodás | D10: 340 | F10: =SUM(D10:E10) -> 340
A11: 4. | B11: Közterületi és egyéb felújítási feladatok | C11: 24/2019. (II.6.) önk.hat. | D11: 421422 | F11: =SUM(D11:E11) -> 421422
A12: 5. | B12: Petőfi lakótelepi parkon átmenő járda felújítása | D12: 6500 | F12: =SUM(D12:E12) -> 6500
A13: Áthúzódó ÖSSZESEN | D13: =SUM(D8:D12) -> 442688 | E13: =SUM(E8:E12) -> 0 | F13: =SUM(F8:F12) -> 442688
A14: II. Új induló felújítások
A15: 1. | B15: Önkormányzati bérlakások felújítása | C15: vagyongazdálkodás | D15: 3650 | F15: =SUM(D15:E15) -> 3650
A16: 2. | B16: Önkormányzati bérlakások részleges felújítása (előre nem látható feladatok) | C16: vagyongazdálkodás | D16: 2460 | F16: =SUM(D16:E16) -> 2460
A17: 3. | B17: Nem lakás célú helyiségek részleges felújítása (előre nem látható feladatok) | C17: vagyongazdálkodás | D17: 2460 | F17: =SUM(D17:E17) -> 2460
A18: 4. | B18: 2x23 db bérlakás kazáncsere I. ütem | C18: vagyongazdálkodás | D18: 4000 | F18: =SUM(D18:E18) -> 4000
A19: 5. | B19: Kossuth u. 35. portálcsere | C19: vagyongazdálkodás | D19: 900 | F19: =SUM(D19:E19) -> 900
A20: 6. | B20: Szennyvízelvezetés és tisztítás felújítási és pótlási munkák (GFT. 2020. évi feladatai) | C20: 239/2019.(IX.26.) önk. hat. | D20: 134938 | F20: =SUM(D20:E20) -> 134938
A21: 7. | B21: Ivóvízellátás felújítás és pótlási munkák (GFT. 2020. évi feladatai) | C21: 239/2019.(IX.26.) önk. hat. | D21: 13466 | F21: =SUM(D21:E21) -> 13466
A22: 8. | B22: Berkemann Cipőgyárhoz vezető betonút felfagyott felületének vékony rétegű javítása 120 x 3 m | C22: Városüzemeltetés igénye | D22: 1200 | F22: =SUM(D22:E22) -> 1200
A23: 9. | B23: CLLD Kaffka M. u. járda | C23: fejlesztési csoport | D23: 8931 | F23: =SUM(D23:E23) -> 8931
A24: Új induló összesen | D24: =SUM(D15:D23) -> 172005 | E24: =SUM(E15:E23) -> 0 | F24: =SUM(F15:F23) -> 172005
A25: Felújítások MINDÖSSZESEN | D25: =D13+D24 -> 614693 | E25: =E13+E24 -> 0 | F25: =F13+F24 -> 614693

Sheet Int.felh
G1: 7. melléklet
A3: Intézményi felhalmozási kiadások 2020. évben
G4: me: ezer Ft
A5: Megnevezés | B5: Beruházás | C5: Változás | D5: Módos.ei. | E5: Felújítás | F5: Változás | G5: Módos.ei.
B6: 2020. eredeti ei.
A7: Szivárvány Személyes Gondoskodást Nyújtó Intézmény
A8: Kisértékű tárgyi eszközök beszerzése | B8: 614 | D8: =SUM(B8:C8) -> 614
A9: Összesen | B9: =SUM(B8:B8) -> 614 | C9: =SUM(C8:C8) -> 0 | D9: =SUM(D8:D8) -> 614 | E9: =SUM(E8:E8) -> 0
A10: Kiskun Múzeum
A11: EFOP pályázat
A12: Kisértékű tárgyi eszközök beszerzése | B12: 381 | D12: =SUM(B12:C12) -> 381
A13: IPA pályázat - malom felújítás
A14: Összesen | B14: =SUM(B11:B13) -> 381 | C14: =SUM(C11:C13) -> 0 | D14: =SUM(D11:D13) -> 381 | E14: =SUM(E11:E13) -> 0
A15: Kapocs Szociális és Gyermekvédelmi Intézmény
A16: Informatikai eszközök
A17: Kisértékű eszközbeszerzés | B17: 2520 | D17: =SUM(B17:C17) -> 2520
A18: Összesen | B18: =SUM(B16:B17) -> 2520 | C18: =SUM(C16:C17) -> 0 | D18: =SUM(D16:D17) -> 2520 | E18: =SUM(E16:E17) -> 0
A19: Móra Ferenc Művelődési Központ
A20: Kisértékű tárgyi eszközök beszerzése | B20: 128 | D20: =SUM(B20:C20) -> 128
A21: Összesen | B21: =SUM(B20:B20) -> 128 | C21: =SUM(C20:C20) -> 0 | D21: =SUM(D20:D20) -> 128 | E21: =SUM(E20:E20) -> 0
A22: Polgármesteri Hivatal
A23: Informatikai eszközök
A24: Városháza épület felújítása
A25: Kisértékű eszközbeszerzés | B25: 4391 | D25: =SUM(B25:C25) -> 4391
A26: Összesen | B26: =SUM(B23:B25) -> 4391 | C26: =SUM(C23:C25) -> 0 | D26: =SUM(D23:D25) -> 4391 | E26: =SUM(E23:E25) -> 0
A27: Védőnői Szolgálat
A28: Kisértékű tárgyi eszközök | B28: 100 | D28: =SUM(B28:C28) -> 100
A29: Összesen | B29: =SUM(B28) -> 100 | C29: =SUM(C28) -> 0 | D29: =SUM(D28) -> 100 | E29: =SUM(E28) -> 0
A30: Napköziotthonos Óvoda
A31: Kisértékű tárgyi eszközök | B31: 500 | D31: =SUM(B31:C31) -> 500
A32: Összesen | B32: =SUM(B31) -> 500 | C32: =SUM(C31) -> 0 | D32: =SUM(D31) -> 500 | E32: =SUM(E31) -> 0
A33: Mindösszesen | B33: =B9+B14+B18+B21+B26+B29+B32 -> 8634 | C33: =C9+C14+C18+C21+C26+C29+C32 -> 0 | D33: =D9+D14+D18+D21+D26+D29+D32 -> 8634 | E33: =E9+E14+E18+E21+E26+E29+E32 -> 0 | F33: =F9+F14+F18+F21+F26+F29+F32 -> 0 | G33: =G9+G14+G18+G21+G26+G29+G32 -> 0

Sheet Pe.átad., Kölcsönök
T1: 7. melléklet | X1: 5. melléklet
A2: Egyéb működési kiadások
A3: 2. sz. melléklet 5. sor részletezése
Q4: me: ezer Ft | U4: me: ezer Ft | X4: me: ezer Ft
A5: Kiemelt előirányzat-csoport | C5: 2019 | D5: Válto- | E5: Módos. | F5: Válto- | G5: Módos. | H5: Válto- | I5: Módos. | J5: Válto- | K5: Módos. | L5: Válto- | M5: Módos. | N5: Válto- | O5: Módos. | P5: Válto- | Q5: Módos. | R5: Válto- | S5: Módos. | T5: Válto- | U5: Mód. | V5: 2020 | W5: Válto- | X5: Módos.
A6: n e v e - s z á m a | C6: eredeti ei. | D6: zás | E6: ei. | F6: zás | G6: ei. | H6: zás | I6: ei. | J6: zás | K6: ei. | L6: zás | M6: ei. | N6: zás | O6: ei. | P6: zás | Q6: ei. | R6: zás | S6: ei. | T6: zás | U6: ei. | V6: eredeti ei. | W6: zás | X6: ei.
A7: 512. Egyéb működési célú támogatások államháztartáson kívülre
A8: 1 | B8: Verseny és tömegsport támogatása - MSZB hatáskör | C8: 15000 | E8: =SUM(C8:D8) -> 15000 | F8: -15000 | G8: =SUM(E8:F8) -> 0 | V8: 10000 | W8: -10000 | X8: =SUM(V8:W8) -> 0
A9: 2 | B9: Sport rendezvények | C9: 1000 | E9: =SUM(C9:D9) -> 1000 | G9: =SUM(E9:F9) -> 1000 | H9: -461 | I9: =SUM(G9:H9) -> 539 | K9: =SUM(I9:J9) -> 539 | M9: =SUM(K9:L9) -> 539 | N9: -283 | O9: =SUM(M9:N9) -> 256 | Q9: =SUM(O9:P9) -> 256 | S9: =SUM(Q9:R9) -> 256 | U9: =SUM(S9:T9) -> 256 | V9: 1000 | W9: -1000 | X9: =SUM(V9:W9) -> 0
A10: 3 | B10: Civil szervezetek támogatása - MSZB hatáskör | C10: 11000 | E10: =SUM(C10:D10) -> 11000 | F10: -11000 | G10: =SUM(E10:F10) -> 0 | I10: =SUM(G10:H10) -> 0 | K10: =SUM(I10:J10) -> 0 | L10: 37 | M10: =SUM(K10:L10) -> 37 | O10: =SUM(M10:N10) -> 37 | Q10: =SUM(O10:P10) -> 37 | S10: =SUM(Q10:R10) -> 37 | U10: =SUM(S10:T10) -> 37 | V10: 10000 | W10: -10000 | X10: =SUM(V10:W10) -> 0
A11: 4 | B11: Egyéb szervezetek támogatása | C11: 7000 | D11: =-#REF!-#REF!-800-800-500-500 -> #REF! | G11: =SUM(E11:F11) -> 0 | I11: =SUM(G11:H11) -> 0 | K11: =SUM(I11:J11) -> 0 | M11: =SUM(K11:L11) -> 0 | O11: =SUM(M11:N11) -> 0 | Q11: =SUM(O11:P11) -> 0 | S11: =SUM(Q11:R11) -> 0 | U11: =SUM(S11:T11) -> 0 | V11: 5000 | W11: =-3000-2000 -> -5000 | X11: =SUM(V11:W11) -> 0
B12: a) Mosoly Média Nonprofit Kft. | W12: 2000 | X12: =SUM(V12:W12) -> 2000
A13: 5 | B13: Alapítványok támogatása | C13: =SUM(C14:C14) -> 10000 | D13: =SUM(D14:D14) -> 0 | E13: =SUM(E14:E14) -> 10000 | F13: =SUM(F14:F14) -> 0 | G13: =SUM(G14:G14) -> 10000 | H13: =SUM(H14:H14) -> 0 | I13: =SUM(I14:I14) -> 10000 | J13: =SUM(J14:J14) -> 0 | ... V13: =SUM(V14:V14) -> 10000 | X13: =SUM(V13:W13) -> 10000
A14: 1 | B14: Fidó Bácsi Közh. Alapítvány működtetési támogatása (303/2019.(XII.17) öh.) | C14: 10000 | E14: =SUM(C14:D14) -> 10000 | G14: =SUM(E14:F14) -> 10000 | I14: =SUM(G14:H14) -> 10000 | K14: =SUM(I14:J14) -> 10000 | M14: =SUM(K14:L14) -> 10000 | O14: =SUM(M14:N14) -> 10000 | Q14: =SUM(O14:P14) -> 10000 | S14: =SUM(Q14:R14) -> 10000 | U14: =SUM(S14:T14) -> 10000 | V14: 10000 | X14: =SUM(V14:W14) -> 10000
A15: 6 | B15: Félegyházi Közlöny működtetéséhez | C15: 22000 | E15: =SUM(C15:D15) -> 22000 | G15: =SUM(E15:F15) -> 22000 | I15: =SUM(G15:H15) -> 22000 | K15: =SUM(I15:J15) -> 22000 | M15: =SUM(K15:L15) -> 22000 | O15: =SUM(M15:N15) -> 22000 | Q15: =SUM(O15:P15) -> 22000 | S15: =SUM(Q15:R15) -> 22000 | U15: =SUM(S15:T15) -> 22000 | V15: 22000 | X15: =SUM(V15:W15) -> 22000
A16: 7 | B16: Dr. Földeáki és társa Kft - gyermekfogászati szakellátás | C16: 2142 | E16: =SUM(C16:D16) -> 2142 | G16: =SUM(E16:F16) -> 2142 | I16: =SUM(G16:H16) -> 2142 | K16: =SUM(I16:J16) -> 2142 | M16: =SUM(K16:L16) -> 2142 | O16: =SUM(M16:N16) -> 2142 | Q16: =SUM(O16:P16) -> 2142 | S16: =SUM(Q16:R16) -> 2142 | U16: =SUM(S16:T16) -> 2142 | V16: 3000 | X16: =SUM(V16:W16) -> 3000
A17: 8 | B17: Félegyházi Fejlesztési Nonprofit Kft - Ipari park portaszolgálat működtetésre, működési kiadások támogatására | C17: 14367 | E17: =SUM(C17:D17) -> 14367 | G17: =SUM(E17:F17) -> 14367 | I17: =SUM(G17:H17) -> 14367 | K17: =SUM(I17:J17) -> 14367 | M17: =SUM(K17:L17) -> 14367 | O17: =SUM(M17:N17) -> 14367 | Q17: =SUM(O17:P17) -> 14367 | S17: =SUM(Q17:R17) -> 14367 | U17: =SUM(S17:T17) -> 14367 | V17: 9341 | X17: =SUM(V17:W17) -> 9341
A18: 9 | B18: Petőfi S. Polgárőr Egyesület | C18: 1500 | E18: =SUM(C18:D18) -> 1500 | G18: =SUM(E18:F18) -> 1500 | I18: =SUM(G18:H18) -> 1500 | K18: =SUM(I18:J18) -> 1500 | M18: =SUM(K18:L18) -> 1500 | O18: =SUM(M18:N18) -> 1500 | Q18: =SUM(O18:P18) -> 1500 | S18: =SUM(Q18:R18) -> 1500 | U18: =SUM(S18:T18) -> 1500 | V18: 2000 | X18: =SUM(V18:W18) -> 2000
A19: 10 | B19: Kiskunfélegyáza Város Roma Nemzetiségi Önkormányzat - Balatoni tábor, Roma Hagyományőrző Fesztivál támogatása | V19: 2000 | X19: =SUM(V19:W19) -> 2000
A20: 11 | B20: Félegyházi Városfenntartó Nonprofit Kft működési célú támogatása | C20: =220000-2520 -> 217480 | E20: =SUM(C20:D20) -> 217480 | G20: =SUM(E20:F20) -> 217480 | I20: =SUM(G20:H20) -> 217480 | K20: =SUM(I20:J20) -> 217480 | M20: =SUM(K20:L20) -> 217480 | O20: =SUM(M20:N20) -> 217480 | Q20: =SUM(O20:P20) -> 217480 | S20: =SUM(Q20:R20) -> 217480 | U20: =SUM(S20:T20) -> 217480 | V20: 198500 | X20: =SUM(V20:W20) -> 198500
A21: 12 | B21: Félegyházi Szabadidő és Sport Nonprofit Kft működési célú támogatása | C21: 85000 | E21: =SUM(C21:D21) -> 85000 | G21: =SUM(E21:F21) -> 85000 | I21: =SUM(G21:H21) -> 85000 | K21: =SUM(I21:J21) -> 85000 | M21: =SUM(K21:L21) -> 85000 | O21: =SUM(M21:N21) -> 85000 | Q21: =SUM(O21:P21) -> 85000 | S21: =SUM(Q21:R21) -> 85000 | U21: =SUM(S21:T21) -> 85000 | V21: 80000 | X21: =SUM(V21:W21) -> 80000
A22: 13 | B22: Félegyházi Egészségügyi Nonprofit Kft működési támogatás | V22: 45096 | X22: =SUM(V22:W22) -> 45096
A23: 14 | B23: Félegyházi Térségi Sportiskola Nonprofit Kft - Honvéd sporttelep üzemeltetés | C23: 25000 | E23: =SUM(C23:D23) -> 25000 | G23: =SUM(E23:F23) -> 25000 | I23: =SUM(G23:H23) -> 25000 | K23: =SUM(I23:J23) -> 25000 | M23: =SUM(K23:L23) -> 25000 | O23: =SUM(M23:N23) -> 25000 | Q23: =SUM(O23:P23) -> 25000 | S23: =SUM(Q23:R23) -> 25000 | U23: =SUM(S23:T23) -> 25000 | V23: 25000 | X23: =SUM(V23:W23) -> 25000
A24: 15 | B24: Félegyházi Térségi Sportiskola Nonprofit Kft -labdarúgó szakosztály műk-hez TAO önrész | C24: 4664 | E24: =SUM(C24:D24) -> 4664 | G24: =SUM(E24:F24) -> 4664 | I24: =SUM(G24:H24) -> 4664 | K24: =SUM(I24:J24) -> 4664 | M24: =SUM(K24:L24) -> 4664 | O24: =SUM(M24:N24) -> 4664 | Q24: =SUM(O24:P24) -> 4664 | S24: =SUM(Q24:R24) -> 4664 | U24: =SUM(S24:T24) -> 4664 | V24: 4055 | X24: =SUM(V24:W24) -> 4055
A25: 16 | B25: Félegyházi Térségi Sportiskola Nonprofit Kft. Kosárlabda utánpótlás-nevelés műk-hez TAO önrész | C25: 9250 | E25: =SUM(C25:D25) -> 9250 | G25: =SUM(E25:F25) -> 9250 | I25: =SUM(G25:H25) -> 9250 | K25: =SUM(I25:J25) -> 9250 | M25: =SUM(K25:L25) -> 9250 | O25: =SUM(M25:N25) -> 9250 | Q25: =SUM(O25:P25) -> 9250 | S25: =SUM(Q25:R25) -> 9250 | U25: =SUM(S25:T25) -> 9250 | V25: 10401 | X25: =SUM(V25:W25) -> 10401
A26: 17 | B26: Félegyházi Egészségügyi Nonprofit Kft - háziorvosi ügyelet 49.977 e/Ft + fajlagos összegű tám.kieg. 4.977 e/Ft. (305/2019. (XII.17.) öh.) | F26: =15774+20143 -> 35917 | G26: =SUM(E26:F26) -> 35917 | I26: =SUM(G26:H26) -> 35917 | J26: =2334+1237 -> 3571 | K26: =SUM(I26:J26) -> 39488 | L26: -2334 | M26: =SUM(K26:L26) -> 37154 | O26: =SUM(M26:N26) -> 37154 | Q26: =SUM(O26:P26) -> 37154 | S26: =SUM(Q26:R26) -> 37154 | U26: =SUM(S26:T26) -> 37154 | V26: 54954 | X26: =SUM(V26:W26) -> 54954
A27: ÖSSZESEN | C27: =SUM(C8:C26)-C14 -> 425403 | D27: =SUM(D8:D26)-D14 -> #REF! | E27: =SUM(E8:E26)-E14 -> 418403 | F27: =SUM(F8:F26)-F14 -> 9917 | G27: =SUM(G8:G26)-G14 -> 428320 | H27: =SUM(H8:H26)-H14 -> -461 | I27: =SUM(I8:I26)-I14 -> 427859 | J27: =SUM(J8:J26)-J14 -> 3571 | ... X27: =SUM(X8:X26)-X14 -> 468347
A28: 506. Egyéb működési célú támogatások államháztartáson belülre
A29: 1 | B29: BKM Kórház Kfházi Telephely támog. (304/2019. (XII.17.) öh.) | C29: 15811 | E29: =SUM(C29:D29) -> 15811 | G29: =SUM(E29:F29) -> 15811 | I29: =SUM(G29:H29) -> 15811 | K29: =SUM(I29:J29) -> 15811 | M29: =SUM(K29:L29) -> 15811 | O29: =SUM(M29:N29) -> 15811 | Q29: =SUM(O29:P29) -> 15811 | S29: =SUM(Q29:R29) -> 15811 | U29: =SUM(S29:T29) -> 15811 | V29: 14672 | X29: =SUM(V29:W29) -> 14672
A30: 2 | B30: Diáksport támogatása - MSZB hatáskör | C30: 500 | E30: =SUM(C30:D30) -> 500 | G30: =SUM(E30:F30) -> 500 | H30: -100 | I30: =SUM(G30:H30) -> 400 | K30: =SUM(I30:J30) -> 400 | M30: =SUM(K30:L30) -> 400 | O30: =SUM(M30:N30) -> 400 | Q30: =SUM(O30:P30) -> 400 | R30: =-118-216 -> -334 | S30: =SUM(Q30:R30) -> 66 | U30: =SUM(S30:T30) -> 66 | V30: 500 | W30: -500 | X30: =SUM(V30:W30) -> 0
A31: 3 | B31: Bursa Hungarica ösztöndíj pályázat -MSZB hatáskör | C31: 4000 | E31: =SUM(C31:D31) -> 4000 | G31: =SUM(E31:F31) -> 4000 | I31: =SUM(G31:H31) -> 4000 | K31: =SUM(I31:J31) -> 4000 | M31: =SUM(K31:L31) -> 4000 | O31: =SUM(M31:N31) -> 4000 | Q31: =SUM(O31:P31) -> 4000 | S31: =SUM(Q31:R31) -> 4000 | U31: =SUM(S31:T31) -> 4000 | V31: 4000 | X31: =SUM(V31:W31) -> 4000
A32: 4 | B32: Köztemetés - költségtérítés önkormányzatok felé | C32: 500 | E32: =SUM(C32:D32) -> 500 | G32: =SUM(E32:F32) -> 500 | I32: =SUM(G32:H32) -> 500 | K32: =SUM(I32:J32) -> 500 | M32: =SUM(K32:L32) -> 500 | O32: =SUM(M32:N32) -> 500 | Q32: =SUM(O32:P32) -> 500 | S32: =SUM(Q32:R32) -> 500 | U32: =SUM(S32:T32) -> 500 | V32: 500 | X32: =SUM(V32:W32) -> 500
A33: 5 | B33: Kunszentmárton Város Önkorm. – XI. Jászkunság kutatása konferenciakötetre | G33: =SUM(E33:F33) -> 0 | I33: =SUM(G33:H33) -> 0 | K33: =SUM(I33:J33) -> 0 | M33: =SUM(K33:L33) -> 0 | O33: =SUM(M33:N33) -> 0 | Q33: =SUM(O33:P33) -> 0 | S33: =SUM(Q33:R33) -> 0 | U33: =SUM(S33:T33) -> 0 | W33: 10 | X33: =SUM(V33:W33) -> 10
A34: 6 | B34: Polgárm.keretből: Mezőgazdasági és Élelmiszeripari Szakgimn. és SZKI - hagyományápolás, helyi népszokások népszerűsítése | G34: =SUM(E34:F34) -> 0 | I34: =SUM(G34:H34) -> 0 | K34: =SUM(I34:J34) -> 0 | M34: =SUM(K34:L34) -> 0 | O34: =SUM(M34:N34) -> 0 | Q34: =SUM(O34:P34) -> 0 | S34: =SUM(Q34:R34) -> 0 | U34: =SUM(S34:T34) -> 0 | W34: 200 | X34: =SUM(V34:W34) -> 200
A35: ÖSSZESEN | C35: =SUM(C29:C34) -> 20811 | D35: =SUM(D29:D34) -> 0 | E35: =SUM(E29:E34) -> 20811 | F35: =SUM(F29:F34) -> 0 | G35: =SUM(G29:G34) -> 20811 | H35: =SUM(H29:H34) -> -100 | I35: =SUM(I29:I34) -> 20711 | J35: =SUM(J29:J34) -> 0 | ... X35: =SUM(X29:X34) -> 19382
A36: 508. Működési célú visszatérítendő támogatások, kölcsönök nyújtása államháztartáson kívülre
A37: 1 | D37: 3000 | E37: =SUM(C37:D37) -> 3000 | G37: =SUM(E37:F37) -> 3000 | I37: =SUM(G37:H37) -> 3000 | K37: =SUM(I37:J37) -> 3000 | M37: =SUM(K37:L37) -> 3000 | O37: =SUM(M37:N37) -> 3000 | Q37: =SUM(O37:P37) -> 3000 | S37: =SUM(Q37:R37) -> 3000 | U37: =SUM(S37:T37) -> 3000
A38: ÖSSZESEN | C38: =C37 -> 0 | D38: =D37 -> 3000 | E38: =E37 -> 3000 | F38: =F37 -> 0 | G38: =G37 -> 3000 | H38: =H37 -> 0 | I38: =I37 -> 3000 | J38: =J37 -> 0 | ... V38: =V37 -> 0
A39: Egyéb felhalmozási kiadások
A40: 2. sz. melléklet 8. sor részletezése
A41: 89. Egyéb felhalmozási célú támogatások áht-n kívülre
A42: Kiemelt előirányzat-csoport | C42: 2019 | D42: Válto- | E42: Módos. | F42: Válto- | G42: Módos. | H42: Válto- | I42: Módos. | J42: Válto- | K42: Módos. | L42: Válto- | M42: Módos. | N42: Válto- | O42: Módos. | P42: Válto- | Q42: Módos. | R42: Válto- | S42: Módos. | T42: Válto- | U42: Mód. | V42: 2020 | W42: Válto- | X42: Módos.
A43: n e v e - s z á m a | C43: eredeti ei. | D43: zás | E43: ei. | F43: zás | G43: ei. | H43: zás | I43: ei. | J43: zás | K43: ei. | L43: zás | M43: ei. | N43: zás | O43: ei. | P43: zás | Q43: ei. | R43: zás | S43: ei. | T43: zás | U43: ei. | V43: eredeti ei. | W43: zás | X43: ei.
A44: 1 | B44: Nagyszőlő úti Gazdakör Leader pályázat előkészítési ktg. tám. - 265/2017. (XII.14.) öh. és 24/2018. öh. | C44: 15534 | E44: =SUM(C44:D44) -> 15534 | G44: =SUM(E44:F44) -> 15534 | I44: =SUM(G44:H44) -> 15534 | K44: =SUM(I44:J44) -> 15534 | M44: =SUM(K44:L44) -> 15534 | O44: =SUM(M44:N44) -> 15534 | Q44: =SUM(O44:P44) -> 15534 | S44: =SUM(Q44:R44) -> 15534 | T44: -15534 | U44: =SUM(S44:T44) -> 0 | V44: 15534 | X44: =SUM(V44:W44) -> 15534
A45: 2 | B45: Félegyházi Városfenntartó Nonprofit Kft fejlesztési támogatása | C45: 2520 | E45: =SUM(C45:D45) -> 2520 | G45: =SUM(E45:F45) -> 2520 | I45: =SUM(G45:H45) -> 2520 | K45: =SUM(I45:J45) -> 2520 | M45: =SUM(K45:L45) -> 2520 | O45: =SUM(M45:N45) -> 2520 | Q45: =SUM(O45:P45) -> 2520 | S45: =SUM(Q45:R45) -> 2520 | U45: =SUM(S45:T45) -> 2520 | V45: 1500 | X45: =SUM(V45:W45) -> 1500
A46: 3 | B46: Félegyházi Szabadidő és Sport Nonprofit Kft fejlesztési célú támogatása | V46: =15723-13683 -> 2040 | X46: =SUM(V46:W46) -> 2040
A47: 4 | B47: Félegyházi Egészségügyi Nonprofit Kft - volt SZTK ép. Rekonstrukció II. ütem (138/2019. (V.30.) öh.) | V47: 293869 | X47: =SUM(V47:W47) -> 293869
A48: 5 | B48: Országos Egyesület a Mosolyért KHE részére a Mentőállomás eszközfejlesztésre | W48: 150 | X48: =SUM(V48:W48) -> 150
A49: ÖSSZESEN | C49: =SUM(C44:C45) -> 18054 | D49: =SUM(D44:D45) -> 0 | E49: =SUM(E44:E45) -> 18054 | F49: =SUM(F44:F45) -> 0 | G49: =SUM(G44:G45) -> 18054 | H49: =SUM(H44:H45) -> 0 | I49: =SUM(I44:I45) -> 18054 | J49: =SUM(J44:J45) -> 0 | ... U49: =SUM(U44:U45) -> 2520 | V49: =SUM(V44:V47) -> 312943 | W49: =SUM(W44:W48) -> 150 | X49: =SUM(X44:X48) -> 313093
A50: 84. Egyéb felhalmozási célú támogatások áht-n belülre
A51: 1 | H51: 490 | I51: =SUM(G51:H51) -> 490 | K51: =SUM(I51:J51) -> 490 | M51: =SUM(K51:L51) -> 490 | O51: =SUM(M51:N51) -> 490 | Q51: =SUM(O51:P51) -> 490 | S51: =SUM(Q51:R51) -> 490 | U51: =SUM(S51:T51) -> 490 | V51: 0 | X51: =SUM(V51:W51) -> 0
B52: ÖSSZESEN | C52: =SUM(C51) -> 0 | D52: =SUM(D51) -> 0 | E52: =SUM(E51) -> 0 | F52: =SUM(F51) -> 0 | G52: =SUM(G51) -> 0 | H52: =SUM(H51) -> 490 | I52: =SUM(I51) -> 490 | J52: =SUM(J51) -> 0 | ... X52: =SUM(X51) -> 0
A53: 86. Felhalmozási célú visszatérítendő tám. kölcsönök áht-n kívülre
